{"text_format":"1","workbook":"xlsx","n_sheets":2,"sheets":["Putts","Uppsafnað putts"],"not_rendered":{"charts":1,"images":1,"macros":1,"external_links":0,"defined_names":1,"comments":0,"pivot_tables":0},"unopened":[],"bounds":{"document_bytes":16777216,"sheet_cells":100000,"rows_first":2000,"rows_last":500,"rows_between":2000,"halvings":0,"cell_chars":16384,"cell_head_chars":4096},"cells_cut":0,"cells_raw":0,"read":"whole","date_system":"1900"}

{"sheet":"Putts","index":0,"n_rows":38,"n_cols":14,"rows_kept":38,"cut":false,"hidden":false,"merged":[[1,1,2,1],[1,2,1,6],[0,0,0,18]]}
["Putt Training Statistics"]
[null,"Distance from hole after approach (m)","Distance from hole after putt (m, if in hole, then 0)"]
[null,null,"Putt 1","Putt 2","Putt 3","Putt 4","Putt 5"]
[1]
[2]
[3]
[4]
[5]
[6]
[7]
[8]
[9,null,null,null,null,null,null,null,null,null,null,null,null," "]
[10]
[11]
[12]
[13]
[14]
[15]
[16]
[17]
[18]
[]
[]
[]
[]
[]
[]
[]
[null,null,"0.1-1m","1-2m","2-3m","3-4m"]
[null,"1 putt",{"$f":"IFERROR(+'Uppsafnað putts'!AC7/'Uppsafnað putts'!R$3,\"\")","v":""},{"$f":"IFERROR(+'Uppsafnað putts'!AD7/'Uppsafnað putts'!S$3,\"\")","v":""},{"$f":"IFERROR(+'Uppsafnað putts'!AE7/'Uppsafnað putts'!T$3,\"\")","v":""},{"$f":"IFERROR(+'Uppsafnað putts'!AF7/'Uppsafnað putts'!U$3,\"\")","v":""}]
[null,"2 putts",{"$f":"IFERROR(+'Uppsafnað putts'!AC8/'Uppsafnað putts'!R$3,\"\")","v":""},{"$f":"IFERROR(+'Uppsafnað putts'!AD8/'Uppsafnað putts'!S$3,\"\")","v":""},{"$f":"IFERROR(+'Uppsafnað putts'!AE8/'Uppsafnað putts'!T$3,\"\")","v":""},{"$f":"IFERROR(+'Uppsafnað putts'!AF8/'Uppsafnað putts'!U$3,\"\")","v":""}]
[null,"3 putts",{"$f":"IFERROR(+'Uppsafnað putts'!AC9/'Uppsafnað putts'!R$3,\"\")","v":""},{"$f":"IFERROR(+'Uppsafnað putts'!AD9/'Uppsafnað putts'!S$3,\"\")","v":""},{"$f":"IFERROR(+'Uppsafnað putts'!AE9/'Uppsafnað putts'!T$3,\"\")","v":""},{"$f":"IFERROR(+'Uppsafnað putts'!AF9/'Uppsafnað putts'!U$3,\"\")","v":""}]
[]
[]
[null,null,"4-5m","5-6m","6-7m","7-8m","8-9m"]
[null,"1 putt",{"$f":"IFERROR(+'Uppsafnað putts'!AG7/'Uppsafnað putts'!V$3,\"\")","v":""},{"$f":"IFERROR(+'Uppsafnað putts'!AH7/'Uppsafnað putts'!W$3,\"\")","v":""},{"$f":"IFERROR(+'Uppsafnað putts'!AI7/'Uppsafnað putts'!X$3,\"\")","v":""},{"$f":"IFERROR(+'Uppsafnað putts'!AJ7/'Uppsafnað putts'!Y$3,\"\")","v":""},{"$f":"IFERROR(+'Uppsafnað putts'!AK7/'Uppsafnað putts'!Z$3,\"\")","v":""}]
[null,"2 putts",{"$f":"IFERROR(+'Uppsafnað putts'!AG8/'Uppsafnað putts'!V$3,\"\")","v":""},{"$f":"IFERROR(+'Uppsafnað putts'!AH8/'Uppsafnað putts'!W$3,\"\")","v":""},{"$f":"IFERROR(+'Uppsafnað putts'!AI8/'Uppsafnað putts'!X$3,\"\")","v":""},{"$f":"IFERROR(+'Uppsafnað putts'!AJ8/'Uppsafnað putts'!Y$3,\"\")","v":""},{"$f":"IFERROR(+'Uppsafnað putts'!AK8/'Uppsafnað putts'!Z$3,\"\")","v":""}]
[null,"3 putts",{"$f":"IFERROR(+'Uppsafnað putts'!AG9/'Uppsafnað putts'!V$3,\"\")","v":""},{"$f":"IFERROR(+'Uppsafnað putts'!AH9/'Uppsafnað putts'!W$3,\"\")","v":""},{"$f":"IFERROR(+'Uppsafnað putts'!AI9/'Uppsafnað putts'!X$3,\"\")","v":""},{"$f":"IFERROR(+'Uppsafnað putts'!AJ9/'Uppsafnað putts'!Y$3,\"\")","v":""},{"$f":"IFERROR(+'Uppsafnað putts'!AK9/'Uppsafnað putts'!Z$3,\"\")","v":""}]

{"sheet":"Uppsafnað putts","index":1,"n_rows":18,"n_cols":38,"rows_kept":18,"cut":false,"hidden":false,"merged":[[5,26,10,26],[3,28,3,36],[3,1,4,1],[3,9,4,9],[3,8,4,8],[3,17,3,25],[3,10,4,10],[3,11,4,11],[3,12,4,12],[3,13,4,13],[3,14,4,14],[3,2,3,7]]}
[null,null,null,null,null,null,null,null,null,null,null,null,null,null,null,null,"Average per bucket",{"$f":"IFERROR(R2/R3,0)","v":0},0,0,0,0,0,0,0,0]
[null,null,null,null,null,null,null,null,null,null,null,null,null,null,null,">","Sum per bucket",{"$f":"IFERROR(SUMIF(R6:R18,\"<>\"&\"*\"),0)","v":0},0,0,0,0,0,0,0,0]
[null,null,null,null,null,null,null,null,null,null,null,null,null,null,null,null,"Frequency per bucket",{"$f":"+COUNTIF(R6:R18,\">0\")","v":0},0,0,0,0,0,0,0,0]
[null,"Distance from hole after approach (m)","Distance from hole (m) before putt (if in hole, then 0):",null,null,null,null,null,"# of putts","Distance bucket 1","Distance bucket 2","Distance bucket 3","Distance bucket 4","Distance bucket 5","Distance bucket 6",null,null,"# of putts per bucket",null,null,null,null,null,null,null,null,null,null,"Bucket"]
[null,null,"Putt 2","Putt 3","Putt 4","Putt 5","Putt 6","Putt 7",null,null,null,null,null,null,null,0,0,1,2,3,4,5,6,7,8,9,null,null,"0-1m","1-2m","2-3m","3-4m","4-5m","5-6m","6-7m","7-8m","8-9m","9-10m"]
[1,null,null,null,null,null,null,null,{"$f":"COUNTIF(B6:F6,\">0\")","v":0},{"$f":"+VLOOKUP(B6,$P$5:$Q$14,2)","v":0},{"$f":"+VLOOKUP(C6,$P$5:$Q$14,2)","v":0},{"$f":"+VLOOKUP(D6,$P$5:$Q$14,2)","v":0},{"$f":"+VLOOKUP(E6,$P$5:$Q$14,2)","v":0},{"$f":"+VLOOKUP(F6,$P$5:$Q$14,2)","v":0},{"$f":"+VLOOKUP(G6,$P$5:$Q$14,2)","v":0},0.1,1,{"$f":"IF($J6=R$5,COUNTIF($J6:$O6,\">0\"))+IF($K6=R$5,COUNTIF($K6:$O6,\">0\"))+IF($L6=R$5,COUNTIF($L6:$O6,\">0\")-1)+IF($M6=R$5,COUNTIF($M6:O$6,\">0\")-2,0)","v":0},{"$f":"IF($J6=S$5,COUNTIF($J6:$O6,\">0\"))+IF($K6=S$5,COUNTIF($K6:$O6,\">0\"))+IF($L6=S$5,COUNTIF($L6:$O6,\">0\")-1)+IF($M6=S$5,COUNTIF($M6:P$6,\">0\")-2,0)","v":0},{"$f":"IF($J6=T$5,COUNTIF($J6:$O6,\">0\"))+IF($K6=T$5,COUNTIF($K6:$O6,\">0\"))+IF($L6=T$5,COUNTIF($L6:$O6,\">0\")-1)+IF($M6=T$5,COUNTIF($M6:Q$6,\">0\")-2,0)","v":0},{"$f":"IF($J6=U$5,COUNTIF($J6:$O6,\">0\"))+IF($K6=U$5,COUNTIF($K6:$O6,\">0\"))+IF($L6=U$5,COUNTIF($L6:$O6,\">0\")-1)+IF($M6=U$5,COUNTIF($M6:R$6,\">0\")-2,0)","v":0},{"$f":"IF($J6=V$5,COUNTIF($J6:$O6,\">0\"))+IF($K6=V$5,COUNTIF($K6:$O6,\">0\"))+IF($L6=V$5,COUNTIF($L6:$O6,\">0\")-1)+IF($M6=V$5,COUNTIF($M6:S$6,\">0\")-2,0)","v":0},{"$f":"IF($J6=W$5,COUNTIF($J6:$O6,\">0\"))+IF($K6=W$5,COUNTIF($K6:$O6,\">0\"))+IF($L6=W$5,COUNTIF($L6:$O6,\">0\")-1)+IF($M6=W$5,COUNTIF($M6:T$6,\">0\")-2,0)","v":0},{"$f":"IF($J6=X$5,COUNTIF($J6:$O6,\">0\"))+IF($K6=X$5,COUNTIF($K6:$O6,\">0\"))+IF($L6=X$5,COUNTIF($L6:$O6,\">0\")-1)+IF($M6=X$5,COUNTIF($M6:U$6,\">0\")-2,0)","v":0},{"$f":"IF($J6=Y$5,COUNTIF($J6:$O6,\">0\"))+IF($K6=Y$5,COUNTIF($K6:$O6,\">0\"))+IF($L6=Y$5,COUNTIF($L6:$O6,\">0\")-1)+IF($M6=Y$5,COUNTIF($M6:V$6,\">0\")-2,0)","v":0},{"$f":"IF($J6=Z$5,COUNTIF($J6:$O6,\">0\"))+IF($K6=Z$5,COUNTIF($K6:$O6,\">0\"))+IF($L6=Z$5,COUNTIF($L6:$O6,\">0\")-1)+IF($M6=Z$5,COUNTIF($M6:W$6,\">0\")-2,0)","v":0},"Putts",0]
[2,null,null,null,null,null,null,null,0,0,0,0,0,0,0,1.01,2,{"$f":"IF($J7=R$5,COUNTIF($J7:$O7,\">0\"))+IF($K7=R$5,COUNTIF($K7:$O7,\">0\"))+IF($L7=R$5,COUNTIF($L7:$O7,\">0\")-1)+IF($M7=R$5,COUNTIF($M$6:O7,\">0\")-2,0)","v":0},{"$f":"IF($J7=S$5,COUNTIF($J7:$O7,\">0\"))+IF($K7=S$5,COUNTIF($K7:$O7,\">0\"))+IF($L7=S$5,COUNTIF($L7:$O7,\">0\")-1)+IF($M7=S$5,COUNTIF($M$6:P7,\">0\")-2,0)","v":0},{"$f":"IF($J7=T$5,COUNTIF($J7:$O7,\">0\"))+IF($K7=T$5,COUNTIF($K7:$O7,\">0\"))+IF($L7=T$5,COUNTIF($L7:$O7,\">0\")-1)+IF($M7=T$5,COUNTIF($M$6:Q7,\">0\")-2,0)","v":0},{"$f":"IF($J7=U$5,COUNTIF($J7:$O7,\">0\"))+IF($K7=U$5,COUNTIF($K7:$O7,\">0\"))+IF($L7=U$5,COUNTIF($L7:$O7,\">0\")-1)+IF($M7=U$5,COUNTIF($M$6:R7,\">0\")-2,0)","v":0},{"$f":"IF($J7=V$5,COUNTIF($J7:$O7,\">0\"))+IF($K7=V$5,COUNTIF($K7:$O7,\">0\"))+IF($L7=V$5,COUNTIF($L7:$O7,\">0\")-1)+IF($M7=V$5,COUNTIF($M$6:S7,\">0\")-2,0)","v":0},{"$f":"IF($J7=W$5,COUNTIF($J7:$O7,\">0\"))+IF($K7=W$5,COUNTIF($K7:$O7,\">0\"))+IF($L7=W$5,COUNTIF($L7:$O7,\">0\")-1)+IF($M7=W$5,COUNTIF($M$6:T7,\">0\")-2,0)","v":0},{"$f":"IF($J7=X$5,COUNTIF($J7:$O7,\">0\"))+IF($K7=X$5,COUNTIF($K7:$O7,\">0\"))+IF($L7=X$5,COUNTIF($L7:$O7,\">0\")-1)+IF($M7=X$5,COUNTIF($M$6:U7,\">0\")-2,0)","v":0},{"$f":"IF($J7=Y$5,COUNTIF($J7:$O7,\">0\"))+IF($K7=Y$5,COUNTIF($K7:$O7,\">0\"))+IF($L7=Y$5,COUNTIF($L7:$O7,\">0\")-1)+IF($M7=Y$5,COUNTIF($M$6:V7,\">0\")-2,0)","v":0},{"$f":"IF($J7=Z$5,COUNTIF($J7:$O7,\">0\"))+IF($K7=Z$5,COUNTIF($K7:$O7,\">0\"))+IF($L7=Z$5,COUNTIF($L7:$O7,\">0\")-1)+IF($M7=Z$5,COUNTIF($M$6:W7,\">0\")-2,0)","v":0},null,1,{"$f":"COUNTIF(R$6:R$18,$AB7)","v":0},0,0,0,0,0,0,0,0]
[3,null,null,null,null,null,null,null,0,0,0,0,0,0,0,2.0099999999999998,3,{"$f":"IF($J8=R$5,COUNTIF($J8:$O8,\">0\"))+IF($K8=R$5,COUNTIF($K8:$O8,\">0\"))+IF($L8=R$5,COUNTIF($L8:$O8,\">0\")-1)+IF($M8=R$5,COUNTIF($M$6:O8,\">0\")-2,0)","v":0},{"$f":"IF($J8=S$5,COUNTIF($J8:$O8,\">0\"))+IF($K8=S$5,COUNTIF($K8:$O8,\">0\"))+IF($L8=S$5,COUNTIF($L8:$O8,\">0\")-1)+IF($M8=S$5,COUNTIF($M$6:P8,\">0\")-2,0)","v":0},{"$f":"IF($J8=T$5,COUNTIF($J8:$O8,\">0\"))+IF($K8=T$5,COUNTIF($K8:$O8,\">0\"))+IF($L8=T$5,COUNTIF($L8:$O8,\">0\")-1)+IF($M8=T$5,COUNTIF($M$6:Q8,\">0\")-2,0)","v":0},{"$f":"IF($J8=U$5,COUNTIF($J8:$O8,\">0\"))+IF($K8=U$5,COUNTIF($K8:$O8,\">0\"))+IF($L8=U$5,COUNTIF($L8:$O8,\">0\")-1)+IF($M8=U$5,COUNTIF($M$6:R8,\">0\")-2,0)","v":0},{"$f":"IF($J8=V$5,COUNTIF($J8:$O8,\">0\"))+IF($K8=V$5,COUNTIF($K8:$O8,\">0\"))+IF($L8=V$5,COUNTIF($L8:$O8,\">0\")-1)+IF($M8=V$5,COUNTIF($M$6:S8,\">0\")-2,0)","v":0},{"$f":"IF($J8=W$5,COUNTIF($J8:$O8,\">0\"))+IF($K8=W$5,COUNTIF($K8:$O8,\">0\"))+IF($L8=W$5,COUNTIF($L8:$O8,\">0\")-1)+IF($M8=W$5,COUNTIF($M$6:T8,\">0\")-2,0)","v":0},{"$f":"IF($J8=X$5,COUNTIF($J8:$O8,\">0\"))+IF($K8=X$5,COUNTIF($K8:$O8,\">0\"))+IF($L8=X$5,COUNTIF($L8:$O8,\">0\")-1)+IF($M8=X$5,COUNTIF($M$6:U8,\">0\")-2,0)","v":0},{"$f":"IF($J8=Y$5,COUNTIF($J8:$O8,\">0\"))+IF($K8=Y$5,COUNTIF($K8:$O8,\">0\"))+IF($L8=Y$5,COUNTIF($L8:$O8,\">0\")-1)+IF($M8=Y$5,COUNTIF($M$6:V8,\">0\")-2,0)","v":0},{"$f":"IF($J8=Z$5,COUNTIF($J8:$O8,\">0\"))+IF($K8=Z$5,COUNTIF($K8:$O8,\">0\"))+IF($L8=Z$5,COUNTIF($L8:$O8,\">0\")-1)+IF($M8=Z$5,COUNTIF($M$6:W8,\">0\")-2,0)","v":0},null,2,0,0,0,0,0,0,0,0,0]
[4,null,null,null,null,null,null,null,0,0,0,0,0,0,0,3.01,4,{"$f":"IF($J9=R$5,COUNTIF($J9:$O9,\">0\"))+IF($K9=R$5,COUNTIF($K9:$O9,\">0\"))+IF($L9=R$5,COUNTIF($L9:$O9,\">0\")-1)+IF($M9=R$5,COUNTIF($M$6:O9,\">0\")-2,0)","v":0},{"$f":"IF($J9=S$5,COUNTIF($J9:$O9,\">0\"))+IF($K9=S$5,COUNTIF($K9:$O9,\">0\"))+IF($L9=S$5,COUNTIF($L9:$O9,\">0\")-1)+IF($M9=S$5,COUNTIF($M$6:P9,\">0\")-2,0)","v":0},{"$f":"IF($J9=T$5,COUNTIF($J9:$O9,\">0\"))+IF($K9=T$5,COUNTIF($K9:$O9,\">0\"))+IF($L9=T$5,COUNTIF($L9:$O9,\">0\")-1)+IF($M9=T$5,COUNTIF($M$6:Q9,\">0\")-2,0)","v":0},{"$f":"IF($J9=U$5,COUNTIF($J9:$O9,\">0\"))+IF($K9=U$5,COUNTIF($K9:$O9,\">0\"))+IF($L9=U$5,COUNTIF($L9:$O9,\">0\")-1)+IF($M9=U$5,COUNTIF($M$6:R9,\">0\")-2,0)","v":0},{"$f":"IF($J9=V$5,COUNTIF($J9:$O9,\">0\"))+IF($K9=V$5,COUNTIF($K9:$O9,\">0\"))+IF($L9=V$5,COUNTIF($L9:$O9,\">0\")-1)+IF($M9=V$5,COUNTIF($M$6:S9,\">0\")-2,0)","v":0},{"$f":"IF($J9=W$5,COUNTIF($J9:$O9,\">0\"))+IF($K9=W$5,COUNTIF($K9:$O9,\">0\"))+IF($L9=W$5,COUNTIF($L9:$O9,\">0\")-1)+IF($M9=W$5,COUNTIF($M$6:T9,\">0\")-2,0)","v":0},{"$f":"IF($J9=X$5,COUNTIF($J9:$O9,\">0\"))+IF($K9=X$5,COUNTIF($K9:$O9,\">0\"))+IF($L9=X$5,COUNTIF($L9:$O9,\">0\")-1)+IF($M9=X$5,COUNTIF($M$6:U9,\">0\")-2,0)","v":0},{"$f":"IF($J9=Y$5,COUNTIF($J9:$O9,\">0\"))+IF($K9=Y$5,COUNTIF($K9:$O9,\">0\"))+IF($L9=Y$5,COUNTIF($L9:$O9,\">0\")-1)+IF($M9=Y$5,COUNTIF($M$6:V9,\">0\")-2,0)","v":0},{"$f":"IF($J9=Z$5,COUNTIF($J9:$O9,\">0\"))+IF($K9=Z$5,COUNTIF($K9:$O9,\">0\"))+IF($L9=Z$5,COUNTIF($L9:$O9,\">0\")-1)+IF($M9=Z$5,COUNTIF($M$6:W9,\">0\")-2,0)","v":0},null,3,0,0,0,0,0,0,0,0,0]
[5,null,null,null,null,null,null,null,0,0,0,0,0,0,0,4.01,5,{"$f":"IF($J10=R$5,COUNTIF($J10:$O10,\">0\"))+IF($K10=R$5,COUNTIF($K10:$O10,\">0\"))+IF($L10=R$5,COUNTIF($L10:$O10,\">0\")-1)+IF($M10=R$5,COUNTIF($M$6:O10,\">0\")-2,0)","v":0},{"$f":"IF($J10=S$5,COUNTIF($J10:$O10,\">0\"))+IF($K10=S$5,COUNTIF($K10:$O10,\">0\"))+IF($L10=S$5,COUNTIF($L10:$O10,\">0\")-1)+IF($M10=S$5,COUNTIF($M$6:P10,\">0\")-2,0)","v":0},{"$f":"IF($J10=T$5,COUNTIF($J10:$O10,\">0\"))+IF($K10=T$5,COUNTIF($K10:$O10,\">0\"))+IF($L10=T$5,COUNTIF($L10:$O10,\">0\")-1)+IF($M10=T$5,COUNTIF($M$6:Q10,\">0\")-2,0)","v":0},{"$f":"IF($J10=U$5,COUNTIF($J10:$O10,\">0\"))+IF($K10=U$5,COUNTIF($K10:$O10,\">0\"))+IF($L10=U$5,COUNTIF($L10:$O10,\">0\")-1)+IF($M10=U$5,COUNTIF($M$6:R10,\">0\")-2,0)","v":0},{"$f":"IF($J10=V$5,COUNTIF($J10:$O10,\">0\"))+IF($K10=V$5,COUNTIF($K10:$O10,\">0\"))+IF($L10=V$5,COUNTIF($L10:$O10,\">0\")-1)+IF($M10=V$5,COUNTIF($M$6:S10,\">0\")-2,0)","v":0},{"$f":"IF($J10=W$5,COUNTIF($J10:$O10,\">0\"))+IF($K10=W$5,COUNTIF($K10:$O10,\">0\"))+IF($L10=W$5,COUNTIF($L10:$O10,\">0\")-1)+IF($M10=W$5,COUNTIF($M$6:T10,\">0\")-2,0)","v":0},{"$f":"IF($J10=X$5,COUNTIF($J10:$O10,\">0\"))+IF($K10=X$5,COUNTIF($K10:$O10,\">0\"))+IF($L10=X$5,COUNTIF($L10:$O10,\">0\")-1)+IF($M10=X$5,COUNTIF($M$6:U10,\">0\")-2,0)","v":0},{"$f":"IF($J10=Y$5,COUNTIF($J10:$O10,\">0\"))+IF($K10=Y$5,COUNTIF($K10:$O10,\">0\"))+IF($L10=Y$5,COUNTIF($L10:$O10,\">0\")-1)+IF($M10=Y$5,COUNTIF($M$6:V10,\">0\")-2,0)","v":0},{"$f":"IF($J10=Z$5,COUNTIF($J10:$O10,\">0\"))+IF($K10=Z$5,COUNTIF($K10:$O10,\">0\"))+IF($L10=Z$5,COUNTIF($L10:$O10,\">0\")-1)+IF($M10=Z$5,COUNTIF($M$6:W10,\">0\")-2,0)","v":0},null,4,0,0,0,0,0,0,0,0,0]
[6,null,null,null,null,null,null,null,0,0,0,0,0,0,0,5.01,6,{"$f":"IF($J11=R$5,COUNTIF($J11:$O11,\">0\"))+IF($K11=R$5,COUNTIF($K11:$O11,\">0\"))+IF($L11=R$5,COUNTIF($L11:$O11,\">0\")-1)+IF($M11=R$5,COUNTIF($M$6:O11,\">0\")-2,0)","v":0},{"$f":"IF($J11=S$5,COUNTIF($J11:$O11,\">0\"))+IF($K11=S$5,COUNTIF($K11:$O11,\">0\"))+IF($L11=S$5,COUNTIF($L11:$O11,\">0\")-1)+IF($M11=S$5,COUNTIF($M$6:P11,\">0\")-2,0)","v":0},{"$f":"IF($J11=T$5,COUNTIF($J11:$O11,\">0\"))+IF($K11=T$5,COUNTIF($K11:$O11,\">0\"))+IF($L11=T$5,COUNTIF($L11:$O11,\">0\")-1)+IF($M11=T$5,COUNTIF($M$6:Q11,\">0\")-2,0)","v":0},{"$f":"IF($J11=U$5,COUNTIF($J11:$O11,\">0\"))+IF($K11=U$5,COUNTIF($K11:$O11,\">0\"))+IF($L11=U$5,COUNTIF($L11:$O11,\">0\")-1)+IF($M11=U$5,COUNTIF($M$6:R11,\">0\")-2,0)","v":0},{"$f":"IF($J11=V$5,COUNTIF($J11:$O11,\">0\"))+IF($K11=V$5,COUNTIF($K11:$O11,\">0\"))+IF($L11=V$5,COUNTIF($L11:$O11,\">0\")-1)+IF($M11=V$5,COUNTIF($M$6:S11,\">0\")-2,0)","v":0},{"$f":"IF($J11=W$5,COUNTIF($J11:$O11,\">0\"))+IF($K11=W$5,COUNTIF($K11:$O11,\">0\"))+IF($L11=W$5,COUNTIF($L11:$O11,\">0\")-1)+IF($M11=W$5,COUNTIF($M$6:T11,\">0\")-2,0)","v":0},{"$f":"IF($J11=X$5,COUNTIF($J11:$O11,\">0\"))+IF($K11=X$5,COUNTIF($K11:$O11,\">0\"))+IF($L11=X$5,COUNTIF($L11:$O11,\">0\")-1)+IF($M11=X$5,COUNTIF($M$6:U11,\">0\")-2,0)","v":0},{"$f":"IF($J11=Y$5,COUNTIF($J11:$O11,\">0\"))+IF($K11=Y$5,COUNTIF($K11:$O11,\">0\"))+IF($L11=Y$5,COUNTIF($L11:$O11,\">0\")-1)+IF($M11=Y$5,COUNTIF($M$6:V11,\">0\")-2,0)","v":0},{"$f":"IF($J11=Z$5,COUNTIF($J11:$O11,\">0\"))+IF($K11=Z$5,COUNTIF($K11:$O11,\">0\"))+IF($L11=Z$5,COUNTIF($L11:$O11,\">0\")-1)+IF($M11=Z$5,COUNTIF($M$6:W11,\">0\")-2,0)","v":0},null,5,0,0,0,0,0,0,0,0,0]
[7,null,null,null,null,null,null,null,0,0,0,0,0,0,0,7.01,7,{"$f":"IF($J12=R$5,COUNTIF($J12:$O12,\">0\"))+IF($K12=R$5,COUNTIF($K12:$O12,\">0\"))+IF($L12=R$5,COUNTIF($L12:$O12,\">0\")-1)+IF($M12=R$5,COUNTIF($M$6:O12,\">0\")-2,0)","v":0},{"$f":"IF($J12=S$5,COUNTIF($J12:$O12,\">0\"))+IF($K12=S$5,COUNTIF($K12:$O12,\">0\"))+IF($L12=S$5,COUNTIF($L12:$O12,\">0\")-1)+IF($M12=S$5,COUNTIF($M$6:P12,\">0\")-2,0)","v":0},{"$f":"IF($J12=T$5,COUNTIF($J12:$O12,\">0\"))+IF($K12=T$5,COUNTIF($K12:$O12,\">0\"))+IF($L12=T$5,COUNTIF($L12:$O12,\">0\")-1)+IF($M12=T$5,COUNTIF($M$6:Q12,\">0\")-2,0)","v":0},{"$f":"IF($J12=U$5,COUNTIF($J12:$O12,\">0\"))+IF($K12=U$5,COUNTIF($K12:$O12,\">0\"))+IF($L12=U$5,COUNTIF($L12:$O12,\">0\")-1)+IF($M12=U$5,COUNTIF($M$6:R12,\">0\")-2,0)","v":0},{"$f":"IF($J12=V$5,COUNTIF($J12:$O12,\">0\"))+IF($K12=V$5,COUNTIF($K12:$O12,\">0\"))+IF($L12=V$5,COUNTIF($L12:$O12,\">0\")-1)+IF($M12=V$5,COUNTIF($M$6:S12,\">0\")-2,0)","v":0},{"$f":"IF($J12=W$5,COUNTIF($J12:$O12,\">0\"))+IF($K12=W$5,COUNTIF($K12:$O12,\">0\"))+IF($L12=W$5,COUNTIF($L12:$O12,\">0\")-1)+IF($M12=W$5,COUNTIF($M$6:T12,\">0\")-2,0)","v":0},{"$f":"IF($J12=X$5,COUNTIF($J12:$O12,\">0\"))+IF($K12=X$5,COUNTIF($K12:$O12,\">0\"))+IF($L12=X$5,COUNTIF($L12:$O12,\">0\")-1)+IF($M12=X$5,COUNTIF($M$6:U12,\">0\")-2,0)","v":0},{"$f":"IF($J12=Y$5,COUNTIF($J12:$O12,\">0\"))+IF($K12=Y$5,COUNTIF($K12:$O12,\">0\"))+IF($L12=Y$5,COUNTIF($L12:$O12,\">0\")-1)+IF($M12=Y$5,COUNTIF($M$6:V12,\">0\")-2,0)","v":0},{"$f":"IF($J12=Z$5,COUNTIF($J12:$O12,\">0\"))+IF($K12=Z$5,COUNTIF($K12:$O12,\">0\"))+IF($L12=Z$5,COUNTIF($L12:$O12,\">0\")-1)+IF($M12=Z$5,COUNTIF($M$6:W12,\">0\")-2,0)","v":0}]
[8,null,null,null,null,null,null,null,0,0,0,0,0,0,0,8.01,8,{"$f":"IF($J13=R$5,COUNTIF($J13:$O13,\">0\"))+IF($K13=R$5,COUNTIF($K13:$O13,\">0\"))+IF($L13=R$5,COUNTIF($L13:$O13,\">0\")-1)+IF($M13=R$5,COUNTIF($M$6:O13,\">0\")-2,0)","v":0},{"$f":"IF($J13=S$5,COUNTIF($J13:$O13,\">0\"))+IF($K13=S$5,COUNTIF($K13:$O13,\">0\"))+IF($L13=S$5,COUNTIF($L13:$O13,\">0\")-1)+IF($M13=S$5,COUNTIF($M$6:P13,\">0\")-2,0)","v":0},{"$f":"IF($J13=T$5,COUNTIF($J13:$O13,\">0\"))+IF($K13=T$5,COUNTIF($K13:$O13,\">0\"))+IF($L13=T$5,COUNTIF($L13:$O13,\">0\")-1)+IF($M13=T$5,COUNTIF($M$6:Q13,\">0\")-2,0)","v":0},{"$f":"IF($J13=U$5,COUNTIF($J13:$O13,\">0\"))+IF($K13=U$5,COUNTIF($K13:$O13,\">0\"))+IF($L13=U$5,COUNTIF($L13:$O13,\">0\")-1)+IF($M13=U$5,COUNTIF($M$6:R13,\">0\")-2,0)","v":0},{"$f":"IF($J13=V$5,COUNTIF($J13:$O13,\">0\"))+IF($K13=V$5,COUNTIF($K13:$O13,\">0\"))+IF($L13=V$5,COUNTIF($L13:$O13,\">0\")-1)+IF($M13=V$5,COUNTIF($M$6:S13,\">0\")-2,0)","v":0},{"$f":"IF($J13=W$5,COUNTIF($J13:$O13,\">0\"))+IF($K13=W$5,COUNTIF($K13:$O13,\">0\"))+IF($L13=W$5,COUNTIF($L13:$O13,\">0\")-1)+IF($M13=W$5,COUNTIF($M$6:T13,\">0\")-2,0)","v":0},{"$f":"IF($J13=X$5,COUNTIF($J13:$O13,\">0\"))+IF($K13=X$5,COUNTIF($K13:$O13,\">0\"))+IF($L13=X$5,COUNTIF($L13:$O13,\">0\")-1)+IF($M13=X$5,COUNTIF($M$6:U13,\">0\")-2,0)","v":0},{"$f":"IF($J13=Y$5,COUNTIF($J13:$O13,\">0\"))+IF($K13=Y$5,COUNTIF($K13:$O13,\">0\"))+IF($L13=Y$5,COUNTIF($L13:$O13,\">0\")-1)+IF($M13=Y$5,COUNTIF($M$6:V13,\">0\")-2,0)","v":0},{"$f":"IF($J13=Z$5,COUNTIF($J13:$O13,\">0\"))+IF($K13=Z$5,COUNTIF($K13:$O13,\">0\"))+IF($L13=Z$5,COUNTIF($L13:$O13,\">0\")-1)+IF($M13=Z$5,COUNTIF($M$6:W13,\">0\")-2,0)","v":0}]
[9,null,null,null,null,null,null,null,0,0,0,0,0,0,0,9.01,9,{"$f":"IF($J14=R$5,COUNTIF($J14:$O14,\">0\"))+IF($K14=R$5,COUNTIF($K14:$O14,\">0\"))+IF($L14=R$5,COUNTIF($L14:$O14,\">0\")-1)+IF($M14=R$5,COUNTIF($M$6:O14,\">0\")-2,0)","v":0},{"$f":"IF($J14=S$5,COUNTIF($J14:$O14,\">0\"))+IF($K14=S$5,COUNTIF($K14:$O14,\">0\"))+IF($L14=S$5,COUNTIF($L14:$O14,\">0\")-1)+IF($M14=S$5,COUNTIF($M$6:P14,\">0\")-2,0)","v":0},{"$f":"IF($J14=T$5,COUNTIF($J14:$O14,\">0\"))+IF($K14=T$5,COUNTIF($K14:$O14,\">0\"))+IF($L14=T$5,COUNTIF($L14:$O14,\">0\")-1)+IF($M14=T$5,COUNTIF($M$6:Q14,\">0\")-2,0)","v":0},{"$f":"IF($J14=U$5,COUNTIF($J14:$O14,\">0\"))+IF($K14=U$5,COUNTIF($K14:$O14,\">0\"))+IF($L14=U$5,COUNTIF($L14:$O14,\">0\")-1)+IF($M14=U$5,COUNTIF($M$6:R14,\">0\")-2,0)","v":0},{"$f":"IF($J14=V$5,COUNTIF($J14:$O14,\">0\"))+IF($K14=V$5,COUNTIF($K14:$O14,\">0\"))+IF($L14=V$5,COUNTIF($L14:$O14,\">0\")-1)+IF($M14=V$5,COUNTIF($M$6:S14,\">0\")-2,0)","v":0},{"$f":"IF($J14=W$5,COUNTIF($J14:$O14,\">0\"))+IF($K14=W$5,COUNTIF($K14:$O14,\">0\"))+IF($L14=W$5,COUNTIF($L14:$O14,\">0\")-1)+IF($M14=W$5,COUNTIF($M$6:T14,\">0\")-2,0)","v":0},{"$f":"IF($J14=X$5,COUNTIF($J14:$O14,\">0\"))+IF($K14=X$5,COUNTIF($K14:$O14,\">0\"))+IF($L14=X$5,COUNTIF($L14:$O14,\">0\")-1)+IF($M14=X$5,COUNTIF($M$6:U14,\">0\")-2,0)","v":0},{"$f":"IF($J14=Y$5,COUNTIF($J14:$O14,\">0\"))+IF($K14=Y$5,COUNTIF($K14:$O14,\">0\"))+IF($L14=Y$5,COUNTIF($L14:$O14,\">0\")-1)+IF($M14=Y$5,COUNTIF($M$6:V14,\">0\")-2,0)","v":0},{"$f":"IF($J14=Z$5,COUNTIF($J14:$O14,\">0\"))+IF($K14=Z$5,COUNTIF($K14:$O14,\">0\"))+IF($L14=Z$5,COUNTIF($L14:$O14,\">0\")-1)+IF($M14=Z$5,COUNTIF($M$6:W14,\">0\")-2,0)","v":0}]
[10,null,null,null,null,null,null,null,0,0,0,0,0,0,0,null,null,{"$f":"IF($J15=R$5,COUNTIF($J15:$O15,\">0\"))+IF($K15=R$5,COUNTIF($K15:$O15,\">0\"))+IF($L15=R$5,COUNTIF($L15:$O15,\">0\")-1)+IF($M15=R$5,COUNTIF($M$6:O15,\">0\")-2,0)","v":0},{"$f":"IF($J15=S$5,COUNTIF($J15:$O15,\">0\"))+IF($K15=S$5,COUNTIF($K15:$O15,\">0\"))+IF($L15=S$5,COUNTIF($L15:$O15,\">0\")-1)+IF($M15=S$5,COUNTIF($M$6:P15,\">0\")-2,0)","v":0},{"$f":"IF($J15=T$5,COUNTIF($J15:$O15,\">0\"))+IF($K15=T$5,COUNTIF($K15:$O15,\">0\"))+IF($L15=T$5,COUNTIF($L15:$O15,\">0\")-1)+IF($M15=T$5,COUNTIF($M$6:Q15,\">0\")-2,0)","v":0},{"$f":"IF($J15=U$5,COUNTIF($J15:$O15,\">0\"))+IF($K15=U$5,COUNTIF($K15:$O15,\">0\"))+IF($L15=U$5,COUNTIF($L15:$O15,\">0\")-1)+IF($M15=U$5,COUNTIF($M$6:R15,\">0\")-2,0)","v":0},{"$f":"IF($J15=V$5,COUNTIF($J15:$O15,\">0\"))+IF($K15=V$5,COUNTIF($K15:$O15,\">0\"))+IF($L15=V$5,COUNTIF($L15:$O15,\">0\")-1)+IF($M15=V$5,COUNTIF($M$6:S15,\">0\")-2,0)","v":0},{"$f":"IF($J15=W$5,COUNTIF($J15:$O15,\">0\"))+IF($K15=W$5,COUNTIF($K15:$O15,\">0\"))+IF($L15=W$5,COUNTIF($L15:$O15,\">0\")-1)+IF($M15=W$5,COUNTIF($M$6:T15,\">0\")-2,0)","v":0},{"$f":"IF($J15=X$5,COUNTIF($J15:$O15,\">0\"))+IF($K15=X$5,COUNTIF($K15:$O15,\">0\"))+IF($L15=X$5,COUNTIF($L15:$O15,\">0\")-1)+IF($M15=X$5,COUNTIF($M$6:U15,\">0\")-2,0)","v":0},{"$f":"IF($J15=Y$5,COUNTIF($J15:$O15,\">0\"))+IF($K15=Y$5,COUNTIF($K15:$O15,\">0\"))+IF($L15=Y$5,COUNTIF($L15:$O15,\">0\")-1)+IF($M15=Y$5,COUNTIF($M$6:V15,\">0\")-2,0)","v":0},{"$f":"IF($J15=Z$5,COUNTIF($J15:$O15,\">0\"))+IF($K15=Z$5,COUNTIF($K15:$O15,\">0\"))+IF($L15=Z$5,COUNTIF($L15:$O15,\">0\")-1)+IF($M15=Z$5,COUNTIF($M$6:W15,\">0\")-2,0)","v":0}]
[11,null,null,null,null,null,null,null,0,0,0,0,0,0,0,null,null,{"$f":"IF($J16=R$5,COUNTIF($J16:$O16,\">0\"))+IF($K16=R$5,COUNTIF($K16:$O16,\">0\"))+IF($L16=R$5,COUNTIF($L16:$O16,\">0\")-1)+IF($M16=R$5,COUNTIF($M$6:O16,\">0\")-2,0)","v":0},{"$f":"IF($J16=S$5,COUNTIF($J16:$O16,\">0\"))+IF($K16=S$5,COUNTIF($K16:$O16,\">0\"))+IF($L16=S$5,COUNTIF($L16:$O16,\">0\")-1)+IF($M16=S$5,COUNTIF($M$6:P16,\">0\")-2,0)","v":0},{"$f":"IF($J16=T$5,COUNTIF($J16:$O16,\">0\"))+IF($K16=T$5,COUNTIF($K16:$O16,\">0\"))+IF($L16=T$5,COUNTIF($L16:$O16,\">0\")-1)+IF($M16=T$5,COUNTIF($M$6:Q16,\">0\")-2,0)","v":0},{"$f":"IF($J16=U$5,COUNTIF($J16:$O16,\">0\"))+IF($K16=U$5,COUNTIF($K16:$O16,\">0\"))+IF($L16=U$5,COUNTIF($L16:$O16,\">0\")-1)+IF($M16=U$5,COUNTIF($M$6:R16,\">0\")-2,0)","v":0},{"$f":"IF($J16=V$5,COUNTIF($J16:$O16,\">0\"))+IF($K16=V$5,COUNTIF($K16:$O16,\">0\"))+IF($L16=V$5,COUNTIF($L16:$O16,\">0\")-1)+IF($M16=V$5,COUNTIF($M$6:S16,\">0\")-2,0)","v":0},{"$f":"IF($J16=W$5,COUNTIF($J16:$O16,\">0\"))+IF($K16=W$5,COUNTIF($K16:$O16,\">0\"))+IF($L16=W$5,COUNTIF($L16:$O16,\">0\")-1)+IF($M16=W$5,COUNTIF($M$6:T16,\">0\")-2,0)","v":0},{"$f":"IF($J16=X$5,COUNTIF($J16:$O16,\">0\"))+IF($K16=X$5,COUNTIF($K16:$O16,\">0\"))+IF($L16=X$5,COUNTIF($L16:$O16,\">0\")-1)+IF($M16=X$5,COUNTIF($M$6:U16,\">0\")-2,0)","v":0},{"$f":"IF($J16=Y$5,COUNTIF($J16:$O16,\">0\"))+IF($K16=Y$5,COUNTIF($K16:$O16,\">0\"))+IF($L16=Y$5,COUNTIF($L16:$O16,\">0\")-1)+IF($M16=Y$5,COUNTIF($M$6:V16,\">0\")-2,0)","v":0},{"$f":"IF($J16=Z$5,COUNTIF($J16:$O16,\">0\"))+IF($K16=Z$5,COUNTIF($K16:$O16,\">0\"))+IF($L16=Z$5,COUNTIF($L16:$O16,\">0\")-1)+IF($M16=Z$5,COUNTIF($M$6:W16,\">0\")-2,0)","v":0}]
[12,null,null,null,null,null,null,null,0,0,0,0,0,0,0,null,null,{"$f":"IF($J17=R$5,COUNTIF($J17:$O17,\">0\"))+IF($K17=R$5,COUNTIF($K17:$O17,\">0\"))+IF($L17=R$5,COUNTIF($L17:$O17,\">0\")-1)+IF($M17=R$5,COUNTIF($M$6:O17,\">0\")-2,0)","v":0},{"$f":"IF($J17=S$5,COUNTIF($J17:$O17,\">0\"))+IF($K17=S$5,COUNTIF($K17:$O17,\">0\"))+IF($L17=S$5,COUNTIF($L17:$O17,\">0\")-1)+IF($M17=S$5,COUNTIF($M$6:P17,\">0\")-2,0)","v":0},{"$f":"IF($J17=T$5,COUNTIF($J17:$O17,\">0\"))+IF($K17=T$5,COUNTIF($K17:$O17,\">0\"))+IF($L17=T$5,COUNTIF($L17:$O17,\">0\")-1)+IF($M17=T$5,COUNTIF($M$6:Q17,\">0\")-2,0)","v":0},{"$f":"IF($J17=U$5,COUNTIF($J17:$O17,\">0\"))+IF($K17=U$5,COUNTIF($K17:$O17,\">0\"))+IF($L17=U$5,COUNTIF($L17:$O17,\">0\")-1)+IF($M17=U$5,COUNTIF($M$6:R17,\">0\")-2,0)","v":0},{"$f":"IF($J17=V$5,COUNTIF($J17:$O17,\">0\"))+IF($K17=V$5,COUNTIF($K17:$O17,\">0\"))+IF($L17=V$5,COUNTIF($L17:$O17,\">0\")-1)+IF($M17=V$5,COUNTIF($M$6:S17,\">0\")-2,0)","v":0},{"$f":"IF($J17=W$5,COUNTIF($J17:$O17,\">0\"))+IF($K17=W$5,COUNTIF($K17:$O17,\">0\"))+IF($L17=W$5,COUNTIF($L17:$O17,\">0\")-1)+IF($M17=W$5,COUNTIF($M$6:T17,\">0\")-2,0)","v":0},{"$f":"IF($J17=X$5,COUNTIF($J17:$O17,\">0\"))+IF($K17=X$5,COUNTIF($K17:$O17,\">0\"))+IF($L17=X$5,COUNTIF($L17:$O17,\">0\")-1)+IF($M17=X$5,COUNTIF($M$6:U17,\">0\")-2,0)","v":0},{"$f":"IF($J17=Y$5,COUNTIF($J17:$O17,\">0\"))+IF($K17=Y$5,COUNTIF($K17:$O17,\">0\"))+IF($L17=Y$5,COUNTIF($L17:$O17,\">0\")-1)+IF($M17=Y$5,COUNTIF($M$6:V17,\">0\")-2,0)","v":0},{"$f":"IF($J17=Z$5,COUNTIF($J17:$O17,\">0\"))+IF($K17=Z$5,COUNTIF($K17:$O17,\">0\"))+IF($L17=Z$5,COUNTIF($L17:$O17,\">0\")-1)+IF($M17=Z$5,COUNTIF($M$6:W17,\">0\")-2,0)","v":0}]
[13,null,null,null,null,null,null,null,0,0,0,0,0,0,0,null,null,{"$f":"IF($J18=R$5,COUNTIF($J18:$O18,\">0\"))+IF($K18=R$5,COUNTIF($K18:$O18,\">0\"))+IF($L18=R$5,COUNTIF($L18:$O18,\">0\")-1)+IF($M18=R$5,COUNTIF($M$6:O18,\">0\")-2,0)","v":0},{"$f":"IF($J18=S$5,COUNTIF($J18:$O18,\">0\"))+IF($K18=S$5,COUNTIF($K18:$O18,\">0\"))+IF($L18=S$5,COUNTIF($L18:$O18,\">0\")-1)+IF($M18=S$5,COUNTIF($M$6:P18,\">0\")-2,0)","v":0},{"$f":"IF($J18=T$5,COUNTIF($J18:$O18,\">0\"))+IF($K18=T$5,COUNTIF($K18:$O18,\">0\"))+IF($L18=T$5,COUNTIF($L18:$O18,\">0\")-1)+IF($M18=T$5,COUNTIF($M$6:Q18,\">0\")-2,0)","v":0},{"$f":"IF($J18=U$5,COUNTIF($J18:$O18,\">0\"))+IF($K18=U$5,COUNTIF($K18:$O18,\">0\"))+IF($L18=U$5,COUNTIF($L18:$O18,\">0\")-1)+IF($M18=U$5,COUNTIF($M$6:R18,\">0\")-2,0)","v":0},{"$f":"IF($J18=V$5,COUNTIF($J18:$O18,\">0\"))+IF($K18=V$5,COUNTIF($K18:$O18,\">0\"))+IF($L18=V$5,COUNTIF($L18:$O18,\">0\")-1)+IF($M18=V$5,COUNTIF($M$6:S18,\">0\")-2,0)","v":0},{"$f":"IF($J18=W$5,COUNTIF($J18:$O18,\">0\"))+IF($K18=W$5,COUNTIF($K18:$O18,\">0\"))+IF($L18=W$5,COUNTIF($L18:$O18,\">0\")-1)+IF($M18=W$5,COUNTIF($M$6:T18,\">0\")-2,0)","v":0},{"$f":"IF($J18=X$5,COUNTIF($J18:$O18,\">0\"))+IF($K18=X$5,COUNTIF($K18:$O18,\">0\"))+IF($L18=X$5,COUNTIF($L18:$O18,\">0\")-1)+IF($M18=X$5,COUNTIF($M$6:U18,\">0\")-2,0)","v":0},{"$f":"IF($J18=Y$5,COUNTIF($J18:$O18,\">0\"))+IF($K18=Y$5,COUNTIF($K18:$O18,\">0\"))+IF($L18=Y$5,COUNTIF($L18:$O18,\">0\")-1)+IF($M18=Y$5,COUNTIF($M$6:V18,\">0\")-2,0)","v":0},{"$f":"IF($J18=Z$5,COUNTIF($J18:$O18,\">0\"))+IF($K18=Z$5,COUNTIF($K18:$O18,\">0\"))+IF($L18=Z$5,COUNTIF($L18:$O18,\">0\")-1)+IF($M18=Z$5,COUNTIF($M$6:W18,\">0\")-2,0)","v":0}]