{"text_format":"1","workbook":"xlsx","n_sheets":2,"sheets":["Approach","Uppsafnað"],"not_rendered":{"charts":1,"images":1,"macros":1,"external_links":0,"defined_names":1,"comments":0,"pivot_tables":0},"unopened":[],"bounds":{"document_bytes":16777216,"sheet_cells":100000,"rows_first":2000,"rows_last":500,"rows_between":2000,"halvings":0,"cell_chars":16384,"cell_head_chars":4096},"cells_cut":0,"cells_raw":0,"read":"whole","date_system":"1900"}

{"sheet":"Approach","index":0,"n_rows":55,"n_cols":21,"rows_kept":55,"cut":false,"hidden":false,"merged":[[35,9,35,12],[0,0,0,16],[3,3,4,3],[3,2,4,2],[3,4,4,4],[3,1,4,1],[3,5,3,6]]}
["Approach training statistics"]
["Type of club",null,null,"Range"]
[]
[null,"Left  / Right","Distance (m)","Long / Short ","Distance (m)",null,null,null,null,null,"Acceptable approach percentage (AAP)",null,null,null,0.1]
[null,null,null,null,null,null,null,null,null,null,"AAP = Depending on distance to pin, AAP represents the"]
[{"$f":"TODAY()","v":"2009-06-11"},null,null,null,null,null,null,{"$f":"+$S$38","v":2},{"$f":"+$S$39","v":3},null,"acceptable distance to hole after shot; i.e. If a player has "]
[{"$f":"+A6","v":"2009-06-11"},null,null,null,null,null,null,{"$f":"+H6","v":2},{"$f":"+I6","v":3},null,{"$f":"\"100m to pin, having \"&FIXED(O4*100,0)&\" m to hole after the shot is\"","v":"100m to pin, having 10 m to hole after the shot is"}]
[{"$f":"+A7","v":"2009-06-11"},null,null,null,null,null,null,{"$f":"+H7","v":2},{"$f":"+I7","v":3},null,"acceptable"]
["2009-06-11",null,null,null,null,null,null,2,3]
["2009-06-11",null,null,null,null,null,null,2,3,null,"Club selection",null,null,"Distance"]
["2009-06-11",null,null,null,null,null,null,2,3]
["2009-06-11",null,null,null,null,null,null,2,3]
["2009-06-11",null,null,null,null,null,null,2,3,null,null,null,null,null,null,null,null,null,null,null,{"$f":"U15&\" from \"&U16&\"\nAverage distance from pin \"&FIXED(Uppsafnað!CG5,2)&\" m, \"&FIXED(Uppsafnað!CG5-Approach!U17,2)&\" m from AAP\"","v":"8 iron from 150 m\nAverage distance from pin 0.00 m, -15.00 m from AAP"}]
["2009-06-11",null,null,null,null,null,null,2,3]
["2009-06-11",null,null,null,null,null,null,2,3,null,null,null,null,null,null,null,null,null,2,{"$f":"+S15*10+S16","v":23},{"$f":"VLOOKUP(S15,S21:T26,2)","v":"8 iron"}]
["2009-06-11",null,null,null,null,null,null,2,3,null,null,null,null,null,null,null,null,null,3,null,{"$f":"+VLOOKUP(S16,S34:T36,2)","v":"150 m"}]
["2009-06-11",null,null,null,null,null,null,2,3,null,null,null,null,null,null,null,null,null,null,null,{"$f":"VLOOKUP(S16,S34:U36,3)","v":15}]
["2009-06-11",null,null,null,null,null,null,2,3]
["2009-06-11",null,null,null,null,null,null,2,3]
["2009-06-11",null,null,null,null,null,null,2,3]
["2009-06-11",null,null,null,null,null,null,2,3,null,null,null,null,null,null,null,null,null,1,{"$f":"+L37","v":"7 iron"}]
["2009-06-11",null,null,null,null,null,null,2,3,null,null,null,null,null,null,null,null,null,2,{"$f":"+L38","v":"8 iron"}]
["2009-06-11",null,null,null,null,null,null,2,3,null,null,null,null,null,null,null,null,null,3,"9 iron"]
["2009-06-11",null,null,null,null,null,null,2,3,null,null,null,null,null,null,null,null,null,4,"PW"]
["2009-06-11",null,null,null,null,null,null,2,3,null,null,null,null,null,null,null,null,null,5,"SW"]
["2009-06-11",null,null,null,null,null,null,2,3,null,null,null,null,null,null,null,null,null,6,"Wedge A"]
["2009-06-11",null,null,null,null,null,null,2,3]
["2009-06-11",null,null,null,null,null,null,2,3]
["2009-06-11",null,null,null,null,null,null,2,3]
["2009-06-11",null,null,null,null,null,null,2,3]
["2009-06-11",null,null,null,null,null,null,2,3]
["2009-06-11",null,null,null,null,null,null,2,3]
["2009-06-11",null,null,null,null,null,null,2,3]
["2009-06-11",null,null,null,null,null,null,2,3,null,null,null,null,null,null,null,null,null,1,"50 m",{"$f":"50*$O$4","v":5}]
["2009-06-11",null,null,null,null,null,null,2,3,null,null,null,null,null,null,null,null,null,2,"100 m",{"$f":"100*$O$4","v":10}]
["2009-06-11",null,null,null,null,null,null,2,3,"Select which clubs to designate",null,null,null,null,null,null,null,null,3,"150 m",{"$f":"150*$O$4","v":15}]
["2009-06-11",null,null,null,null,null,null,2,3,null,"Club 1","7 iron"]
["2009-06-11",null,null,null,null,null,null,2,3,null,"Club 2","8 iron",null,null,null,null,null,null,2,"L","S"]
["2009-06-11",null,null,null,null,null,null,2,3,null,"Club 3","9 iron",null,null,null,null,null,null,3,"R","L"]
["2009-06-11",null,null,null,null,null,null,2,3,null,"Club 4","PW"]
["2009-06-11",null,null,null,null,null,null,2,3,null,"Club 5","SW"]
["2009-06-11",null,null,null,null,null,null,2,3,null,"Club 6","Wedge A"]
["2009-06-11",null,null,null,null,null,null,2,3]
["2009-06-11",null,null,null,null,null,null,2,3]
["2009-06-11",null,null,null,null,null,null,2,3]
["2009-06-11",null,null,null,null,null,null,2,3]
["2009-06-11",null,null,null,null,null,null,2,3]
["2009-06-11",null,null,null,null,null,null,2,3]
["2009-06-11",null,null,null,null,null,null,2,3]
["2009-06-11",null,null,null,null,null,null,2,3]
["2009-06-11",null,null,null,null,null,null,2,3]
["2009-06-11",null,null,null,null,null,null,2,3]
["2009-06-11",null,null,null,null,null,null,2,3]
["2009-06-11",null,null,null,null,null,null,2,3]
["2009-06-11",null,null,null,null,{"$f":"IF(B55=\"l\",-C55,C55)","v":0},{"$f":"IF(D55=\"s\",-E55,E55)","v":0},2,3]

{"sheet":"Uppsafnað","index":1,"n_rows":56,"n_cols":85,"rows_kept":56,"cut":false,"hidden":false,"merged":[[0,39,0,44],[0,9,0,14],[0,15,0,20],[0,21,0,26],[0,27,0,32],[0,33,0,38]]}
[null,null,null,null,null,null,null,null,null,{"$f":"+Approach!L37","v":"7 iron"},null,null,null,null,null,{"$f":"+Approach!L38","v":"8 iron"},null,null,null,null,null,{"$f":"+Approach!L39","v":"9 iron"},null,null,null,null,null,{"$f":"+Approach!L40","v":"PW"},null,null,null,null,null,{"$f":"+Approach!L41","v":"SW"},null,null,null,null,null,{"$f":"+Approach!L42","v":"Wedge A"},null,null,null,null,null,"7 iron",null,null,"8 iron",null,null,"9 iron",null,null,"PW",null,null,"SW",null,null,"Wedge A"]
[null,"Left/Right","m","Short/Long","m","Left/Right score","Short/Long score","Club","Distance","Left/right","Long/short","Distance","From pin","% distance","Score","Left/right","Long/short","Distance","From pin","% distance","Score","Left/right","Long/short","Distance","From pin","% distance","Score","Left/right","Long/short","Distance","From pin","% distance","Score","Left/right","Long/short","Distance","From pin","% distance","Score","Left/right","Long/short","Distance","From pin","% distance","Score","50m","100m","150m","50m","100m","150m","50m","100m","150m","50m","100m","150m","50m","100m","150m","50m","100m","150m"]
[null,null,null,null,null,null,null,null,null,null,null,null,null,null,null,null,null,null,null,null,null,null,null,null,null,null,null,null,null,null,null,null,null,null,null,null,null,null,null,null,null,null,null,null,null,"7 iron"]
[]
[null,null,null,null,null,null,null,null,null,null,null,null,"Average",{"$f":"IFERROR(SUMIF(N7:N9304,\"<>\"&\"*\")/N6,0)","v":0},{"$f":"IFERROR(SUMIF(O7:O9304,\"<>\"&\"*\")/N6,0)","v":0},null,null,null,"Average",{"$f":"IFERROR(SUMIF(T7:T9304,\"<>\"&\"*\")/T6,0)","v":0},{"$f":"IFERROR(SUMIF(U7:U9304,\"<>\"&\"*\")/T6,0)","v":3},null,null,null,"Average",{"$f":"IFERROR(SUMIF(Z7:Z9304,\"<>\"&\"*\")/Z6,0)","v":0},{"$f":"IFERROR(SUMIF(AA7:AA9304,\"<>\"&\"*\")/Z6,0)","v":0},null,null,null,"Average",{"$f":"IFERROR(SUMIF(AF7:AF9304,\"<>\"&\"*\")/AF6,0)","v":0},{"$f":"IFERROR(SUMIF(AG7:AG9304,\"<>\"&\"*\")/AF6,0)","v":0},null,null,null,"Average",{"$f":"IFERROR(SUMIF(AL7:AL9304,\"<>\"&\"*\")/AL6,0)","v":0},{"$f":"IFERROR(SUMIF(AM7:AM9304,\"<>\"&\"*\")/AL6,0)","v":0},null,null,null,"Average",{"$f":"IFERROR(SUMIF(AR7:AR9304,\"<>\"&\"*\")/AR6,0)","v":0},{"$f":"IFERROR(SUMIF(AS7:AS9304,\"<>\"&\"*\")/AR6,0)","v":0},null,null,null,null,null,null,null,null,null,null,null,null,null,null,null,null,null,null,null,null,null,null,null,null,null,null,null,null,null,null,null,null,null,null,null,null,null,null,null,{"$f":"IFERROR(SUMIF(CG7:CG9304,\"<>\"&\"*\")/CF6,0)","v":0}]
["x",null,"Left / Right of target","Distance from target","Short / Long of target","Distance from target","8 iron",null,null,null,null,null,"Count",{"$f":"+COUNT(M7:M9304)","v":0},null,null,null,null,"Count",{"$f":"+COUNT(S7:S9304)","v":50},null,null,null,null,"Count",{"$f":"+COUNT(Y7:Y9304)","v":0},null,null,null,null,"Count",{"$f":"+COUNT(AE7:AE9304)","v":0},null,null,null,null,"Count",{"$f":"+COUNT(AK7:AK9304)","v":0},null,null,null,null,"Count",{"$f":"+COUNT(AQ7:AQ9304)","v":0},null,11,12,13,21,22,23,31,32,33,41,42,43,51,52,53,61,62,63,null,11,12,13,21,22,23,31,32,33,41,42,43,51,52,53,61,62,63,{"$f":"+Approach!T15","v":23},{"$f":"+COUNT(CF7:CF9304)","v":50}]
[39975,null,null,null,null,null,null,2,3,{"$f":"IF($H7=1,$F7,#N/A)","v":{"$error":"#N/A"}},{"$f":"IF($H7=1,$G7,#N/A)","v":{"$error":"#N/A"}},{"$f":"+IF($I7=1,50,IF($I7=2,100,IF($I7=3,150)))","v":150},{"$f":"IFERROR(SQRT(ABS(J7)^2+ABS(K7)^2),\"\")","v":""},{"$f":"IFERROR(+M7/L7,\"\")","v":""},{"$f":"IF(N7=\"\",\"\",IF(N7<=Approach!$O$4/2,3,IF(AND(Uppsafnað!N7<Approach!$O$4,Uppsafnað!N7>=Approach!$O$4/2),2,IF(AND(N7>Approach!$O$4,Uppsafnað!N7<Approach!$O$4*1.5),1,0))))","v":""},{"$f":"IF($H7=2,$F7,#N/A)","v":0},{"$f":"IF($H7=2,$G7,#N/A)","v":0},{"$f":"+IF($I7=1,50,IF($I7=2,100,IF($I7=3,150)))","v":150},{"$f":"IFERROR(SQRT(ABS(P7)^2+ABS(Q7)^2),\"\")","v":0},{"$f":"IFERROR(+S7/R7,\"\")","v":0},{"$f":"IF(T7=\"\",\"\",IF(T7<=Approach!$O$4/2,3,IF(AND(Uppsafnað!$N$7<Approach!$O$4,Uppsafnað!$N$7>=Approach!$O$4/2),2,IF(AND(T7>Approach!$O$4,Uppsafnað!T7<Approach!$O$4*1.5),1,0))))","v":3},{"$f":"IF($H7=3,$F7,#N/A)","v":{"$error":"#N/A"}},{"$f":"IF($H7=3,$G7,#N/A)","v":{"$error":"#N/A"}},{"$f":"+IF($I7=1,50,IF($I7=2,100,IF($I7=3,150)))","v":150},{"$f":"IFERROR(SQRT(ABS(V7)^2+ABS(W7)^2),\"\")","v":""},{"$f":"IFERROR(+Y7/X7,\"\")","v":""},{"$f":"IF(Z7=\"\",\"\",IF(Z7<=Approach!$O$4/2,3,IF(AND(Uppsafnað!$N$7<Approach!$O$4,Uppsafnað!$N$7>=Approach!$O$4/2),2,IF(AND(Z7>Approach!$O$4,Uppsafnað!Z7<Approach!$O$4*1.5),1,0))))","v":""},{"$f":"IF($H7=4,$F7,#N/A)","v":{"$error":"#N/A"}},{"$f":"IF($H7=4,$G7,#N/A)","v":{"$error":"#N/A"}},{"$f":"+IF($I7=1,50,IF($I7=2,100,IF($I7=3,150)))","v":150},{"$f":"IFERROR(SQRT(ABS(AB7)^2+ABS(AC7)^2),\"\")","v":""},{"$f":"IFERROR(+AE7/AD7,\"\")","v":""},{"$f":"IF(AF7=\"\",\"\",IF(AF7<=Approach!$O$4/2,3,IF(AND(Uppsafnað!$N$7<Approach!$O$4,Uppsafnað!$N$7>=Approach!$O$4/2),2,IF(AND(AF7>Approach!$O$4,Uppsafnað!AF7<Approach!$O$4*1.5),1,0))))","v":""},{"$f":"IF($H7=5,$F7,#N/A)","v":{"$error":"#N/A"}},{"$f":"IF($H7=5,$G7,#N/A)","v":{"$error":"#N/A"}},{"$f":"+IF($I7=1,50,IF($I7=2,100,IF($I7=3,150)))","v":150},{"$f":"IFERROR(SQRT(ABS(AH7)^2+ABS(AI7)^2),\"\")","v":""},{"$f":"IFERROR(+AK7/AJ7,\"\")","v":""},{"$f":"IF(AL7=\"\",\"\",IF(AL7<=Approach!$O$4/2,3,IF(AND(Uppsafnað!$N$7<Approach!$O$4,Uppsafnað!$N$7>=Approach!$O$4/2),2,IF(AND(AL7>Approach!$O$4,Uppsafnað!AL7<Approach!$O$4*1.5),1,0))))","v":""},{"$f":"IF($H7=7,$F7,#N/A)","v":{"$error":"#N/A"}},{"$f":"IF($H7=7,$G7,#N/A)","v":{"$error":"#N/A"}},{"$f":"+IF($I7=1,50,IF($I7=2,100,IF($I7=3,150)))","v":150},{"$f":"IFERROR(SQRT(ABS(AN7)^2+ABS(AO7)^2),\"\")","v":""},{"$f":"IFERROR(+AQ7/AP7,\"\")","v":""},{"$f":"IF(AR7=\"\",\"\",IF(AR7<=Approach!$O$4/2,3,IF(AND(Uppsafnað!$N$7<Approach!$O$4,Uppsafnað!$N$7>=Approach!$O$4/2),2,IF(AND(AR7>Approach!$O$4,Uppsafnað!AR7<Approach!$O$4*1.5),1,0))))","v":""},{"$f":"+IF(AND($H7=1,$I7=1),J7,#N/A)","v":{"$error":"#N/A"}},{"$f":"+IF(AND($H7=1,$I7=2),J7,#N/A)","v":{"$error":"#N/A"}},{"$f":"+IF(AND($H7=1,$I7=3),J7,#N/A)","v":{"$error":"#N/A"}},{"$f":"+IF(AND($H7=2,$I7=1),P7,#N/A)","v":{"$error":"#N/A"}},{"$f":"+IF(AND($H7=2,$I7=2),P7,#N/A)","v":{"$error":"#N/A"}},{"$f":"+IF(AND($H7=2,$I7=3),P7,#N/A)","v":0},{"$f":"+IF(AND($H7=3,$I7=1),V7,#N/A)","v":{"$error":"#N/A"}},{"$f":"+IF(AND($H7=3,$I7=2),V7,#N/A)","v":{"$error":"#N/A"}},{"$f":"+IF(AND($H7=3,$I7=3),V7,#N/A)","v":{"$error":"#N/A"}},{"$f":"+IF(AND($H7=4,$I7=1),AB7,#N/A)","v":{"$error":"#N/A"}},{"$f":"+IF(AND($H7=4,$I7=2),AB7,#N/A)","v":{"$error":"#N/A"}},{"$f":"+IF(AND($H7=4,$I7=3),AB7,#N/A)","v":{"$error":"#N/A"}},{"$f":"+IF(AND($H7=5,$I7=1),AH7,#N/A)","v":{"$error":"#N/A"}},{"$f":"+IF(AND($H7=5,$I7=2),AH7,#N/A)","v":{"$error":"#N/A"}},{"$f":"+IF(AND($H7=5,$I7=3),AH7,#N/A)","v":{"$error":"#N/A"}},{"$f":"+IF(AND($H7=6,$I7=1),AN7,#N/A)","v":{"$error":"#N/A"}},{"$f":"+IF(AND($H7=6,$I7=2),AN7,#N/A)","v":{"$error":"#N/A"}},{"$f":"+IF(AND($H7=6,$I7=3),AN7,#N/A)","v":{"$error":"#N/A"}},2,{"$f":"+IF(AND($H7=1,$I7=1),K7,#N/A)","v":{"$error":"#N/A"}},{"$f":"+IF(AND($H7=1,$I7=2),K7,#N/A)","v":{"$error":"#N/A"}},{"$f":"+IF(AND($H7=1,$I7=3),K7,#N/A)","v":{"$error":"#N/A"}},{"$f":"+IF(AND($H7=2,$I7=1),Q7,#N/A)","v":{"$error":"#N/A"}},{"$f":"+IF(AND($H72,$I7=2),Q7,#N/A)","v":{"$error":"#N/A"}},{"$f":"+IF(AND($H7=2,$I7=3),Q7,#N/A)","v":0},{"$f":"+IF(AND($H7=3,$I7=1),W7,#N/A)","v":{"$error":"#N/A"}},{"$f":"+IF(AND($H7=3,$I7=2),W7,#N/A)","v":{"$error":"#N/A"}},{"$f":"+IF(AND($H7=3,$I7=3),W7,#N/A)","v":{"$error":"#N/A"}},{"$f":"+IF(AND($H7=4,$I7=1),AC7,#N/A)","v":{"$error":"#N/A"}},{"$f":"+IF(AND($H7=4,$I7=2),AC7,#N/A)","v":{"$error":"#N/A"}},{"$f":"+IF(AND($H7=4,$I7=3),AC7,#N/A)","v":{"$error":"#N/A"}},{"$f":"+IF(AND($H7=5,$I7=1),AI7,#N/A)","v":{"$error":"#N/A"}},{"$f":"+IF(AND($H7=5,$I7=2),AI7,#N/A)","v":{"$error":"#N/A"}},{"$f":"+IF(AND($H7=5,$I7=3),AI7,#N/A)","v":{"$error":"#N/A"}},{"$f":"+IF(AND($H7=6,$I7=1),AO7,#N/A)","v":{"$error":"#N/A"}},{"$f":"+IF(AND($H7=6,$I7=2),AO7,#N/A)","v":{"$error":"#N/A"}},{"$f":"+IF(AND($H7=6,$I7=3),AO7,#N/A)","v":{"$error":"#N/A"}},{"$f":"HLOOKUP($CE$6,AT$6:BK$9304,$BL7)","v":0},{"$f":"+HLOOKUP($CE$6,BM$6:CD$9304,BL7)","v":0},{"$f":"+IFERROR(SQRT(+CE7^2+CF7^2),\"\")","v":0}]
[39975,null,null,null,null,null,null,2,3,{"$f":"IF($H8=1,$F8,#N/A)","v":{"$error":"#N/A"}},{"$f":"IF($H8=1,$G8,#N/A)","v":{"$error":"#N/A"}},{"$f":"+IF($I8=1,50,IF($I8=2,100,IF($I8=3,150)))","v":150},{"$f":"IFERROR(SQRT(ABS(J8)^2+ABS(K8)^2),\"\")","v":""},{"$f":"IFERROR(+M8/L8,\"\")","v":""},{"$f":"IF(N8=\"\",\"\",IF(N8<=Approach!$O$4/2,3,IF(AND(Uppsafnað!N8<Approach!$O$4,Uppsafnað!N8>=Approach!$O$4/2),2,IF(AND(N8>Approach!$O$4,Uppsafnað!N8<Approach!$O$4*1.5),1,0))))","v":""},{"$f":"IF($H8=2,$F8,#N/A)","v":0},{"$f":"IF($H8=2,$G8,#N/A)","v":0},{"$f":"+IF($I8=1,50,IF($I8=2,100,IF($I8=3,150)))","v":150},{"$f":"IFERROR(SQRT(ABS(P8)^2+ABS(Q8)^2),\"\")","v":0},{"$f":"IFERROR(+S8/R8,\"\")","v":0},{"$f":"IF(T8=\"\",\"\",IF(T8<=Approach!$O$4/2,3,IF(AND(Uppsafnað!$N$7<Approach!$O$4,Uppsafnað!$N$7>=Approach!$O$4/2),2,IF(AND(T8>Approach!$O$4,Uppsafnað!T8<Approach!$O$4*1.5),1,0))))","v":3},{"$f":"IF($H8=3,$F8,#N/A)","v":{"$error":"#N/A"}},{"$f":"IF($H8=3,$G8,#N/A)","v":{"$error":"#N/A"}},{"$f":"+IF($I8=1,50,IF($I8=2,100,IF($I8=3,150)))","v":150},{"$f":"IFERROR(SQRT(ABS(V8)^2+ABS(W8)^2),\"\")","v":""},{"$f":"IFERROR(+Y8/X8,\"\")","v":""},{"$f":"IF(Z8=\"\",\"\",IF(Z8<=Approach!$O$4/2,3,IF(AND(Uppsafnað!$N$7<Approach!$O$4,Uppsafnað!$N$7>=Approach!$O$4/2),2,IF(AND(Z8>Approach!$O$4,Uppsafnað!Z8<Approach!$O$4*1.5),1,0))))","v":""},{"$f":"IF($H8=4,$F8,#N/A)","v":{"$error":"#N/A"}},{"$f":"IF($H8=4,$G8,#N/A)","v":{"$error":"#N/A"}},{"$f":"+IF($I8=1,50,IF($I8=2,100,IF($I8=3,150)))","v":150},{"$f":"IFERROR(SQRT(ABS(AB8)^2+ABS(AC8)^2),\"\")","v":""},{"$f":"IFERROR(+AE8/AD8,\"\")","v":""},{"$f":"IF(AF8=\"\",\"\",IF(AF8<=Approach!$O$4/2,3,IF(AND(Uppsafnað!$N$7<Approach!$O$4,Uppsafnað!$N$7>=Approach!$O$4/2),2,IF(AND(AF8>Approach!$O$4,Uppsafnað!AF8<Approach!$O$4*1.5),1,0))))","v":""},{"$f":"IF($H8=5,$F8,#N/A)","v":{"$error":"#N/A"}},{"$f":"IF($H8=5,$G8,#N/A)","v":{"$error":"#N/A"}},{"$f":"+IF($I8=1,50,IF($I8=2,100,IF($I8=3,150)))","v":150},{"$f":"IFERROR(SQRT(ABS(AH8)^2+ABS(AI8)^2),\"\")","v":""},{"$f":"IFERROR(+AK8/AJ8,\"\")","v":""},{"$f":"IF(AL8=\"\",\"\",IF(AL8<=Approach!$O$4/2,3,IF(AND(Uppsafnað!$N$7<Approach!$O$4,Uppsafnað!$N$7>=Approach!$O$4/2),2,IF(AND(AL8>Approach!$O$4,Uppsafnað!AL8<Approach!$O$4*1.5),1,0))))","v":""},{"$f":"IF($H8=7,$F8,#N/A)","v":{"$error":"#N/A"}},{"$f":"IF($H8=7,$G8,#N/A)","v":{"$error":"#N/A"}},{"$f":"+IF($I8=1,50,IF($I8=2,100,IF($I8=3,150)))","v":150},{"$f":"IFERROR(SQRT(ABS(AN8)^2+ABS(AO8)^2),\"\")","v":""},{"$f":"IFERROR(+AQ8/AP8,\"\")","v":""},{"$f":"IF(AR8=\"\",\"\",IF(AR8<=Approach!$O$4/2,3,IF(AND(Uppsafnað!$N$7<Approach!$O$4,Uppsafnað!$N$7>=Approach!$O$4/2),2,IF(AND(AR8>Approach!$O$4,Uppsafnað!AR8<Approach!$O$4*1.5),1,0))))","v":""},{"$f":"+IF(AND($H8=1,$I8=1),J8,#N/A)","v":{"$error":"#N/A"}},{"$f":"+IF(AND($H8=1,$I8=2),J8,#N/A)","v":{"$error":"#N/A"}},{"$f":"+IF(AND($H8=1,$I8=3),J8,#N/A)","v":{"$error":"#N/A"}},{"$f":"+IF(AND($H8=2,$I8=1),P8,#N/A)","v":{"$error":"#N/A"}},{"$f":"+IF(AND($H8=2,$I8=2),P8,#N/A)","v":{"$error":"#N/A"}},{"$f":"+IF(AND($H8=2,$I8=3),P8,#N/A)","v":0},{"$f":"+IF(AND($H8=3,$I8=1),V8,#N/A)","v":{"$error":"#N/A"}},{"$f":"+IF(AND($H8=3,$I8=2),V8,#N/A)","v":{"$error":"#N/A"}},{"$f":"+IF(AND($H8=3,$I8=3),V8,#N/A)","v":{"$error":"#N/A"}},{"$f":"+IF(AND($H8=4,$I8=1),AB8,#N/A)","v":{"$error":"#N/A"}},{"$f":"+IF(AND($H8=4,$I8=2),AB8,#N/A)","v":{"$error":"#N/A"}},{"$f":"+IF(AND($H8=4,$I8=3),AB8,#N/A)","v":{"$error":"#N/A"}},{"$f":"+IF(AND($H8=5,$I8=1),AH8,#N/A)","v":{"$error":"#N/A"}},{"$f":"+IF(AND($H8=5,$I8=2),AH8,#N/A)","v":{"$error":"#N/A"}},{"$f":"+IF(AND($H8=5,$I8=3),AH8,#N/A)","v":{"$error":"#N/A"}},{"$f":"+IF(AND($H8=6,$I8=1),AN8,#N/A)","v":{"$error":"#N/A"}},{"$f":"+IF(AND($H8=6,$I8=2),AN8,#N/A)","v":{"$error":"#N/A"}},{"$f":"+IF(AND($H8=6,$I8=3),AN8,#N/A)","v":{"$error":"#N/A"}},3,{"$f":"+IF(AND($H8=1,$I8=1),K8,#N/A)","v":{"$error":"#N/A"}},{"$f":"+IF(AND($H8=1,$I8=2),K8,#N/A)","v":{"$error":"#N/A"}},{"$f":"+IF(AND($H8=1,$I8=3),K8,#N/A)","v":{"$error":"#N/A"}},{"$f":"+IF(AND($H8=2,$I8=1),Q8,#N/A)","v":{"$error":"#N/A"}},{"$f":"+IF(AND($H73,$I8=2),Q8,#N/A)","v":{"$error":"#N/A"}},{"$f":"+IF(AND($H8=2,$I8=3),Q8,#N/A)","v":0},{"$f":"+IF(AND($H8=3,$I8=1),W8,#N/A)","v":{"$error":"#N/A"}},{"$f":"+IF(AND($H8=3,$I8=2),W8,#N/A)","v":{"$error":"#N/A"}},{"$f":"+IF(AND($H8=3,$I8=3),W8,#N/A)","v":{"$error":"#N/A"}},{"$f":"+IF(AND($H8=4,$I8=1),AC8,#N/A)","v":{"$error":"#N/A"}},{"$f":"+IF(AND($H8=4,$I8=2),AC8,#N/A)","v":{"$error":"#N/A"}},{"$f":"+IF(AND($H8=4,$I8=3),AC8,#N/A)","v":{"$error":"#N/A"}},{"$f":"+IF(AND($H8=5,$I8=1),AI8,#N/A)","v":{"$error":"#N/A"}},{"$f":"+IF(AND($H8=5,$I8=2),AI8,#N/A)","v":{"$error":"#N/A"}},{"$f":"+IF(AND($H8=5,$I8=3),AI8,#N/A)","v":{"$error":"#N/A"}},{"$f":"+IF(AND($H8=6,$I8=1),AO8,#N/A)","v":{"$error":"#N/A"}},{"$f":"+IF(AND($H8=6,$I8=2),AO8,#N/A)","v":{"$error":"#N/A"}},{"$f":"+IF(AND($H8=6,$I8=3),AO8,#N/A)","v":{"$error":"#N/A"}},0,0,{"$f":"+IFERROR(SQRT(+CE8^2+CF8^2),\"\")","v":0}]
[39975,null,null,null,null,null,null,2,3,{"$error":"#N/A"},{"$error":"#N/A"},150,"","",{"$f":"IF(N9=\"\",\"\",IF(N9<=Approach!$O$4/2,3,IF(AND(Uppsafnað!N9<Approach!$O$4,Uppsafnað!N9>=Approach!$O$4/2),2,IF(AND(N9>Approach!$O$4,Uppsafnað!N9<Approach!$O$4*1.5),1,0))))","v":""},0,0,150,0,0,{"$f":"IF(T9=\"\",\"\",IF(T9<=Approach!$O$4/2,3,IF(AND(Uppsafnað!$N$7<Approach!$O$4,Uppsafnað!$N$7>=Approach!$O$4/2),2,IF(AND(T9>Approach!$O$4,Uppsafnað!T9<Approach!$O$4*1.5),1,0))))","v":3},{"$error":"#N/A"},{"$error":"#N/A"},150,"","",{"$f":"IF(Z9=\"\",\"\",IF(Z9<=Approach!$O$4/2,3,IF(AND(Uppsafnað!$N$7<Approach!$O$4,Uppsafnað!$N$7>=Approach!$O$4/2),2,IF(AND(Z9>Approach!$O$4,Uppsafnað!Z9<Approach!$O$4*1.5),1,0))))","v":""},{"$error":"#N/A"},{"$error":"#N/A"},150,"","",{"$f":"IF(AF9=\"\",\"\",IF(AF9<=Approach!$O$4/2,3,IF(AND(Uppsafnað!$N$7<Approach!$O$4,Uppsafnað!$N$7>=Approach!$O$4/2),2,IF(AND(AF9>Approach!$O$4,Uppsafnað!AF9<Approach!$O$4*1.5),1,0))))","v":""},{"$error":"#N/A"},{"$error":"#N/A"},150,"","",{"$f":"IF(AL9=\"\",\"\",IF(AL9<=Approach!$O$4/2,3,IF(AND(Uppsafnað!$N$7<Approach!$O$4,Uppsafnað!$N$7>=Approach!$O$4/2),2,IF(AND(AL9>Approach!$O$4,Uppsafnað!AL9<Approach!$O$4*1.5),1,0))))","v":""},{"$error":"#N/A"},{"$error":"#N/A"},150,"","",{"$f":"IF(AR9=\"\",\"\",IF(AR9<=Approach!$O$4/2,3,IF(AND(Uppsafnað!$N$7<Approach!$O$4,Uppsafnað!$N$7>=Approach!$O$4/2),2,IF(AND(AR9>Approach!$O$4,Uppsafnað!AR9<Approach!$O$4*1.5),1,0))))","v":""},{"$error":"#N/A"},{"$error":"#N/A"},{"$error":"#N/A"},{"$error":"#N/A"},{"$error":"#N/A"},0,{"$error":"#N/A"},{"$error":"#N/A"},{"$error":"#N/A"},{"$error":"#N/A"},{"$error":"#N/A"},{"$error":"#N/A"},{"$error":"#N/A"},{"$error":"#N/A"},{"$error":"#N/A"},{"$error":"#N/A"},{"$error":"#N/A"},{"$error":"#N/A"},4,{"$error":"#N/A"},{"$error":"#N/A"},{"$error":"#N/A"},{"$error":"#N/A"},{"$error":"#N/A"},0,{"$error":"#N/A"},{"$error":"#N/A"},{"$error":"#N/A"},{"$error":"#N/A"},{"$error":"#N/A"},{"$error":"#N/A"},{"$error":"#N/A"},{"$error":"#N/A"},{"$error":"#N/A"},{"$error":"#N/A"},{"$error":"#N/A"},{"$error":"#N/A"},0,0,0]
[39975,null,null,null,null,null,null,2,3,{"$error":"#N/A"},{"$error":"#N/A"},150,"","",{"$f":"IF(N10=\"\",\"\",IF(N10<=Approach!$O$4/2,3,IF(AND(Uppsafnað!N10<Approach!$O$4,Uppsafnað!N10>=Approach!$O$4/2),2,IF(AND(N10>Approach!$O$4,Uppsafnað!N10<Approach!$O$4*1.5),1,0))))","v":""},0,0,150,0,0,{"$f":"IF(T10=\"\",\"\",IF(T10<=Approach!$O$4/2,3,IF(AND(Uppsafnað!$N$7<Approach!$O$4,Uppsafnað!$N$7>=Approach!$O$4/2),2,IF(AND(T10>Approach!$O$4,Uppsafnað!T10<Approach!$O$4*1.5),1,0))))","v":3},{"$error":"#N/A"},{"$error":"#N/A"},150,"","",{"$f":"IF(Z10=\"\",\"\",IF(Z10<=Approach!$O$4/2,3,IF(AND(Uppsafnað!$N$7<Approach!$O$4,Uppsafnað!$N$7>=Approach!$O$4/2),2,IF(AND(Z10>Approach!$O$4,Uppsafnað!Z10<Approach!$O$4*1.5),1,0))))","v":""},{"$error":"#N/A"},{"$error":"#N/A"},150,"","",{"$f":"IF(AF10=\"\",\"\",IF(AF10<=Approach!$O$4/2,3,IF(AND(Uppsafnað!$N$7<Approach!$O$4,Uppsafnað!$N$7>=Approach!$O$4/2),2,IF(AND(AF10>Approach!$O$4,Uppsafnað!AF10<Approach!$O$4*1.5),1,0))))","v":""},{"$error":"#N/A"},{"$error":"#N/A"},150,"","",{"$f":"IF(AL10=\"\",\"\",IF(AL10<=Approach!$O$4/2,3,IF(AND(Uppsafnað!$N$7<Approach!$O$4,Uppsafnað!$N$7>=Approach!$O$4/2),2,IF(AND(AL10>Approach!$O$4,Uppsafnað!AL10<Approach!$O$4*1.5),1,0))))","v":""},{"$error":"#N/A"},{"$error":"#N/A"},150,"","",{"$f":"IF(AR10=\"\",\"\",IF(AR10<=Approach!$O$4/2,3,IF(AND(Uppsafnað!$N$7<Approach!$O$4,Uppsafnað!$N$7>=Approach!$O$4/2),2,IF(AND(AR10>Approach!$O$4,Uppsafnað!AR10<Approach!$O$4*1.5),1,0))))","v":""},{"$error":"#N/A"},{"$error":"#N/A"},{"$error":"#N/A"},{"$error":"#N/A"},{"$error":"#N/A"},0,{"$error":"#N/A"},{"$error":"#N/A"},{"$error":"#N/A"},{"$error":"#N/A"},{"$error":"#N/A"},{"$error":"#N/A"},{"$error":"#N/A"},{"$error":"#N/A"},{"$error":"#N/A"},{"$error":"#N/A"},{"$error":"#N/A"},{"$error":"#N/A"},5,{"$error":"#N/A"},{"$error":"#N/A"},{"$error":"#N/A"},{"$error":"#N/A"},{"$error":"#N/A"},0,{"$error":"#N/A"},{"$error":"#N/A"},{"$error":"#N/A"},{"$error":"#N/A"},{"$error":"#N/A"},{"$error":"#N/A"},{"$error":"#N/A"},{"$error":"#N/A"},{"$error":"#N/A"},{"$error":"#N/A"},{"$error":"#N/A"},{"$error":"#N/A"},0,0,0]
[39975,null,null,null,null,null,null,2,3,{"$error":"#N/A"},{"$error":"#N/A"},150,"","",{"$f":"IF(N11=\"\",\"\",IF(N11<=Approach!$O$4/2,3,IF(AND(Uppsafnað!N11<Approach!$O$4,Uppsafnað!N11>=Approach!$O$4/2),2,IF(AND(N11>Approach!$O$4,Uppsafnað!N11<Approach!$O$4*1.5),1,0))))","v":""},0,0,150,0,0,{"$f":"IF(T11=\"\",\"\",IF(T11<=Approach!$O$4/2,3,IF(AND(Uppsafnað!$N$7<Approach!$O$4,Uppsafnað!$N$7>=Approach!$O$4/2),2,IF(AND(T11>Approach!$O$4,Uppsafnað!T11<Approach!$O$4*1.5),1,0))))","v":3},{"$error":"#N/A"},{"$error":"#N/A"},150,"","",{"$f":"IF(Z11=\"\",\"\",IF(Z11<=Approach!$O$4/2,3,IF(AND(Uppsafnað!$N$7<Approach!$O$4,Uppsafnað!$N$7>=Approach!$O$4/2),2,IF(AND(Z11>Approach!$O$4,Uppsafnað!Z11<Approach!$O$4*1.5),1,0))))","v":""},{"$error":"#N/A"},{"$error":"#N/A"},150,"","",{"$f":"IF(AF11=\"\",\"\",IF(AF11<=Approach!$O$4/2,3,IF(AND(Uppsafnað!$N$7<Approach!$O$4,Uppsafnað!$N$7>=Approach!$O$4/2),2,IF(AND(AF11>Approach!$O$4,Uppsafnað!AF11<Approach!$O$4*1.5),1,0))))","v":""},{"$error":"#N/A"},{"$error":"#N/A"},150,"","",{"$f":"IF(AL11=\"\",\"\",IF(AL11<=Approach!$O$4/2,3,IF(AND(Uppsafnað!$N$7<Approach!$O$4,Uppsafnað!$N$7>=Approach!$O$4/2),2,IF(AND(AL11>Approach!$O$4,Uppsafnað!AL11<Approach!$O$4*1.5),1,0))))","v":""},{"$error":"#N/A"},{"$error":"#N/A"},150,"","",{"$f":"IF(AR11=\"\",\"\",IF(AR11<=Approach!$O$4/2,3,IF(AND(Uppsafnað!$N$7<Approach!$O$4,Uppsafnað!$N$7>=Approach!$O$4/2),2,IF(AND(AR11>Approach!$O$4,Uppsafnað!AR11<Approach!$O$4*1.5),1,0))))","v":""},{"$error":"#N/A"},{"$error":"#N/A"},{"$error":"#N/A"},{"$error":"#N/A"},{"$error":"#N/A"},0,{"$error":"#N/A"},{"$error":"#N/A"},{"$error":"#N/A"},{"$error":"#N/A"},{"$error":"#N/A"},{"$error":"#N/A"},{"$error":"#N/A"},{"$error":"#N/A"},{"$error":"#N/A"},{"$error":"#N/A"},{"$error":"#N/A"},{"$error":"#N/A"},6,{"$error":"#N/A"},{"$error":"#N/A"},{"$error":"#N/A"},{"$error":"#N/A"},{"$error":"#N/A"},0,{"$error":"#N/A"},{"$error":"#N/A"},{"$error":"#N/A"},{"$error":"#N/A"},{"$error":"#N/A"},{"$error":"#N/A"},{"$error":"#N/A"},{"$error":"#N/A"},{"$error":"#N/A"},{"$error":"#N/A"},{"$error":"#N/A"},{"$error":"#N/A"},0,0,0]
[39975,null,null,null,null,null,null,2,3,{"$error":"#N/A"},{"$error":"#N/A"},150,"","",{"$f":"IF(N12=\"\",\"\",IF(N12<=Approach!$O$4/2,3,IF(AND(Uppsafnað!N12<Approach!$O$4,Uppsafnað!N12>=Approach!$O$4/2),2,IF(AND(N12>Approach!$O$4,Uppsafnað!N12<Approach!$O$4*1.5),1,0))))","v":""},0,0,150,0,0,{"$f":"IF(T12=\"\",\"\",IF(T12<=Approach!$O$4/2,3,IF(AND(Uppsafnað!$N$7<Approach!$O$4,Uppsafnað!$N$7>=Approach!$O$4/2),2,IF(AND(T12>Approach!$O$4,Uppsafnað!T12<Approach!$O$4*1.5),1,0))))","v":3},{"$error":"#N/A"},{"$error":"#N/A"},150,"","",{"$f":"IF(Z12=\"\",\"\",IF(Z12<=Approach!$O$4/2,3,IF(AND(Uppsafnað!$N$7<Approach!$O$4,Uppsafnað!$N$7>=Approach!$O$4/2),2,IF(AND(Z12>Approach!$O$4,Uppsafnað!Z12<Approach!$O$4*1.5),1,0))))","v":""},{"$error":"#N/A"},{"$error":"#N/A"},150,"","",{"$f":"IF(AF12=\"\",\"\",IF(AF12<=Approach!$O$4/2,3,IF(AND(Uppsafnað!$N$7<Approach!$O$4,Uppsafnað!$N$7>=Approach!$O$4/2),2,IF(AND(AF12>Approach!$O$4,Uppsafnað!AF12<Approach!$O$4*1.5),1,0))))","v":""},{"$error":"#N/A"},{"$error":"#N/A"},150,"","",{"$f":"IF(AL12=\"\",\"\",IF(AL12<=Approach!$O$4/2,3,IF(AND(Uppsafnað!$N$7<Approach!$O$4,Uppsafnað!$N$7>=Approach!$O$4/2),2,IF(AND(AL12>Approach!$O$4,Uppsafnað!AL12<Approach!$O$4*1.5),1,0))))","v":""},{"$error":"#N/A"},{"$error":"#N/A"},150,"","",{"$f":"IF(AR12=\"\",\"\",IF(AR12<=Approach!$O$4/2,3,IF(AND(Uppsafnað!$N$7<Approach!$O$4,Uppsafnað!$N$7>=Approach!$O$4/2),2,IF(AND(AR12>Approach!$O$4,Uppsafnað!AR12<Approach!$O$4*1.5),1,0))))","v":""},{"$error":"#N/A"},{"$error":"#N/A"},{"$error":"#N/A"},{"$error":"#N/A"},{"$error":"#N/A"},0,{"$error":"#N/A"},{"$error":"#N/A"},{"$error":"#N/A"},{"$error":"#N/A"},{"$error":"#N/A"},{"$error":"#N/A"},{"$error":"#N/A"},{"$error":"#N/A"},{"$error":"#N/A"},{"$error":"#N/A"},{"$error":"#N/A"},{"$error":"#N/A"},7,{"$error":"#N/A"},{"$error":"#N/A"},{"$error":"#N/A"},{"$error":"#N/A"},{"$error":"#N/A"},0,{"$error":"#N/A"},{"$error":"#N/A"},{"$error":"#N/A"},{"$error":"#N/A"},{"$error":"#N/A"},{"$error":"#N/A"},{"$error":"#N/A"},{"$error":"#N/A"},{"$error":"#N/A"},{"$error":"#N/A"},{"$error":"#N/A"},{"$error":"#N/A"},0,0,0]
[39975,null,null,null,null,null,null,2,3,{"$error":"#N/A"},{"$error":"#N/A"},150,"","",{"$f":"IF(N13=\"\",\"\",IF(N13<=Approach!$O$4/2,3,IF(AND(Uppsafnað!N13<Approach!$O$4,Uppsafnað!N13>=Approach!$O$4/2),2,IF(AND(N13>Approach!$O$4,Uppsafnað!N13<Approach!$O$4*1.5),1,0))))","v":""},0,0,150,0,0,{"$f":"IF(T13=\"\",\"\",IF(T13<=Approach!$O$4/2,3,IF(AND(Uppsafnað!$N$7<Approach!$O$4,Uppsafnað!$N$7>=Approach!$O$4/2),2,IF(AND(T13>Approach!$O$4,Uppsafnað!T13<Approach!$O$4*1.5),1,0))))","v":3},{"$error":"#N/A"},{"$error":"#N/A"},150,"","",{"$f":"IF(Z13=\"\",\"\",IF(Z13<=Approach!$O$4/2,3,IF(AND(Uppsafnað!$N$7<Approach!$O$4,Uppsafnað!$N$7>=Approach!$O$4/2),2,IF(AND(Z13>Approach!$O$4,Uppsafnað!Z13<Approach!$O$4*1.5),1,0))))","v":""},{"$error":"#N/A"},{"$error":"#N/A"},150,"","",{"$f":"IF(AF13=\"\",\"\",IF(AF13<=Approach!$O$4/2,3,IF(AND(Uppsafnað!$N$7<Approach!$O$4,Uppsafnað!$N$7>=Approach!$O$4/2),2,IF(AND(AF13>Approach!$O$4,Uppsafnað!AF13<Approach!$O$4*1.5),1,0))))","v":""},{"$error":"#N/A"},{"$error":"#N/A"},150,"","",{"$f":"IF(AL13=\"\",\"\",IF(AL13<=Approach!$O$4/2,3,IF(AND(Uppsafnað!$N$7<Approach!$O$4,Uppsafnað!$N$7>=Approach!$O$4/2),2,IF(AND(AL13>Approach!$O$4,Uppsafnað!AL13<Approach!$O$4*1.5),1,0))))","v":""},{"$error":"#N/A"},{"$error":"#N/A"},150,"","",{"$f":"IF(AR13=\"\",\"\",IF(AR13<=Approach!$O$4/2,3,IF(AND(Uppsafnað!$N$7<Approach!$O$4,Uppsafnað!$N$7>=Approach!$O$4/2),2,IF(AND(AR13>Approach!$O$4,Uppsafnað!AR13<Approach!$O$4*1.5),1,0))))","v":""},{"$error":"#N/A"},{"$error":"#N/A"},{"$error":"#N/A"},{"$error":"#N/A"},{"$error":"#N/A"},0,{"$error":"#N/A"},{"$error":"#N/A"},{"$error":"#N/A"},{"$error":"#N/A"},{"$error":"#N/A"},{"$error":"#N/A"},{"$error":"#N/A"},{"$error":"#N/A"},{"$error":"#N/A"},{"$error":"#N/A"},{"$error":"#N/A"},{"$error":"#N/A"},8,{"$error":"#N/A"},{"$error":"#N/A"},{"$error":"#N/A"},{"$error":"#N/A"},{"$error":"#N/A"},0,{"$error":"#N/A"},{"$error":"#N/A"},{"$error":"#N/A"},{"$error":"#N/A"},{"$error":"#N/A"},{"$error":"#N/A"},{"$error":"#N/A"},{"$error":"#N/A"},{"$error":"#N/A"},{"$error":"#N/A"},{"$error":"#N/A"},{"$error":"#N/A"},0,0,0]
[39975,null,null,null,null,null,null,2,3,{"$error":"#N/A"},{"$error":"#N/A"},150,"","",{"$f":"IF(N14=\"\",\"\",IF(N14<=Approach!$O$4/2,3,IF(AND(Uppsafnað!N14<Approach!$O$4,Uppsafnað!N14>=Approach!$O$4/2),2,IF(AND(N14>Approach!$O$4,Uppsafnað!N14<Approach!$O$4*1.5),1,0))))","v":""},0,0,150,0,0,{"$f":"IF(T14=\"\",\"\",IF(T14<=Approach!$O$4/2,3,IF(AND(Uppsafnað!$N$7<Approach!$O$4,Uppsafnað!$N$7>=Approach!$O$4/2),2,IF(AND(T14>Approach!$O$4,Uppsafnað!T14<Approach!$O$4*1.5),1,0))))","v":3},{"$error":"#N/A"},{"$error":"#N/A"},150,"","",{"$f":"IF(Z14=\"\",\"\",IF(Z14<=Approach!$O$4/2,3,IF(AND(Uppsafnað!$N$7<Approach!$O$4,Uppsafnað!$N$7>=Approach!$O$4/2),2,IF(AND(Z14>Approach!$O$4,Uppsafnað!Z14<Approach!$O$4*1.5),1,0))))","v":""},{"$error":"#N/A"},{"$error":"#N/A"},150,"","",{"$f":"IF(AF14=\"\",\"\",IF(AF14<=Approach!$O$4/2,3,IF(AND(Uppsafnað!$N$7<Approach!$O$4,Uppsafnað!$N$7>=Approach!$O$4/2),2,IF(AND(AF14>Approach!$O$4,Uppsafnað!AF14<Approach!$O$4*1.5),1,0))))","v":""},{"$error":"#N/A"},{"$error":"#N/A"},150,"","",{"$f":"IF(AL14=\"\",\"\",IF(AL14<=Approach!$O$4/2,3,IF(AND(Uppsafnað!$N$7<Approach!$O$4,Uppsafnað!$N$7>=Approach!$O$4/2),2,IF(AND(AL14>Approach!$O$4,Uppsafnað!AL14<Approach!$O$4*1.5),1,0))))","v":""},{"$error":"#N/A"},{"$error":"#N/A"},150,"","",{"$f":"IF(AR14=\"\",\"\",IF(AR14<=Approach!$O$4/2,3,IF(AND(Uppsafnað!$N$7<Approach!$O$4,Uppsafnað!$N$7>=Approach!$O$4/2),2,IF(AND(AR14>Approach!$O$4,Uppsafnað!AR14<Approach!$O$4*1.5),1,0))))","v":""},{"$error":"#N/A"},{"$error":"#N/A"},{"$error":"#N/A"},{"$error":"#N/A"},{"$error":"#N/A"},0,{"$error":"#N/A"},{"$error":"#N/A"},{"$error":"#N/A"},{"$error":"#N/A"},{"$error":"#N/A"},{"$error":"#N/A"},{"$error":"#N/A"},{"$error":"#N/A"},{"$error":"#N/A"},{"$error":"#N/A"},{"$error":"#N/A"},{"$error":"#N/A"},9,{"$error":"#N/A"},{"$error":"#N/A"},{"$error":"#N/A"},{"$error":"#N/A"},{"$error":"#N/A"},0,{"$error":"#N/A"},{"$error":"#N/A"},{"$error":"#N/A"},{"$error":"#N/A"},{"$error":"#N/A"},{"$error":"#N/A"},{"$error":"#N/A"},{"$error":"#N/A"},{"$error":"#N/A"},{"$error":"#N/A"},{"$error":"#N/A"},{"$error":"#N/A"},0,0,0]
[39975,null,null,null,null,null,null,2,3,{"$error":"#N/A"},{"$error":"#N/A"},150,"","",{"$f":"IF(N15=\"\",\"\",IF(N15<=Approach!$O$4/2,3,IF(AND(Uppsafnað!N15<Approach!$O$4,Uppsafnað!N15>=Approach!$O$4/2),2,IF(AND(N15>Approach!$O$4,Uppsafnað!N15<Approach!$O$4*1.5),1,0))))","v":""},0,0,150,0,0,{"$f":"IF(T15=\"\",\"\",IF(T15<=Approach!$O$4/2,3,IF(AND(Uppsafnað!$N$7<Approach!$O$4,Uppsafnað!$N$7>=Approach!$O$4/2),2,IF(AND(T15>Approach!$O$4,Uppsafnað!T15<Approach!$O$4*1.5),1,0))))","v":3},{"$error":"#N/A"},{"$error":"#N/A"},150,"","",{"$f":"IF(Z15=\"\",\"\",IF(Z15<=Approach!$O$4/2,3,IF(AND(Uppsafnað!$N$7<Approach!$O$4,Uppsafnað!$N$7>=Approach!$O$4/2),2,IF(AND(Z15>Approach!$O$4,Uppsafnað!Z15<Approach!$O$4*1.5),1,0))))","v":""},{"$error":"#N/A"},{"$error":"#N/A"},150,"","",{"$f":"IF(AF15=\"\",\"\",IF(AF15<=Approach!$O$4/2,3,IF(AND(Uppsafnað!$N$7<Approach!$O$4,Uppsafnað!$N$7>=Approach!$O$4/2),2,IF(AND(AF15>Approach!$O$4,Uppsafnað!AF15<Approach!$O$4*1.5),1,0))))","v":""},{"$error":"#N/A"},{"$error":"#N/A"},150,"","",{"$f":"IF(AL15=\"\",\"\",IF(AL15<=Approach!$O$4/2,3,IF(AND(Uppsafnað!$N$7<Approach!$O$4,Uppsafnað!$N$7>=Approach!$O$4/2),2,IF(AND(AL15>Approach!$O$4,Uppsafnað!AL15<Approach!$O$4*1.5),1,0))))","v":""},{"$error":"#N/A"},{"$error":"#N/A"},150,"","",{"$f":"IF(AR15=\"\",\"\",IF(AR15<=Approach!$O$4/2,3,IF(AND(Uppsafnað!$N$7<Approach!$O$4,Uppsafnað!$N$7>=Approach!$O$4/2),2,IF(AND(AR15>Approach!$O$4,Uppsafnað!AR15<Approach!$O$4*1.5),1,0))))","v":""},{"$error":"#N/A"},{"$error":"#N/A"},{"$error":"#N/A"},{"$error":"#N/A"},{"$error":"#N/A"},0,{"$error":"#N/A"},{"$error":"#N/A"},{"$error":"#N/A"},{"$error":"#N/A"},{"$error":"#N/A"},{"$error":"#N/A"},{"$error":"#N/A"},{"$error":"#N/A"},{"$error":"#N/A"},{"$error":"#N/A"},{"$error":"#N/A"},{"$error":"#N/A"},10,{"$error":"#N/A"},{"$error":"#N/A"},{"$error":"#N/A"},{"$error":"#N/A"},{"$error":"#N/A"},0,{"$error":"#N/A"},{"$error":"#N/A"},{"$error":"#N/A"},{"$error":"#N/A"},{"$error":"#N/A"},{"$error":"#N/A"},{"$error":"#N/A"},{"$error":"#N/A"},{"$error":"#N/A"},{"$error":"#N/A"},{"$error":"#N/A"},{"$error":"#N/A"},0,0,0]
[39975,null,null,null,null,null,null,2,3,{"$error":"#N/A"},{"$error":"#N/A"},150,"","",{"$f":"IF(N16=\"\",\"\",IF(N16<=Approach!$O$4/2,3,IF(AND(Uppsafnað!N16<Approach!$O$4,Uppsafnað!N16>=Approach!$O$4/2),2,IF(AND(N16>Approach!$O$4,Uppsafnað!N16<Approach!$O$4*1.5),1,0))))","v":""},0,0,150,0,0,{"$f":"IF(T16=\"\",\"\",IF(T16<=Approach!$O$4/2,3,IF(AND(Uppsafnað!$N$7<Approach!$O$4,Uppsafnað!$N$7>=Approach!$O$4/2),2,IF(AND(T16>Approach!$O$4,Uppsafnað!T16<Approach!$O$4*1.5),1,0))))","v":3},{"$error":"#N/A"},{"$error":"#N/A"},150,"","",{"$f":"IF(Z16=\"\",\"\",IF(Z16<=Approach!$O$4/2,3,IF(AND(Uppsafnað!$N$7<Approach!$O$4,Uppsafnað!$N$7>=Approach!$O$4/2),2,IF(AND(Z16>Approach!$O$4,Uppsafnað!Z16<Approach!$O$4*1.5),1,0))))","v":""},{"$error":"#N/A"},{"$error":"#N/A"},150,"","",{"$f":"IF(AF16=\"\",\"\",IF(AF16<=Approach!$O$4/2,3,IF(AND(Uppsafnað!$N$7<Approach!$O$4,Uppsafnað!$N$7>=Approach!$O$4/2),2,IF(AND(AF16>Approach!$O$4,Uppsafnað!AF16<Approach!$O$4*1.5),1,0))))","v":""},{"$error":"#N/A"},{"$error":"#N/A"},150,"","",{"$f":"IF(AL16=\"\",\"\",IF(AL16<=Approach!$O$4/2,3,IF(AND(Uppsafnað!$N$7<Approach!$O$4,Uppsafnað!$N$7>=Approach!$O$4/2),2,IF(AND(AL16>Approach!$O$4,Uppsafnað!AL16<Approach!$O$4*1.5),1,0))))","v":""},{"$error":"#N/A"},{"$error":"#N/A"},150,"","",{"$f":"IF(AR16=\"\",\"\",IF(AR16<=Approach!$O$4/2,3,IF(AND(Uppsafnað!$N$7<Approach!$O$4,Uppsafnað!$N$7>=Approach!$O$4/2),2,IF(AND(AR16>Approach!$O$4,Uppsafnað!AR16<Approach!$O$4*1.5),1,0))))","v":""},{"$error":"#N/A"},{"$error":"#N/A"},{"$error":"#N/A"},{"$error":"#N/A"},{"$error":"#N/A"},0,{"$error":"#N/A"},{"$error":"#N/A"},{"$error":"#N/A"},{"$error":"#N/A"},{"$error":"#N/A"},{"$error":"#N/A"},{"$error":"#N/A"},{"$error":"#N/A"},{"$error":"#N/A"},{"$error":"#N/A"},{"$error":"#N/A"},{"$error":"#N/A"},11,{"$error":"#N/A"},{"$error":"#N/A"},{"$error":"#N/A"},{"$error":"#N/A"},{"$error":"#N/A"},0,{"$error":"#N/A"},{"$error":"#N/A"},{"$error":"#N/A"},{"$error":"#N/A"},{"$error":"#N/A"},{"$error":"#N/A"},{"$error":"#N/A"},{"$error":"#N/A"},{"$error":"#N/A"},{"$error":"#N/A"},{"$error":"#N/A"},{"$error":"#N/A"},0,0,0]
[39975,null,null,null,null,null,null,2,3,{"$error":"#N/A"},{"$error":"#N/A"},150,"","",{"$f":"IF(N17=\"\",\"\",IF(N17<=Approach!$O$4/2,3,IF(AND(Uppsafnað!N17<Approach!$O$4,Uppsafnað!N17>=Approach!$O$4/2),2,IF(AND(N17>Approach!$O$4,Uppsafnað!N17<Approach!$O$4*1.5),1,0))))","v":""},0,0,150,0,0,{"$f":"IF(T17=\"\",\"\",IF(T17<=Approach!$O$4/2,3,IF(AND(Uppsafnað!$N$7<Approach!$O$4,Uppsafnað!$N$7>=Approach!$O$4/2),2,IF(AND(T17>Approach!$O$4,Uppsafnað!T17<Approach!$O$4*1.5),1,0))))","v":3},{"$error":"#N/A"},{"$error":"#N/A"},150,"","",{"$f":"IF(Z17=\"\",\"\",IF(Z17<=Approach!$O$4/2,3,IF(AND(Uppsafnað!$N$7<Approach!$O$4,Uppsafnað!$N$7>=Approach!$O$4/2),2,IF(AND(Z17>Approach!$O$4,Uppsafnað!Z17<Approach!$O$4*1.5),1,0))))","v":""},{"$error":"#N/A"},{"$error":"#N/A"},150,"","",{"$f":"IF(AF17=\"\",\"\",IF(AF17<=Approach!$O$4/2,3,IF(AND(Uppsafnað!$N$7<Approach!$O$4,Uppsafnað!$N$7>=Approach!$O$4/2),2,IF(AND(AF17>Approach!$O$4,Uppsafnað!AF17<Approach!$O$4*1.5),1,0))))","v":""},{"$error":"#N/A"},{"$error":"#N/A"},150,"","",{"$f":"IF(AL17=\"\",\"\",IF(AL17<=Approach!$O$4/2,3,IF(AND(Uppsafnað!$N$7<Approach!$O$4,Uppsafnað!$N$7>=Approach!$O$4/2),2,IF(AND(AL17>Approach!$O$4,Uppsafnað!AL17<Approach!$O$4*1.5),1,0))))","v":""},{"$error":"#N/A"},{"$error":"#N/A"},150,"","",{"$f":"IF(AR17=\"\",\"\",IF(AR17<=Approach!$O$4/2,3,IF(AND(Uppsafnað!$N$7<Approach!$O$4,Uppsafnað!$N$7>=Approach!$O$4/2),2,IF(AND(AR17>Approach!$O$4,Uppsafnað!AR17<Approach!$O$4*1.5),1,0))))","v":""},{"$error":"#N/A"},{"$error":"#N/A"},{"$error":"#N/A"},{"$error":"#N/A"},{"$error":"#N/A"},0,{"$error":"#N/A"},{"$error":"#N/A"},{"$error":"#N/A"},{"$error":"#N/A"},{"$error":"#N/A"},{"$error":"#N/A"},{"$error":"#N/A"},{"$error":"#N/A"},{"$error":"#N/A"},{"$error":"#N/A"},{"$error":"#N/A"},{"$error":"#N/A"},12,{"$error":"#N/A"},{"$error":"#N/A"},{"$error":"#N/A"},{"$error":"#N/A"},{"$error":"#N/A"},0,{"$error":"#N/A"},{"$error":"#N/A"},{"$error":"#N/A"},{"$error":"#N/A"},{"$error":"#N/A"},{"$error":"#N/A"},{"$error":"#N/A"},{"$error":"#N/A"},{"$error":"#N/A"},{"$error":"#N/A"},{"$error":"#N/A"},{"$error":"#N/A"},0,0,0]
[39975,null,null,null,null,null,null,2,3,{"$error":"#N/A"},{"$error":"#N/A"},150,"","",{"$f":"IF(N18=\"\",\"\",IF(N18<=Approach!$O$4/2,3,IF(AND(Uppsafnað!N18<Approach!$O$4,Uppsafnað!N18>=Approach!$O$4/2),2,IF(AND(N18>Approach!$O$4,Uppsafnað!N18<Approach!$O$4*1.5),1,0))))","v":""},0,0,150,0,0,{"$f":"IF(T18=\"\",\"\",IF(T18<=Approach!$O$4/2,3,IF(AND(Uppsafnað!$N$7<Approach!$O$4,Uppsafnað!$N$7>=Approach!$O$4/2),2,IF(AND(T18>Approach!$O$4,Uppsafnað!T18<Approach!$O$4*1.5),1,0))))","v":3},{"$error":"#N/A"},{"$error":"#N/A"},150,"","",{"$f":"IF(Z18=\"\",\"\",IF(Z18<=Approach!$O$4/2,3,IF(AND(Uppsafnað!$N$7<Approach!$O$4,Uppsafnað!$N$7>=Approach!$O$4/2),2,IF(AND(Z18>Approach!$O$4,Uppsafnað!Z18<Approach!$O$4*1.5),1,0))))","v":""},{"$error":"#N/A"},{"$error":"#N/A"},150,"","",{"$f":"IF(AF18=\"\",\"\",IF(AF18<=Approach!$O$4/2,3,IF(AND(Uppsafnað!$N$7<Approach!$O$4,Uppsafnað!$N$7>=Approach!$O$4/2),2,IF(AND(AF18>Approach!$O$4,Uppsafnað!AF18<Approach!$O$4*1.5),1,0))))","v":""},{"$error":"#N/A"},{"$error":"#N/A"},150,"","",{"$f":"IF(AL18=\"\",\"\",IF(AL18<=Approach!$O$4/2,3,IF(AND(Uppsafnað!$N$7<Approach!$O$4,Uppsafnað!$N$7>=Approach!$O$4/2),2,IF(AND(AL18>Approach!$O$4,Uppsafnað!AL18<Approach!$O$4*1.5),1,0))))","v":""},{"$error":"#N/A"},{"$error":"#N/A"},150,"","",{"$f":"IF(AR18=\"\",\"\",IF(AR18<=Approach!$O$4/2,3,IF(AND(Uppsafnað!$N$7<Approach!$O$4,Uppsafnað!$N$7>=Approach!$O$4/2),2,IF(AND(AR18>Approach!$O$4,Uppsafnað!AR18<Approach!$O$4*1.5),1,0))))","v":""},{"$error":"#N/A"},{"$error":"#N/A"},{"$error":"#N/A"},{"$error":"#N/A"},{"$error":"#N/A"},0,{"$error":"#N/A"},{"$error":"#N/A"},{"$error":"#N/A"},{"$error":"#N/A"},{"$error":"#N/A"},{"$error":"#N/A"},{"$error":"#N/A"},{"$error":"#N/A"},{"$error":"#N/A"},{"$error":"#N/A"},{"$error":"#N/A"},{"$error":"#N/A"},13,{"$error":"#N/A"},{"$error":"#N/A"},{"$error":"#N/A"},{"$error":"#N/A"},{"$error":"#N/A"},0,{"$error":"#N/A"},{"$error":"#N/A"},{"$error":"#N/A"},{"$error":"#N/A"},{"$error":"#N/A"},{"$error":"#N/A"},{"$error":"#N/A"},{"$error":"#N/A"},{"$error":"#N/A"},{"$error":"#N/A"},{"$error":"#N/A"},{"$error":"#N/A"},0,0,0]
[39975,null,null,null,null,null,null,2,3,{"$error":"#N/A"},{"$error":"#N/A"},150,"","",{"$f":"IF(N19=\"\",\"\",IF(N19<=Approach!$O$4/2,3,IF(AND(Uppsafnað!N19<Approach!$O$4,Uppsafnað!N19>=Approach!$O$4/2),2,IF(AND(N19>Approach!$O$4,Uppsafnað!N19<Approach!$O$4*1.5),1,0))))","v":""},0,0,150,0,0,{"$f":"IF(T19=\"\",\"\",IF(T19<=Approach!$O$4/2,3,IF(AND(Uppsafnað!$N$7<Approach!$O$4,Uppsafnað!$N$7>=Approach!$O$4/2),2,IF(AND(T19>Approach!$O$4,Uppsafnað!T19<Approach!$O$4*1.5),1,0))))","v":3},{"$error":"#N/A"},{"$error":"#N/A"},150,"","",{"$f":"IF(Z19=\"\",\"\",IF(Z19<=Approach!$O$4/2,3,IF(AND(Uppsafnað!$N$7<Approach!$O$4,Uppsafnað!$N$7>=Approach!$O$4/2),2,IF(AND(Z19>Approach!$O$4,Uppsafnað!Z19<Approach!$O$4*1.5),1,0))))","v":""},{"$error":"#N/A"},{"$error":"#N/A"},150,"","",{"$f":"IF(AF19=\"\",\"\",IF(AF19<=Approach!$O$4/2,3,IF(AND(Uppsafnað!$N$7<Approach!$O$4,Uppsafnað!$N$7>=Approach!$O$4/2),2,IF(AND(AF19>Approach!$O$4,Uppsafnað!AF19<Approach!$O$4*1.5),1,0))))","v":""},{"$error":"#N/A"},{"$error":"#N/A"},150,"","",{"$f":"IF(AL19=\"\",\"\",IF(AL19<=Approach!$O$4/2,3,IF(AND(Uppsafnað!$N$7<Approach!$O$4,Uppsafnað!$N$7>=Approach!$O$4/2),2,IF(AND(AL19>Approach!$O$4,Uppsafnað!AL19<Approach!$O$4*1.5),1,0))))","v":""},{"$error":"#N/A"},{"$error":"#N/A"},150,"","",{"$f":"IF(AR19=\"\",\"\",IF(AR19<=Approach!$O$4/2,3,IF(AND(Uppsafnað!$N$7<Approach!$O$4,Uppsafnað!$N$7>=Approach!$O$4/2),2,IF(AND(AR19>Approach!$O$4,Uppsafnað!AR19<Approach!$O$4*1.5),1,0))))","v":""},{"$error":"#N/A"},{"$error":"#N/A"},{"$error":"#N/A"},{"$error":"#N/A"},{"$error":"#N/A"},0,{"$error":"#N/A"},{"$error":"#N/A"},{"$error":"#N/A"},{"$error":"#N/A"},{"$error":"#N/A"},{"$error":"#N/A"},{"$error":"#N/A"},{"$error":"#N/A"},{"$error":"#N/A"},{"$error":"#N/A"},{"$error":"#N/A"},{"$error":"#N/A"},14,{"$error":"#N/A"},{"$error":"#N/A"},{"$error":"#N/A"},{"$error":"#N/A"},{"$error":"#N/A"},0,{"$error":"#N/A"},{"$error":"#N/A"},{"$error":"#N/A"},{"$error":"#N/A"},{"$error":"#N/A"},{"$error":"#N/A"},{"$error":"#N/A"},{"$error":"#N/A"},{"$error":"#N/A"},{"$error":"#N/A"},{"$error":"#N/A"},{"$error":"#N/A"},0,0,0]
[39975,null,null,null,null,null,null,2,3,{"$error":"#N/A"},{"$error":"#N/A"},150,"","",{"$f":"IF(N20=\"\",\"\",IF(N20<=Approach!$O$4/2,3,IF(AND(Uppsafnað!N20<Approach!$O$4,Uppsafnað!N20>=Approach!$O$4/2),2,IF(AND(N20>Approach!$O$4,Uppsafnað!N20<Approach!$O$4*1.5),1,0))))","v":""},0,0,150,0,0,{"$f":"IF(T20=\"\",\"\",IF(T20<=Approach!$O$4/2,3,IF(AND(Uppsafnað!$N$7<Approach!$O$4,Uppsafnað!$N$7>=Approach!$O$4/2),2,IF(AND(T20>Approach!$O$4,Uppsafnað!T20<Approach!$O$4*1.5),1,0))))","v":3},{"$error":"#N/A"},{"$error":"#N/A"},150,"","",{"$f":"IF(Z20=\"\",\"\",IF(Z20<=Approach!$O$4/2,3,IF(AND(Uppsafnað!$N$7<Approach!$O$4,Uppsafnað!$N$7>=Approach!$O$4/2),2,IF(AND(Z20>Approach!$O$4,Uppsafnað!Z20<Approach!$O$4*1.5),1,0))))","v":""},{"$error":"#N/A"},{"$error":"#N/A"},150,"","",{"$f":"IF(AF20=\"\",\"\",IF(AF20<=Approach!$O$4/2,3,IF(AND(Uppsafnað!$N$7<Approach!$O$4,Uppsafnað!$N$7>=Approach!$O$4/2),2,IF(AND(AF20>Approach!$O$4,Uppsafnað!AF20<Approach!$O$4*1.5),1,0))))","v":""},{"$error":"#N/A"},{"$error":"#N/A"},150,"","",{"$f":"IF(AL20=\"\",\"\",IF(AL20<=Approach!$O$4/2,3,IF(AND(Uppsafnað!$N$7<Approach!$O$4,Uppsafnað!$N$7>=Approach!$O$4/2),2,IF(AND(AL20>Approach!$O$4,Uppsafnað!AL20<Approach!$O$4*1.5),1,0))))","v":""},{"$error":"#N/A"},{"$error":"#N/A"},150,"","",{"$f":"IF(AR20=\"\",\"\",IF(AR20<=Approach!$O$4/2,3,IF(AND(Uppsafnað!$N$7<Approach!$O$4,Uppsafnað!$N$7>=Approach!$O$4/2),2,IF(AND(AR20>Approach!$O$4,Uppsafnað!AR20<Approach!$O$4*1.5),1,0))))","v":""},{"$error":"#N/A"},{"$error":"#N/A"},{"$error":"#N/A"},{"$error":"#N/A"},{"$error":"#N/A"},0,{"$error":"#N/A"},{"$error":"#N/A"},{"$error":"#N/A"},{"$error":"#N/A"},{"$error":"#N/A"},{"$error":"#N/A"},{"$error":"#N/A"},{"$error":"#N/A"},{"$error":"#N/A"},{"$error":"#N/A"},{"$error":"#N/A"},{"$error":"#N/A"},15,{"$error":"#N/A"},{"$error":"#N/A"},{"$error":"#N/A"},{"$error":"#N/A"},{"$error":"#N/A"},0,{"$error":"#N/A"},{"$error":"#N/A"},{"$error":"#N/A"},{"$error":"#N/A"},{"$error":"#N/A"},{"$error":"#N/A"},{"$error":"#N/A"},{"$error":"#N/A"},{"$error":"#N/A"},{"$error":"#N/A"},{"$error":"#N/A"},{"$error":"#N/A"},0,0,0]
[39975,null,null,null,null,null,null,2,3,{"$error":"#N/A"},{"$error":"#N/A"},150,"","",{"$f":"IF(N21=\"\",\"\",IF(N21<=Approach!$O$4/2,3,IF(AND(Uppsafnað!N21<Approach!$O$4,Uppsafnað!N21>=Approach!$O$4/2),2,IF(AND(N21>Approach!$O$4,Uppsafnað!N21<Approach!$O$4*1.5),1,0))))","v":""},0,0,150,0,0,{"$f":"IF(T21=\"\",\"\",IF(T21<=Approach!$O$4/2,3,IF(AND(Uppsafnað!$N$7<Approach!$O$4,Uppsafnað!$N$7>=Approach!$O$4/2),2,IF(AND(T21>Approach!$O$4,Uppsafnað!T21<Approach!$O$4*1.5),1,0))))","v":3},{"$error":"#N/A"},{"$error":"#N/A"},150,"","",{"$f":"IF(Z21=\"\",\"\",IF(Z21<=Approach!$O$4/2,3,IF(AND(Uppsafnað!$N$7<Approach!$O$4,Uppsafnað!$N$7>=Approach!$O$4/2),2,IF(AND(Z21>Approach!$O$4,Uppsafnað!Z21<Approach!$O$4*1.5),1,0))))","v":""},{"$error":"#N/A"},{"$error":"#N/A"},150,"","",{"$f":"IF(AF21=\"\",\"\",IF(AF21<=Approach!$O$4/2,3,IF(AND(Uppsafnað!$N$7<Approach!$O$4,Uppsafnað!$N$7>=Approach!$O$4/2),2,IF(AND(AF21>Approach!$O$4,Uppsafnað!AF21<Approach!$O$4*1.5),1,0))))","v":""},{"$error":"#N/A"},{"$error":"#N/A"},150,"","",{"$f":"IF(AL21=\"\",\"\",IF(AL21<=Approach!$O$4/2,3,IF(AND(Uppsafnað!$N$7<Approach!$O$4,Uppsafnað!$N$7>=Approach!$O$4/2),2,IF(AND(AL21>Approach!$O$4,Uppsafnað!AL21<Approach!$O$4*1.5),1,0))))","v":""},{"$error":"#N/A"},{"$error":"#N/A"},150,"","",{"$f":"IF(AR21=\"\",\"\",IF(AR21<=Approach!$O$4/2,3,IF(AND(Uppsafnað!$N$7<Approach!$O$4,Uppsafnað!$N$7>=Approach!$O$4/2),2,IF(AND(AR21>Approach!$O$4,Uppsafnað!AR21<Approach!$O$4*1.5),1,0))))","v":""},{"$error":"#N/A"},{"$error":"#N/A"},{"$error":"#N/A"},{"$error":"#N/A"},{"$error":"#N/A"},0,{"$error":"#N/A"},{"$error":"#N/A"},{"$error":"#N/A"},{"$error":"#N/A"},{"$error":"#N/A"},{"$error":"#N/A"},{"$error":"#N/A"},{"$error":"#N/A"},{"$error":"#N/A"},{"$error":"#N/A"},{"$error":"#N/A"},{"$error":"#N/A"},16,{"$error":"#N/A"},{"$error":"#N/A"},{"$error":"#N/A"},{"$error":"#N/A"},{"$error":"#N/A"},0,{"$error":"#N/A"},{"$error":"#N/A"},{"$error":"#N/A"},{"$error":"#N/A"},{"$error":"#N/A"},{"$error":"#N/A"},{"$error":"#N/A"},{"$error":"#N/A"},{"$error":"#N/A"},{"$error":"#N/A"},{"$error":"#N/A"},{"$error":"#N/A"},0,0,0]
[39975,null,null,null,null,null,null,2,3,{"$error":"#N/A"},{"$error":"#N/A"},150,"","",{"$f":"IF(N22=\"\",\"\",IF(N22<=Approach!$O$4/2,3,IF(AND(Uppsafnað!N22<Approach!$O$4,Uppsafnað!N22>=Approach!$O$4/2),2,IF(AND(N22>Approach!$O$4,Uppsafnað!N22<Approach!$O$4*1.5),1,0))))","v":""},0,0,150,0,0,{"$f":"IF(T22=\"\",\"\",IF(T22<=Approach!$O$4/2,3,IF(AND(Uppsafnað!$N$7<Approach!$O$4,Uppsafnað!$N$7>=Approach!$O$4/2),2,IF(AND(T22>Approach!$O$4,Uppsafnað!T22<Approach!$O$4*1.5),1,0))))","v":3},{"$error":"#N/A"},{"$error":"#N/A"},150,"","",{"$f":"IF(Z22=\"\",\"\",IF(Z22<=Approach!$O$4/2,3,IF(AND(Uppsafnað!$N$7<Approach!$O$4,Uppsafnað!$N$7>=Approach!$O$4/2),2,IF(AND(Z22>Approach!$O$4,Uppsafnað!Z22<Approach!$O$4*1.5),1,0))))","v":""},{"$error":"#N/A"},{"$error":"#N/A"},150,"","",{"$f":"IF(AF22=\"\",\"\",IF(AF22<=Approach!$O$4/2,3,IF(AND(Uppsafnað!$N$7<Approach!$O$4,Uppsafnað!$N$7>=Approach!$O$4/2),2,IF(AND(AF22>Approach!$O$4,Uppsafnað!AF22<Approach!$O$4*1.5),1,0))))","v":""},{"$error":"#N/A"},{"$error":"#N/A"},150,"","",{"$f":"IF(AL22=\"\",\"\",IF(AL22<=Approach!$O$4/2,3,IF(AND(Uppsafnað!$N$7<Approach!$O$4,Uppsafnað!$N$7>=Approach!$O$4/2),2,IF(AND(AL22>Approach!$O$4,Uppsafnað!AL22<Approach!$O$4*1.5),1,0))))","v":""},{"$error":"#N/A"},{"$error":"#N/A"},150,"","",{"$f":"IF(AR22=\"\",\"\",IF(AR22<=Approach!$O$4/2,3,IF(AND(Uppsafnað!$N$7<Approach!$O$4,Uppsafnað!$N$7>=Approach!$O$4/2),2,IF(AND(AR22>Approach!$O$4,Uppsafnað!AR22<Approach!$O$4*1.5),1,0))))","v":""},{"$error":"#N/A"},{"$error":"#N/A"},{"$error":"#N/A"},{"$error":"#N/A"},{"$error":"#N/A"},0,{"$error":"#N/A"},{"$error":"#N/A"},{"$error":"#N/A"},{"$error":"#N/A"},{"$error":"#N/A"},{"$error":"#N/A"},{"$error":"#N/A"},{"$error":"#N/A"},{"$error":"#N/A"},{"$error":"#N/A"},{"$error":"#N/A"},{"$error":"#N/A"},17,{"$error":"#N/A"},{"$error":"#N/A"},{"$error":"#N/A"},{"$error":"#N/A"},{"$error":"#N/A"},0,{"$error":"#N/A"},{"$error":"#N/A"},{"$error":"#N/A"},{"$error":"#N/A"},{"$error":"#N/A"},{"$error":"#N/A"},{"$error":"#N/A"},{"$error":"#N/A"},{"$error":"#N/A"},{"$error":"#N/A"},{"$error":"#N/A"},{"$error":"#N/A"},0,0,0]
[39975,null,null,null,null,null,null,2,3,{"$error":"#N/A"},{"$error":"#N/A"},150,"","",{"$f":"IF(N23=\"\",\"\",IF(N23<=Approach!$O$4/2,3,IF(AND(Uppsafnað!N23<Approach!$O$4,Uppsafnað!N23>=Approach!$O$4/2),2,IF(AND(N23>Approach!$O$4,Uppsafnað!N23<Approach!$O$4*1.5),1,0))))","v":""},0,0,150,0,0,{"$f":"IF(T23=\"\",\"\",IF(T23<=Approach!$O$4/2,3,IF(AND(Uppsafnað!$N$7<Approach!$O$4,Uppsafnað!$N$7>=Approach!$O$4/2),2,IF(AND(T23>Approach!$O$4,Uppsafnað!T23<Approach!$O$4*1.5),1,0))))","v":3},{"$error":"#N/A"},{"$error":"#N/A"},150,"","",{"$f":"IF(Z23=\"\",\"\",IF(Z23<=Approach!$O$4/2,3,IF(AND(Uppsafnað!$N$7<Approach!$O$4,Uppsafnað!$N$7>=Approach!$O$4/2),2,IF(AND(Z23>Approach!$O$4,Uppsafnað!Z23<Approach!$O$4*1.5),1,0))))","v":""},{"$error":"#N/A"},{"$error":"#N/A"},150,"","",{"$f":"IF(AF23=\"\",\"\",IF(AF23<=Approach!$O$4/2,3,IF(AND(Uppsafnað!$N$7<Approach!$O$4,Uppsafnað!$N$7>=Approach!$O$4/2),2,IF(AND(AF23>Approach!$O$4,Uppsafnað!AF23<Approach!$O$4*1.5),1,0))))","v":""},{"$error":"#N/A"},{"$error":"#N/A"},150,"","",{"$f":"IF(AL23=\"\",\"\",IF(AL23<=Approach!$O$4/2,3,IF(AND(Uppsafnað!$N$7<Approach!$O$4,Uppsafnað!$N$7>=Approach!$O$4/2),2,IF(AND(AL23>Approach!$O$4,Uppsafnað!AL23<Approach!$O$4*1.5),1,0))))","v":""},{"$error":"#N/A"},{"$error":"#N/A"},150,"","",{"$f":"IF(AR23=\"\",\"\",IF(AR23<=Approach!$O$4/2,3,IF(AND(Uppsafnað!$N$7<Approach!$O$4,Uppsafnað!$N$7>=Approach!$O$4/2),2,IF(AND(AR23>Approach!$O$4,Uppsafnað!AR23<Approach!$O$4*1.5),1,0))))","v":""},{"$error":"#N/A"},{"$error":"#N/A"},{"$error":"#N/A"},{"$error":"#N/A"},{"$error":"#N/A"},0,{"$error":"#N/A"},{"$error":"#N/A"},{"$error":"#N/A"},{"$error":"#N/A"},{"$error":"#N/A"},{"$error":"#N/A"},{"$error":"#N/A"},{"$error":"#N/A"},{"$error":"#N/A"},{"$error":"#N/A"},{"$error":"#N/A"},{"$error":"#N/A"},18,{"$error":"#N/A"},{"$error":"#N/A"},{"$error":"#N/A"},{"$error":"#N/A"},{"$error":"#N/A"},0,{"$error":"#N/A"},{"$error":"#N/A"},{"$error":"#N/A"},{"$error":"#N/A"},{"$error":"#N/A"},{"$error":"#N/A"},{"$error":"#N/A"},{"$error":"#N/A"},{"$error":"#N/A"},{"$error":"#N/A"},{"$error":"#N/A"},{"$error":"#N/A"},0,0,0]
[39975,null,null,null,null,null,null,2,3,{"$error":"#N/A"},{"$error":"#N/A"},150,"","",{"$f":"IF(N24=\"\",\"\",IF(N24<=Approach!$O$4/2,3,IF(AND(Uppsafnað!N24<Approach!$O$4,Uppsafnað!N24>=Approach!$O$4/2),2,IF(AND(N24>Approach!$O$4,Uppsafnað!N24<Approach!$O$4*1.5),1,0))))","v":""},0,0,150,0,0,{"$f":"IF(T24=\"\",\"\",IF(T24<=Approach!$O$4/2,3,IF(AND(Uppsafnað!$N$7<Approach!$O$4,Uppsafnað!$N$7>=Approach!$O$4/2),2,IF(AND(T24>Approach!$O$4,Uppsafnað!T24<Approach!$O$4*1.5),1,0))))","v":3},{"$error":"#N/A"},{"$error":"#N/A"},150,"","",{"$f":"IF(Z24=\"\",\"\",IF(Z24<=Approach!$O$4/2,3,IF(AND(Uppsafnað!$N$7<Approach!$O$4,Uppsafnað!$N$7>=Approach!$O$4/2),2,IF(AND(Z24>Approach!$O$4,Uppsafnað!Z24<Approach!$O$4*1.5),1,0))))","v":""},{"$error":"#N/A"},{"$error":"#N/A"},150,"","",{"$f":"IF(AF24=\"\",\"\",IF(AF24<=Approach!$O$4/2,3,IF(AND(Uppsafnað!$N$7<Approach!$O$4,Uppsafnað!$N$7>=Approach!$O$4/2),2,IF(AND(AF24>Approach!$O$4,Uppsafnað!AF24<Approach!$O$4*1.5),1,0))))","v":""},{"$error":"#N/A"},{"$error":"#N/A"},150,"","",{"$f":"IF(AL24=\"\",\"\",IF(AL24<=Approach!$O$4/2,3,IF(AND(Uppsafnað!$N$7<Approach!$O$4,Uppsafnað!$N$7>=Approach!$O$4/2),2,IF(AND(AL24>Approach!$O$4,Uppsafnað!AL24<Approach!$O$4*1.5),1,0))))","v":""},{"$error":"#N/A"},{"$error":"#N/A"},150,"","",{"$f":"IF(AR24=\"\",\"\",IF(AR24<=Approach!$O$4/2,3,IF(AND(Uppsafnað!$N$7<Approach!$O$4,Uppsafnað!$N$7>=Approach!$O$4/2),2,IF(AND(AR24>Approach!$O$4,Uppsafnað!AR24<Approach!$O$4*1.5),1,0))))","v":""},{"$error":"#N/A"},{"$error":"#N/A"},{"$error":"#N/A"},{"$error":"#N/A"},{"$error":"#N/A"},0,{"$error":"#N/A"},{"$error":"#N/A"},{"$error":"#N/A"},{"$error":"#N/A"},{"$error":"#N/A"},{"$error":"#N/A"},{"$error":"#N/A"},{"$error":"#N/A"},{"$error":"#N/A"},{"$error":"#N/A"},{"$error":"#N/A"},{"$error":"#N/A"},19,{"$error":"#N/A"},{"$error":"#N/A"},{"$error":"#N/A"},{"$error":"#N/A"},{"$error":"#N/A"},0,{"$error":"#N/A"},{"$error":"#N/A"},{"$error":"#N/A"},{"$error":"#N/A"},{"$error":"#N/A"},{"$error":"#N/A"},{"$error":"#N/A"},{"$error":"#N/A"},{"$error":"#N/A"},{"$error":"#N/A"},{"$error":"#N/A"},{"$error":"#N/A"},0,0,0]
[39975,null,null,null,null,null,null,2,3,{"$error":"#N/A"},{"$error":"#N/A"},150,"","",{"$f":"IF(N25=\"\",\"\",IF(N25<=Approach!$O$4/2,3,IF(AND(Uppsafnað!N25<Approach!$O$4,Uppsafnað!N25>=Approach!$O$4/2),2,IF(AND(N25>Approach!$O$4,Uppsafnað!N25<Approach!$O$4*1.5),1,0))))","v":""},0,0,150,0,0,{"$f":"IF(T25=\"\",\"\",IF(T25<=Approach!$O$4/2,3,IF(AND(Uppsafnað!$N$7<Approach!$O$4,Uppsafnað!$N$7>=Approach!$O$4/2),2,IF(AND(T25>Approach!$O$4,Uppsafnað!T25<Approach!$O$4*1.5),1,0))))","v":3},{"$error":"#N/A"},{"$error":"#N/A"},150,"","",{"$f":"IF(Z25=\"\",\"\",IF(Z25<=Approach!$O$4/2,3,IF(AND(Uppsafnað!$N$7<Approach!$O$4,Uppsafnað!$N$7>=Approach!$O$4/2),2,IF(AND(Z25>Approach!$O$4,Uppsafnað!Z25<Approach!$O$4*1.5),1,0))))","v":""},{"$error":"#N/A"},{"$error":"#N/A"},150,"","",{"$f":"IF(AF25=\"\",\"\",IF(AF25<=Approach!$O$4/2,3,IF(AND(Uppsafnað!$N$7<Approach!$O$4,Uppsafnað!$N$7>=Approach!$O$4/2),2,IF(AND(AF25>Approach!$O$4,Uppsafnað!AF25<Approach!$O$4*1.5),1,0))))","v":""},{"$error":"#N/A"},{"$error":"#N/A"},150,"","",{"$f":"IF(AL25=\"\",\"\",IF(AL25<=Approach!$O$4/2,3,IF(AND(Uppsafnað!$N$7<Approach!$O$4,Uppsafnað!$N$7>=Approach!$O$4/2),2,IF(AND(AL25>Approach!$O$4,Uppsafnað!AL25<Approach!$O$4*1.5),1,0))))","v":""},{"$error":"#N/A"},{"$error":"#N/A"},150,"","",{"$f":"IF(AR25=\"\",\"\",IF(AR25<=Approach!$O$4/2,3,IF(AND(Uppsafnað!$N$7<Approach!$O$4,Uppsafnað!$N$7>=Approach!$O$4/2),2,IF(AND(AR25>Approach!$O$4,Uppsafnað!AR25<Approach!$O$4*1.5),1,0))))","v":""},{"$error":"#N/A"},{"$error":"#N/A"},{"$error":"#N/A"},{"$error":"#N/A"},{"$error":"#N/A"},0,{"$error":"#N/A"},{"$error":"#N/A"},{"$error":"#N/A"},{"$error":"#N/A"},{"$error":"#N/A"},{"$error":"#N/A"},{"$error":"#N/A"},{"$error":"#N/A"},{"$error":"#N/A"},{"$error":"#N/A"},{"$error":"#N/A"},{"$error":"#N/A"},20,{"$error":"#N/A"},{"$error":"#N/A"},{"$error":"#N/A"},{"$error":"#N/A"},{"$error":"#N/A"},0,{"$error":"#N/A"},{"$error":"#N/A"},{"$error":"#N/A"},{"$error":"#N/A"},{"$error":"#N/A"},{"$error":"#N/A"},{"$error":"#N/A"},{"$error":"#N/A"},{"$error":"#N/A"},{"$error":"#N/A"},{"$error":"#N/A"},{"$error":"#N/A"},0,0,0]
[39975,null,null,null,null,null,null,2,3,{"$error":"#N/A"},{"$error":"#N/A"},150,"","",{"$f":"IF(N26=\"\",\"\",IF(N26<=Approach!$O$4/2,3,IF(AND(Uppsafnað!N26<Approach!$O$4,Uppsafnað!N26>=Approach!$O$4/2),2,IF(AND(N26>Approach!$O$4,Uppsafnað!N26<Approach!$O$4*1.5),1,0))))","v":""},0,0,150,0,0,{"$f":"IF(T26=\"\",\"\",IF(T26<=Approach!$O$4/2,3,IF(AND(Uppsafnað!$N$7<Approach!$O$4,Uppsafnað!$N$7>=Approach!$O$4/2),2,IF(AND(T26>Approach!$O$4,Uppsafnað!T26<Approach!$O$4*1.5),1,0))))","v":3},{"$error":"#N/A"},{"$error":"#N/A"},150,"","",{"$f":"IF(Z26=\"\",\"\",IF(Z26<=Approach!$O$4/2,3,IF(AND(Uppsafnað!$N$7<Approach!$O$4,Uppsafnað!$N$7>=Approach!$O$4/2),2,IF(AND(Z26>Approach!$O$4,Uppsafnað!Z26<Approach!$O$4*1.5),1,0))))","v":""},{"$error":"#N/A"},{"$error":"#N/A"},150,"","",{"$f":"IF(AF26=\"\",\"\",IF(AF26<=Approach!$O$4/2,3,IF(AND(Uppsafnað!$N$7<Approach!$O$4,Uppsafnað!$N$7>=Approach!$O$4/2),2,IF(AND(AF26>Approach!$O$4,Uppsafnað!AF26<Approach!$O$4*1.5),1,0))))","v":""},{"$error":"#N/A"},{"$error":"#N/A"},150,"","",{"$f":"IF(AL26=\"\",\"\",IF(AL26<=Approach!$O$4/2,3,IF(AND(Uppsafnað!$N$7<Approach!$O$4,Uppsafnað!$N$7>=Approach!$O$4/2),2,IF(AND(AL26>Approach!$O$4,Uppsafnað!AL26<Approach!$O$4*1.5),1,0))))","v":""},{"$error":"#N/A"},{"$error":"#N/A"},150,"","",{"$f":"IF(AR26=\"\",\"\",IF(AR26<=Approach!$O$4/2,3,IF(AND(Uppsafnað!$N$7<Approach!$O$4,Uppsafnað!$N$7>=Approach!$O$4/2),2,IF(AND(AR26>Approach!$O$4,Uppsafnað!AR26<Approach!$O$4*1.5),1,0))))","v":""},{"$error":"#N/A"},{"$error":"#N/A"},{"$error":"#N/A"},{"$error":"#N/A"},{"$error":"#N/A"},0,{"$error":"#N/A"},{"$error":"#N/A"},{"$error":"#N/A"},{"$error":"#N/A"},{"$error":"#N/A"},{"$error":"#N/A"},{"$error":"#N/A"},{"$error":"#N/A"},{"$error":"#N/A"},{"$error":"#N/A"},{"$error":"#N/A"},{"$error":"#N/A"},21,{"$error":"#N/A"},{"$error":"#N/A"},{"$error":"#N/A"},{"$error":"#N/A"},{"$error":"#N/A"},0,{"$error":"#N/A"},{"$error":"#N/A"},{"$error":"#N/A"},{"$error":"#N/A"},{"$error":"#N/A"},{"$error":"#N/A"},{"$error":"#N/A"},{"$error":"#N/A"},{"$error":"#N/A"},{"$error":"#N/A"},{"$error":"#N/A"},{"$error":"#N/A"},0,0,0]
[39975,null,null,null,null,null,null,2,3,{"$error":"#N/A"},{"$error":"#N/A"},150,"","",{"$f":"IF(N27=\"\",\"\",IF(N27<=Approach!$O$4/2,3,IF(AND(Uppsafnað!N27<Approach!$O$4,Uppsafnað!N27>=Approach!$O$4/2),2,IF(AND(N27>Approach!$O$4,Uppsafnað!N27<Approach!$O$4*1.5),1,0))))","v":""},0,0,150,0,0,{"$f":"IF(T27=\"\",\"\",IF(T27<=Approach!$O$4/2,3,IF(AND(Uppsafnað!$N$7<Approach!$O$4,Uppsafnað!$N$7>=Approach!$O$4/2),2,IF(AND(T27>Approach!$O$4,Uppsafnað!T27<Approach!$O$4*1.5),1,0))))","v":3},{"$error":"#N/A"},{"$error":"#N/A"},150,"","",{"$f":"IF(Z27=\"\",\"\",IF(Z27<=Approach!$O$4/2,3,IF(AND(Uppsafnað!$N$7<Approach!$O$4,Uppsafnað!$N$7>=Approach!$O$4/2),2,IF(AND(Z27>Approach!$O$4,Uppsafnað!Z27<Approach!$O$4*1.5),1,0))))","v":""},{"$error":"#N/A"},{"$error":"#N/A"},150,"","",{"$f":"IF(AF27=\"\",\"\",IF(AF27<=Approach!$O$4/2,3,IF(AND(Uppsafnað!$N$7<Approach!$O$4,Uppsafnað!$N$7>=Approach!$O$4/2),2,IF(AND(AF27>Approach!$O$4,Uppsafnað!AF27<Approach!$O$4*1.5),1,0))))","v":""},{"$error":"#N/A"},{"$error":"#N/A"},150,"","",{"$f":"IF(AL27=\"\",\"\",IF(AL27<=Approach!$O$4/2,3,IF(AND(Uppsafnað!$N$7<Approach!$O$4,Uppsafnað!$N$7>=Approach!$O$4/2),2,IF(AND(AL27>Approach!$O$4,Uppsafnað!AL27<Approach!$O$4*1.5),1,0))))","v":""},{"$error":"#N/A"},{"$error":"#N/A"},150,"","",{"$f":"IF(AR27=\"\",\"\",IF(AR27<=Approach!$O$4/2,3,IF(AND(Uppsafnað!$N$7<Approach!$O$4,Uppsafnað!$N$7>=Approach!$O$4/2),2,IF(AND(AR27>Approach!$O$4,Uppsafnað!AR27<Approach!$O$4*1.5),1,0))))","v":""},{"$error":"#N/A"},{"$error":"#N/A"},{"$error":"#N/A"},{"$error":"#N/A"},{"$error":"#N/A"},0,{"$error":"#N/A"},{"$error":"#N/A"},{"$error":"#N/A"},{"$error":"#N/A"},{"$error":"#N/A"},{"$error":"#N/A"},{"$error":"#N/A"},{"$error":"#N/A"},{"$error":"#N/A"},{"$error":"#N/A"},{"$error":"#N/A"},{"$error":"#N/A"},22,{"$error":"#N/A"},{"$error":"#N/A"},{"$error":"#N/A"},{"$error":"#N/A"},{"$error":"#N/A"},0,{"$error":"#N/A"},{"$error":"#N/A"},{"$error":"#N/A"},{"$error":"#N/A"},{"$error":"#N/A"},{"$error":"#N/A"},{"$error":"#N/A"},{"$error":"#N/A"},{"$error":"#N/A"},{"$error":"#N/A"},{"$error":"#N/A"},{"$error":"#N/A"},0,0,0]
[39975,null,null,null,null,null,null,2,3,{"$error":"#N/A"},{"$error":"#N/A"},150,"","",{"$f":"IF(N28=\"\",\"\",IF(N28<=Approach!$O$4/2,3,IF(AND(Uppsafnað!N28<Approach!$O$4,Uppsafnað!N28>=Approach!$O$4/2),2,IF(AND(N28>Approach!$O$4,Uppsafnað!N28<Approach!$O$4*1.5),1,0))))","v":""},0,0,150,0,0,{"$f":"IF(T28=\"\",\"\",IF(T28<=Approach!$O$4/2,3,IF(AND(Uppsafnað!$N$7<Approach!$O$4,Uppsafnað!$N$7>=Approach!$O$4/2),2,IF(AND(T28>Approach!$O$4,Uppsafnað!T28<Approach!$O$4*1.5),1,0))))","v":3},{"$error":"#N/A"},{"$error":"#N/A"},150,"","",{"$f":"IF(Z28=\"\",\"\",IF(Z28<=Approach!$O$4/2,3,IF(AND(Uppsafnað!$N$7<Approach!$O$4,Uppsafnað!$N$7>=Approach!$O$4/2),2,IF(AND(Z28>Approach!$O$4,Uppsafnað!Z28<Approach!$O$4*1.5),1,0))))","v":""},{"$error":"#N/A"},{"$error":"#N/A"},150,"","",{"$f":"IF(AF28=\"\",\"\",IF(AF28<=Approach!$O$4/2,3,IF(AND(Uppsafnað!$N$7<Approach!$O$4,Uppsafnað!$N$7>=Approach!$O$4/2),2,IF(AND(AF28>Approach!$O$4,Uppsafnað!AF28<Approach!$O$4*1.5),1,0))))","v":""},{"$error":"#N/A"},{"$error":"#N/A"},150,"","",{"$f":"IF(AL28=\"\",\"\",IF(AL28<=Approach!$O$4/2,3,IF(AND(Uppsafnað!$N$7<Approach!$O$4,Uppsafnað!$N$7>=Approach!$O$4/2),2,IF(AND(AL28>Approach!$O$4,Uppsafnað!AL28<Approach!$O$4*1.5),1,0))))","v":""},{"$error":"#N/A"},{"$error":"#N/A"},150,"","",{"$f":"IF(AR28=\"\",\"\",IF(AR28<=Approach!$O$4/2,3,IF(AND(Uppsafnað!$N$7<Approach!$O$4,Uppsafnað!$N$7>=Approach!$O$4/2),2,IF(AND(AR28>Approach!$O$4,Uppsafnað!AR28<Approach!$O$4*1.5),1,0))))","v":""},{"$error":"#N/A"},{"$error":"#N/A"},{"$error":"#N/A"},{"$error":"#N/A"},{"$error":"#N/A"},0,{"$error":"#N/A"},{"$error":"#N/A"},{"$error":"#N/A"},{"$error":"#N/A"},{"$error":"#N/A"},{"$error":"#N/A"},{"$error":"#N/A"},{"$error":"#N/A"},{"$error":"#N/A"},{"$error":"#N/A"},{"$error":"#N/A"},{"$error":"#N/A"},23,{"$error":"#N/A"},{"$error":"#N/A"},{"$error":"#N/A"},{"$error":"#N/A"},{"$error":"#N/A"},0,{"$error":"#N/A"},{"$error":"#N/A"},{"$error":"#N/A"},{"$error":"#N/A"},{"$error":"#N/A"},{"$error":"#N/A"},{"$error":"#N/A"},{"$error":"#N/A"},{"$error":"#N/A"},{"$error":"#N/A"},{"$error":"#N/A"},{"$error":"#N/A"},0,0,0]
[39975,null,null,null,null,null,null,2,3,{"$error":"#N/A"},{"$error":"#N/A"},150,"","",{"$f":"IF(N29=\"\",\"\",IF(N29<=Approach!$O$4/2,3,IF(AND(Uppsafnað!N29<Approach!$O$4,Uppsafnað!N29>=Approach!$O$4/2),2,IF(AND(N29>Approach!$O$4,Uppsafnað!N29<Approach!$O$4*1.5),1,0))))","v":""},0,0,150,0,0,{"$f":"IF(T29=\"\",\"\",IF(T29<=Approach!$O$4/2,3,IF(AND(Uppsafnað!$N$7<Approach!$O$4,Uppsafnað!$N$7>=Approach!$O$4/2),2,IF(AND(T29>Approach!$O$4,Uppsafnað!T29<Approach!$O$4*1.5),1,0))))","v":3},{"$error":"#N/A"},{"$error":"#N/A"},150,"","",{"$f":"IF(Z29=\"\",\"\",IF(Z29<=Approach!$O$4/2,3,IF(AND(Uppsafnað!$N$7<Approach!$O$4,Uppsafnað!$N$7>=Approach!$O$4/2),2,IF(AND(Z29>Approach!$O$4,Uppsafnað!Z29<Approach!$O$4*1.5),1,0))))","v":""},{"$error":"#N/A"},{"$error":"#N/A"},150,"","",{"$f":"IF(AF29=\"\",\"\",IF(AF29<=Approach!$O$4/2,3,IF(AND(Uppsafnað!$N$7<Approach!$O$4,Uppsafnað!$N$7>=Approach!$O$4/2),2,IF(AND(AF29>Approach!$O$4,Uppsafnað!AF29<Approach!$O$4*1.5),1,0))))","v":""},{"$error":"#N/A"},{"$error":"#N/A"},150,"","",{"$f":"IF(AL29=\"\",\"\",IF(AL29<=Approach!$O$4/2,3,IF(AND(Uppsafnað!$N$7<Approach!$O$4,Uppsafnað!$N$7>=Approach!$O$4/2),2,IF(AND(AL29>Approach!$O$4,Uppsafnað!AL29<Approach!$O$4*1.5),1,0))))","v":""},{"$error":"#N/A"},{"$error":"#N/A"},150,"","",{"$f":"IF(AR29=\"\",\"\",IF(AR29<=Approach!$O$4/2,3,IF(AND(Uppsafnað!$N$7<Approach!$O$4,Uppsafnað!$N$7>=Approach!$O$4/2),2,IF(AND(AR29>Approach!$O$4,Uppsafnað!AR29<Approach!$O$4*1.5),1,0))))","v":""},{"$error":"#N/A"},{"$error":"#N/A"},{"$error":"#N/A"},{"$error":"#N/A"},{"$error":"#N/A"},0,{"$error":"#N/A"},{"$error":"#N/A"},{"$error":"#N/A"},{"$error":"#N/A"},{"$error":"#N/A"},{"$error":"#N/A"},{"$error":"#N/A"},{"$error":"#N/A"},{"$error":"#N/A"},{"$error":"#N/A"},{"$error":"#N/A"},{"$error":"#N/A"},24,{"$error":"#N/A"},{"$error":"#N/A"},{"$error":"#N/A"},{"$error":"#N/A"},{"$error":"#N/A"},0,{"$error":"#N/A"},{"$error":"#N/A"},{"$error":"#N/A"},{"$error":"#N/A"},{"$error":"#N/A"},{"$error":"#N/A"},{"$error":"#N/A"},{"$error":"#N/A"},{"$error":"#N/A"},{"$error":"#N/A"},{"$error":"#N/A"},{"$error":"#N/A"},0,0,0]
[39975,null,null,null,null,null,null,2,3,{"$error":"#N/A"},{"$error":"#N/A"},150,"","",{"$f":"IF(N30=\"\",\"\",IF(N30<=Approach!$O$4/2,3,IF(AND(Uppsafnað!N30<Approach!$O$4,Uppsafnað!N30>=Approach!$O$4/2),2,IF(AND(N30>Approach!$O$4,Uppsafnað!N30<Approach!$O$4*1.5),1,0))))","v":""},0,0,150,0,0,{"$f":"IF(T30=\"\",\"\",IF(T30<=Approach!$O$4/2,3,IF(AND(Uppsafnað!$N$7<Approach!$O$4,Uppsafnað!$N$7>=Approach!$O$4/2),2,IF(AND(T30>Approach!$O$4,Uppsafnað!T30<Approach!$O$4*1.5),1,0))))","v":3},{"$error":"#N/A"},{"$error":"#N/A"},150,"","",{"$f":"IF(Z30=\"\",\"\",IF(Z30<=Approach!$O$4/2,3,IF(AND(Uppsafnað!$N$7<Approach!$O$4,Uppsafnað!$N$7>=Approach!$O$4/2),2,IF(AND(Z30>Approach!$O$4,Uppsafnað!Z30<Approach!$O$4*1.5),1,0))))","v":""},{"$error":"#N/A"},{"$error":"#N/A"},150,"","",{"$f":"IF(AF30=\"\",\"\",IF(AF30<=Approach!$O$4/2,3,IF(AND(Uppsafnað!$N$7<Approach!$O$4,Uppsafnað!$N$7>=Approach!$O$4/2),2,IF(AND(AF30>Approach!$O$4,Uppsafnað!AF30<Approach!$O$4*1.5),1,0))))","v":""},{"$error":"#N/A"},{"$error":"#N/A"},150,"","",{"$f":"IF(AL30=\"\",\"\",IF(AL30<=Approach!$O$4/2,3,IF(AND(Uppsafnað!$N$7<Approach!$O$4,Uppsafnað!$N$7>=Approach!$O$4/2),2,IF(AND(AL30>Approach!$O$4,Uppsafnað!AL30<Approach!$O$4*1.5),1,0))))","v":""},{"$error":"#N/A"},{"$error":"#N/A"},150,"","",{"$f":"IF(AR30=\"\",\"\",IF(AR30<=Approach!$O$4/2,3,IF(AND(Uppsafnað!$N$7<Approach!$O$4,Uppsafnað!$N$7>=Approach!$O$4/2),2,IF(AND(AR30>Approach!$O$4,Uppsafnað!AR30<Approach!$O$4*1.5),1,0))))","v":""},{"$error":"#N/A"},{"$error":"#N/A"},{"$error":"#N/A"},{"$error":"#N/A"},{"$error":"#N/A"},0,{"$error":"#N/A"},{"$error":"#N/A"},{"$error":"#N/A"},{"$error":"#N/A"},{"$error":"#N/A"},{"$error":"#N/A"},{"$error":"#N/A"},{"$error":"#N/A"},{"$error":"#N/A"},{"$error":"#N/A"},{"$error":"#N/A"},{"$error":"#N/A"},25,{"$error":"#N/A"},{"$error":"#N/A"},{"$error":"#N/A"},{"$error":"#N/A"},{"$error":"#N/A"},0,{"$error":"#N/A"},{"$error":"#N/A"},{"$error":"#N/A"},{"$error":"#N/A"},{"$error":"#N/A"},{"$error":"#N/A"},{"$error":"#N/A"},{"$error":"#N/A"},{"$error":"#N/A"},{"$error":"#N/A"},{"$error":"#N/A"},{"$error":"#N/A"},0,0,0]
[39975,null,null,null,null,null,null,2,3,{"$error":"#N/A"},{"$error":"#N/A"},150,"","",{"$f":"IF(N31=\"\",\"\",IF(N31<=Approach!$O$4/2,3,IF(AND(Uppsafnað!N31<Approach!$O$4,Uppsafnað!N31>=Approach!$O$4/2),2,IF(AND(N31>Approach!$O$4,Uppsafnað!N31<Approach!$O$4*1.5),1,0))))","v":""},0,0,150,0,0,{"$f":"IF(T31=\"\",\"\",IF(T31<=Approach!$O$4/2,3,IF(AND(Uppsafnað!$N$7<Approach!$O$4,Uppsafnað!$N$7>=Approach!$O$4/2),2,IF(AND(T31>Approach!$O$4,Uppsafnað!T31<Approach!$O$4*1.5),1,0))))","v":3},{"$error":"#N/A"},{"$error":"#N/A"},150,"","",{"$f":"IF(Z31=\"\",\"\",IF(Z31<=Approach!$O$4/2,3,IF(AND(Uppsafnað!$N$7<Approach!$O$4,Uppsafnað!$N$7>=Approach!$O$4/2),2,IF(AND(Z31>Approach!$O$4,Uppsafnað!Z31<Approach!$O$4*1.5),1,0))))","v":""},{"$error":"#N/A"},{"$error":"#N/A"},150,"","",{"$f":"IF(AF31=\"\",\"\",IF(AF31<=Approach!$O$4/2,3,IF(AND(Uppsafnað!$N$7<Approach!$O$4,Uppsafnað!$N$7>=Approach!$O$4/2),2,IF(AND(AF31>Approach!$O$4,Uppsafnað!AF31<Approach!$O$4*1.5),1,0))))","v":""},{"$error":"#N/A"},{"$error":"#N/A"},150,"","",{"$f":"IF(AL31=\"\",\"\",IF(AL31<=Approach!$O$4/2,3,IF(AND(Uppsafnað!$N$7<Approach!$O$4,Uppsafnað!$N$7>=Approach!$O$4/2),2,IF(AND(AL31>Approach!$O$4,Uppsafnað!AL31<Approach!$O$4*1.5),1,0))))","v":""},{"$error":"#N/A"},{"$error":"#N/A"},150,"","",{"$f":"IF(AR31=\"\",\"\",IF(AR31<=Approach!$O$4/2,3,IF(AND(Uppsafnað!$N$7<Approach!$O$4,Uppsafnað!$N$7>=Approach!$O$4/2),2,IF(AND(AR31>Approach!$O$4,Uppsafnað!AR31<Approach!$O$4*1.5),1,0))))","v":""},{"$error":"#N/A"},{"$error":"#N/A"},{"$error":"#N/A"},{"$error":"#N/A"},{"$error":"#N/A"},0,{"$error":"#N/A"},{"$error":"#N/A"},{"$error":"#N/A"},{"$error":"#N/A"},{"$error":"#N/A"},{"$error":"#N/A"},{"$error":"#N/A"},{"$error":"#N/A"},{"$error":"#N/A"},{"$error":"#N/A"},{"$error":"#N/A"},{"$error":"#N/A"},26,{"$error":"#N/A"},{"$error":"#N/A"},{"$error":"#N/A"},{"$error":"#N/A"},{"$error":"#N/A"},0,{"$error":"#N/A"},{"$error":"#N/A"},{"$error":"#N/A"},{"$error":"#N/A"},{"$error":"#N/A"},{"$error":"#N/A"},{"$error":"#N/A"},{"$error":"#N/A"},{"$error":"#N/A"},{"$error":"#N/A"},{"$error":"#N/A"},{"$error":"#N/A"},0,0,0]
[39975,null,null,null,null,null,null,2,3,{"$error":"#N/A"},{"$error":"#N/A"},150,"","",{"$f":"IF(N32=\"\",\"\",IF(N32<=Approach!$O$4/2,3,IF(AND(Uppsafnað!N32<Approach!$O$4,Uppsafnað!N32>=Approach!$O$4/2),2,IF(AND(N32>Approach!$O$4,Uppsafnað!N32<Approach!$O$4*1.5),1,0))))","v":""},0,0,150,0,0,{"$f":"IF(T32=\"\",\"\",IF(T32<=Approach!$O$4/2,3,IF(AND(Uppsafnað!$N$7<Approach!$O$4,Uppsafnað!$N$7>=Approach!$O$4/2),2,IF(AND(T32>Approach!$O$4,Uppsafnað!T32<Approach!$O$4*1.5),1,0))))","v":3},{"$error":"#N/A"},{"$error":"#N/A"},150,"","",{"$f":"IF(Z32=\"\",\"\",IF(Z32<=Approach!$O$4/2,3,IF(AND(Uppsafnað!$N$7<Approach!$O$4,Uppsafnað!$N$7>=Approach!$O$4/2),2,IF(AND(Z32>Approach!$O$4,Uppsafnað!Z32<Approach!$O$4*1.5),1,0))))","v":""},{"$error":"#N/A"},{"$error":"#N/A"},150,"","",{"$f":"IF(AF32=\"\",\"\",IF(AF32<=Approach!$O$4/2,3,IF(AND(Uppsafnað!$N$7<Approach!$O$4,Uppsafnað!$N$7>=Approach!$O$4/2),2,IF(AND(AF32>Approach!$O$4,Uppsafnað!AF32<Approach!$O$4*1.5),1,0))))","v":""},{"$error":"#N/A"},{"$error":"#N/A"},150,"","",{"$f":"IF(AL32=\"\",\"\",IF(AL32<=Approach!$O$4/2,3,IF(AND(Uppsafnað!$N$7<Approach!$O$4,Uppsafnað!$N$7>=Approach!$O$4/2),2,IF(AND(AL32>Approach!$O$4,Uppsafnað!AL32<Approach!$O$4*1.5),1,0))))","v":""},{"$error":"#N/A"},{"$error":"#N/A"},150,"","",{"$f":"IF(AR32=\"\",\"\",IF(AR32<=Approach!$O$4/2,3,IF(AND(Uppsafnað!$N$7<Approach!$O$4,Uppsafnað!$N$7>=Approach!$O$4/2),2,IF(AND(AR32>Approach!$O$4,Uppsafnað!AR32<Approach!$O$4*1.5),1,0))))","v":""},{"$error":"#N/A"},{"$error":"#N/A"},{"$error":"#N/A"},{"$error":"#N/A"},{"$error":"#N/A"},0,{"$error":"#N/A"},{"$error":"#N/A"},{"$error":"#N/A"},{"$error":"#N/A"},{"$error":"#N/A"},{"$error":"#N/A"},{"$error":"#N/A"},{"$error":"#N/A"},{"$error":"#N/A"},{"$error":"#N/A"},{"$error":"#N/A"},{"$error":"#N/A"},27,{"$error":"#N/A"},{"$error":"#N/A"},{"$error":"#N/A"},{"$error":"#N/A"},{"$error":"#N/A"},0,{"$error":"#N/A"},{"$error":"#N/A"},{"$error":"#N/A"},{"$error":"#N/A"},{"$error":"#N/A"},{"$error":"#N/A"},{"$error":"#N/A"},{"$error":"#N/A"},{"$error":"#N/A"},{"$error":"#N/A"},{"$error":"#N/A"},{"$error":"#N/A"},0,0,0]
[39975,null,null,null,null,null,null,2,3,{"$error":"#N/A"},{"$error":"#N/A"},150,"","",{"$f":"IF(N33=\"\",\"\",IF(N33<=Approach!$O$4/2,3,IF(AND(Uppsafnað!N33<Approach!$O$4,Uppsafnað!N33>=Approach!$O$4/2),2,IF(AND(N33>Approach!$O$4,Uppsafnað!N33<Approach!$O$4*1.5),1,0))))","v":""},0,0,150,0,0,{"$f":"IF(T33=\"\",\"\",IF(T33<=Approach!$O$4/2,3,IF(AND(Uppsafnað!$N$7<Approach!$O$4,Uppsafnað!$N$7>=Approach!$O$4/2),2,IF(AND(T33>Approach!$O$4,Uppsafnað!T33<Approach!$O$4*1.5),1,0))))","v":3},{"$error":"#N/A"},{"$error":"#N/A"},150,"","",{"$f":"IF(Z33=\"\",\"\",IF(Z33<=Approach!$O$4/2,3,IF(AND(Uppsafnað!$N$7<Approach!$O$4,Uppsafnað!$N$7>=Approach!$O$4/2),2,IF(AND(Z33>Approach!$O$4,Uppsafnað!Z33<Approach!$O$4*1.5),1,0))))","v":""},{"$error":"#N/A"},{"$error":"#N/A"},150,"","",{"$f":"IF(AF33=\"\",\"\",IF(AF33<=Approach!$O$4/2,3,IF(AND(Uppsafnað!$N$7<Approach!$O$4,Uppsafnað!$N$7>=Approach!$O$4/2),2,IF(AND(AF33>Approach!$O$4,Uppsafnað!AF33<Approach!$O$4*1.5),1,0))))","v":""},{"$error":"#N/A"},{"$error":"#N/A"},150,"","",{"$f":"IF(AL33=\"\",\"\",IF(AL33<=Approach!$O$4/2,3,IF(AND(Uppsafnað!$N$7<Approach!$O$4,Uppsafnað!$N$7>=Approach!$O$4/2),2,IF(AND(AL33>Approach!$O$4,Uppsafnað!AL33<Approach!$O$4*1.5),1,0))))","v":""},{"$error":"#N/A"},{"$error":"#N/A"},150,"","",{"$f":"IF(AR33=\"\",\"\",IF(AR33<=Approach!$O$4/2,3,IF(AND(Uppsafnað!$N$7<Approach!$O$4,Uppsafnað!$N$7>=Approach!$O$4/2),2,IF(AND(AR33>Approach!$O$4,Uppsafnað!AR33<Approach!$O$4*1.5),1,0))))","v":""},{"$error":"#N/A"},{"$error":"#N/A"},{"$error":"#N/A"},{"$error":"#N/A"},{"$error":"#N/A"},0,{"$error":"#N/A"},{"$error":"#N/A"},{"$error":"#N/A"},{"$error":"#N/A"},{"$error":"#N/A"},{"$error":"#N/A"},{"$error":"#N/A"},{"$error":"#N/A"},{"$error":"#N/A"},{"$error":"#N/A"},{"$error":"#N/A"},{"$error":"#N/A"},28,{"$error":"#N/A"},{"$error":"#N/A"},{"$error":"#N/A"},{"$error":"#N/A"},{"$error":"#N/A"},0,{"$error":"#N/A"},{"$error":"#N/A"},{"$error":"#N/A"},{"$error":"#N/A"},{"$error":"#N/A"},{"$error":"#N/A"},{"$error":"#N/A"},{"$error":"#N/A"},{"$error":"#N/A"},{"$error":"#N/A"},{"$error":"#N/A"},{"$error":"#N/A"},0,0,0]
[39975,null,null,null,null,null,null,2,3,{"$error":"#N/A"},{"$error":"#N/A"},150,"","",{"$f":"IF(N34=\"\",\"\",IF(N34<=Approach!$O$4/2,3,IF(AND(Uppsafnað!N34<Approach!$O$4,Uppsafnað!N34>=Approach!$O$4/2),2,IF(AND(N34>Approach!$O$4,Uppsafnað!N34<Approach!$O$4*1.5),1,0))))","v":""},0,0,150,0,0,{"$f":"IF(T34=\"\",\"\",IF(T34<=Approach!$O$4/2,3,IF(AND(Uppsafnað!$N$7<Approach!$O$4,Uppsafnað!$N$7>=Approach!$O$4/2),2,IF(AND(T34>Approach!$O$4,Uppsafnað!T34<Approach!$O$4*1.5),1,0))))","v":3},{"$error":"#N/A"},{"$error":"#N/A"},150,"","",{"$f":"IF(Z34=\"\",\"\",IF(Z34<=Approach!$O$4/2,3,IF(AND(Uppsafnað!$N$7<Approach!$O$4,Uppsafnað!$N$7>=Approach!$O$4/2),2,IF(AND(Z34>Approach!$O$4,Uppsafnað!Z34<Approach!$O$4*1.5),1,0))))","v":""},{"$error":"#N/A"},{"$error":"#N/A"},150,"","",{"$f":"IF(AF34=\"\",\"\",IF(AF34<=Approach!$O$4/2,3,IF(AND(Uppsafnað!$N$7<Approach!$O$4,Uppsafnað!$N$7>=Approach!$O$4/2),2,IF(AND(AF34>Approach!$O$4,Uppsafnað!AF34<Approach!$O$4*1.5),1,0))))","v":""},{"$error":"#N/A"},{"$error":"#N/A"},150,"","",{"$f":"IF(AL34=\"\",\"\",IF(AL34<=Approach!$O$4/2,3,IF(AND(Uppsafnað!$N$7<Approach!$O$4,Uppsafnað!$N$7>=Approach!$O$4/2),2,IF(AND(AL34>Approach!$O$4,Uppsafnað!AL34<Approach!$O$4*1.5),1,0))))","v":""},{"$error":"#N/A"},{"$error":"#N/A"},150,"","",{"$f":"IF(AR34=\"\",\"\",IF(AR34<=Approach!$O$4/2,3,IF(AND(Uppsafnað!$N$7<Approach!$O$4,Uppsafnað!$N$7>=Approach!$O$4/2),2,IF(AND(AR34>Approach!$O$4,Uppsafnað!AR34<Approach!$O$4*1.5),1,0))))","v":""},{"$error":"#N/A"},{"$error":"#N/A"},{"$error":"#N/A"},{"$error":"#N/A"},{"$error":"#N/A"},0,{"$error":"#N/A"},{"$error":"#N/A"},{"$error":"#N/A"},{"$error":"#N/A"},{"$error":"#N/A"},{"$error":"#N/A"},{"$error":"#N/A"},{"$error":"#N/A"},{"$error":"#N/A"},{"$error":"#N/A"},{"$error":"#N/A"},{"$error":"#N/A"},29,{"$error":"#N/A"},{"$error":"#N/A"},{"$error":"#N/A"},{"$error":"#N/A"},{"$error":"#N/A"},0,{"$error":"#N/A"},{"$error":"#N/A"},{"$error":"#N/A"},{"$error":"#N/A"},{"$error":"#N/A"},{"$error":"#N/A"},{"$error":"#N/A"},{"$error":"#N/A"},{"$error":"#N/A"},{"$error":"#N/A"},{"$error":"#N/A"},{"$error":"#N/A"},0,0,0]
[39975,null,null,null,null,null,null,2,3,{"$error":"#N/A"},{"$error":"#N/A"},150,"","",{"$f":"IF(N35=\"\",\"\",IF(N35<=Approach!$O$4/2,3,IF(AND(Uppsafnað!N35<Approach!$O$4,Uppsafnað!N35>=Approach!$O$4/2),2,IF(AND(N35>Approach!$O$4,Uppsafnað!N35<Approach!$O$4*1.5),1,0))))","v":""},0,0,150,0,0,{"$f":"IF(T35=\"\",\"\",IF(T35<=Approach!$O$4/2,3,IF(AND(Uppsafnað!$N$7<Approach!$O$4,Uppsafnað!$N$7>=Approach!$O$4/2),2,IF(AND(T35>Approach!$O$4,Uppsafnað!T35<Approach!$O$4*1.5),1,0))))","v":3},{"$error":"#N/A"},{"$error":"#N/A"},150,"","",{"$f":"IF(Z35=\"\",\"\",IF(Z35<=Approach!$O$4/2,3,IF(AND(Uppsafnað!$N$7<Approach!$O$4,Uppsafnað!$N$7>=Approach!$O$4/2),2,IF(AND(Z35>Approach!$O$4,Uppsafnað!Z35<Approach!$O$4*1.5),1,0))))","v":""},{"$error":"#N/A"},{"$error":"#N/A"},150,"","",{"$f":"IF(AF35=\"\",\"\",IF(AF35<=Approach!$O$4/2,3,IF(AND(Uppsafnað!$N$7<Approach!$O$4,Uppsafnað!$N$7>=Approach!$O$4/2),2,IF(AND(AF35>Approach!$O$4,Uppsafnað!AF35<Approach!$O$4*1.5),1,0))))","v":""},{"$error":"#N/A"},{"$error":"#N/A"},150,"","",{"$f":"IF(AL35=\"\",\"\",IF(AL35<=Approach!$O$4/2,3,IF(AND(Uppsafnað!$N$7<Approach!$O$4,Uppsafnað!$N$7>=Approach!$O$4/2),2,IF(AND(AL35>Approach!$O$4,Uppsafnað!AL35<Approach!$O$4*1.5),1,0))))","v":""},{"$error":"#N/A"},{"$error":"#N/A"},150,"","",{"$f":"IF(AR35=\"\",\"\",IF(AR35<=Approach!$O$4/2,3,IF(AND(Uppsafnað!$N$7<Approach!$O$4,Uppsafnað!$N$7>=Approach!$O$4/2),2,IF(AND(AR35>Approach!$O$4,Uppsafnað!AR35<Approach!$O$4*1.5),1,0))))","v":""},{"$error":"#N/A"},{"$error":"#N/A"},{"$error":"#N/A"},{"$error":"#N/A"},{"$error":"#N/A"},0,{"$error":"#N/A"},{"$error":"#N/A"},{"$error":"#N/A"},{"$error":"#N/A"},{"$error":"#N/A"},{"$error":"#N/A"},{"$error":"#N/A"},{"$error":"#N/A"},{"$error":"#N/A"},{"$error":"#N/A"},{"$error":"#N/A"},{"$error":"#N/A"},30,{"$error":"#N/A"},{"$error":"#N/A"},{"$error":"#N/A"},{"$error":"#N/A"},{"$error":"#N/A"},0,{"$error":"#N/A"},{"$error":"#N/A"},{"$error":"#N/A"},{"$error":"#N/A"},{"$error":"#N/A"},{"$error":"#N/A"},{"$error":"#N/A"},{"$error":"#N/A"},{"$error":"#N/A"},{"$error":"#N/A"},{"$error":"#N/A"},{"$error":"#N/A"},0,0,0]
[39975,null,null,null,null,null,null,2,3,{"$error":"#N/A"},{"$error":"#N/A"},150,"","",{"$f":"IF(N36=\"\",\"\",IF(N36<=Approach!$O$4/2,3,IF(AND(Uppsafnað!N36<Approach!$O$4,Uppsafnað!N36>=Approach!$O$4/2),2,IF(AND(N36>Approach!$O$4,Uppsafnað!N36<Approach!$O$4*1.5),1,0))))","v":""},0,0,150,0,0,{"$f":"IF(T36=\"\",\"\",IF(T36<=Approach!$O$4/2,3,IF(AND(Uppsafnað!$N$7<Approach!$O$4,Uppsafnað!$N$7>=Approach!$O$4/2),2,IF(AND(T36>Approach!$O$4,Uppsafnað!T36<Approach!$O$4*1.5),1,0))))","v":3},{"$error":"#N/A"},{"$error":"#N/A"},150,"","",{"$f":"IF(Z36=\"\",\"\",IF(Z36<=Approach!$O$4/2,3,IF(AND(Uppsafnað!$N$7<Approach!$O$4,Uppsafnað!$N$7>=Approach!$O$4/2),2,IF(AND(Z36>Approach!$O$4,Uppsafnað!Z36<Approach!$O$4*1.5),1,0))))","v":""},{"$error":"#N/A"},{"$error":"#N/A"},150,"","",{"$f":"IF(AF36=\"\",\"\",IF(AF36<=Approach!$O$4/2,3,IF(AND(Uppsafnað!$N$7<Approach!$O$4,Uppsafnað!$N$7>=Approach!$O$4/2),2,IF(AND(AF36>Approach!$O$4,Uppsafnað!AF36<Approach!$O$4*1.5),1,0))))","v":""},{"$error":"#N/A"},{"$error":"#N/A"},150,"","",{"$f":"IF(AL36=\"\",\"\",IF(AL36<=Approach!$O$4/2,3,IF(AND(Uppsafnað!$N$7<Approach!$O$4,Uppsafnað!$N$7>=Approach!$O$4/2),2,IF(AND(AL36>Approach!$O$4,Uppsafnað!AL36<Approach!$O$4*1.5),1,0))))","v":""},{"$error":"#N/A"},{"$error":"#N/A"},150,"","",{"$f":"IF(AR36=\"\",\"\",IF(AR36<=Approach!$O$4/2,3,IF(AND(Uppsafnað!$N$7<Approach!$O$4,Uppsafnað!$N$7>=Approach!$O$4/2),2,IF(AND(AR36>Approach!$O$4,Uppsafnað!AR36<Approach!$O$4*1.5),1,0))))","v":""},{"$error":"#N/A"},{"$error":"#N/A"},{"$error":"#N/A"},{"$error":"#N/A"},{"$error":"#N/A"},0,{"$error":"#N/A"},{"$error":"#N/A"},{"$error":"#N/A"},{"$error":"#N/A"},{"$error":"#N/A"},{"$error":"#N/A"},{"$error":"#N/A"},{"$error":"#N/A"},{"$error":"#N/A"},{"$error":"#N/A"},{"$error":"#N/A"},{"$error":"#N/A"},31,{"$error":"#N/A"},{"$error":"#N/A"},{"$error":"#N/A"},{"$error":"#N/A"},{"$error":"#N/A"},0,{"$error":"#N/A"},{"$error":"#N/A"},{"$error":"#N/A"},{"$error":"#N/A"},{"$error":"#N/A"},{"$error":"#N/A"},{"$error":"#N/A"},{"$error":"#N/A"},{"$error":"#N/A"},{"$error":"#N/A"},{"$error":"#N/A"},{"$error":"#N/A"},0,0,0]
[39975,null,null,null,null,null,null,2,3,{"$error":"#N/A"},{"$error":"#N/A"},150,"","",{"$f":"IF(N37=\"\",\"\",IF(N37<=Approach!$O$4/2,3,IF(AND(Uppsafnað!N37<Approach!$O$4,Uppsafnað!N37>=Approach!$O$4/2),2,IF(AND(N37>Approach!$O$4,Uppsafnað!N37<Approach!$O$4*1.5),1,0))))","v":""},0,0,150,0,0,{"$f":"IF(T37=\"\",\"\",IF(T37<=Approach!$O$4/2,3,IF(AND(Uppsafnað!$N$7<Approach!$O$4,Uppsafnað!$N$7>=Approach!$O$4/2),2,IF(AND(T37>Approach!$O$4,Uppsafnað!T37<Approach!$O$4*1.5),1,0))))","v":3},{"$error":"#N/A"},{"$error":"#N/A"},150,"","",{"$f":"IF(Z37=\"\",\"\",IF(Z37<=Approach!$O$4/2,3,IF(AND(Uppsafnað!$N$7<Approach!$O$4,Uppsafnað!$N$7>=Approach!$O$4/2),2,IF(AND(Z37>Approach!$O$4,Uppsafnað!Z37<Approach!$O$4*1.5),1,0))))","v":""},{"$error":"#N/A"},{"$error":"#N/A"},150,"","",{"$f":"IF(AF37=\"\",\"\",IF(AF37<=Approach!$O$4/2,3,IF(AND(Uppsafnað!$N$7<Approach!$O$4,Uppsafnað!$N$7>=Approach!$O$4/2),2,IF(AND(AF37>Approach!$O$4,Uppsafnað!AF37<Approach!$O$4*1.5),1,0))))","v":""},{"$error":"#N/A"},{"$error":"#N/A"},150,"","",{"$f":"IF(AL37=\"\",\"\",IF(AL37<=Approach!$O$4/2,3,IF(AND(Uppsafnað!$N$7<Approach!$O$4,Uppsafnað!$N$7>=Approach!$O$4/2),2,IF(AND(AL37>Approach!$O$4,Uppsafnað!AL37<Approach!$O$4*1.5),1,0))))","v":""},{"$error":"#N/A"},{"$error":"#N/A"},150,"","",{"$f":"IF(AR37=\"\",\"\",IF(AR37<=Approach!$O$4/2,3,IF(AND(Uppsafnað!$N$7<Approach!$O$4,Uppsafnað!$N$7>=Approach!$O$4/2),2,IF(AND(AR37>Approach!$O$4,Uppsafnað!AR37<Approach!$O$4*1.5),1,0))))","v":""},{"$error":"#N/A"},{"$error":"#N/A"},{"$error":"#N/A"},{"$error":"#N/A"},{"$error":"#N/A"},0,{"$error":"#N/A"},{"$error":"#N/A"},{"$error":"#N/A"},{"$error":"#N/A"},{"$error":"#N/A"},{"$error":"#N/A"},{"$error":"#N/A"},{"$error":"#N/A"},{"$error":"#N/A"},{"$error":"#N/A"},{"$error":"#N/A"},{"$error":"#N/A"},32,{"$error":"#N/A"},{"$error":"#N/A"},{"$error":"#N/A"},{"$error":"#N/A"},{"$error":"#N/A"},0,{"$error":"#N/A"},{"$error":"#N/A"},{"$error":"#N/A"},{"$error":"#N/A"},{"$error":"#N/A"},{"$error":"#N/A"},{"$error":"#N/A"},{"$error":"#N/A"},{"$error":"#N/A"},{"$error":"#N/A"},{"$error":"#N/A"},{"$error":"#N/A"},0,0,0]
[39975,null,null,null,null,null,null,2,3,{"$error":"#N/A"},{"$error":"#N/A"},150,"","",{"$f":"IF(N38=\"\",\"\",IF(N38<=Approach!$O$4/2,3,IF(AND(Uppsafnað!N38<Approach!$O$4,Uppsafnað!N38>=Approach!$O$4/2),2,IF(AND(N38>Approach!$O$4,Uppsafnað!N38<Approach!$O$4*1.5),1,0))))","v":""},0,0,150,0,0,{"$f":"IF(T38=\"\",\"\",IF(T38<=Approach!$O$4/2,3,IF(AND(Uppsafnað!$N$7<Approach!$O$4,Uppsafnað!$N$7>=Approach!$O$4/2),2,IF(AND(T38>Approach!$O$4,Uppsafnað!T38<Approach!$O$4*1.5),1,0))))","v":3},{"$error":"#N/A"},{"$error":"#N/A"},150,"","",{"$f":"IF(Z38=\"\",\"\",IF(Z38<=Approach!$O$4/2,3,IF(AND(Uppsafnað!$N$7<Approach!$O$4,Uppsafnað!$N$7>=Approach!$O$4/2),2,IF(AND(Z38>Approach!$O$4,Uppsafnað!Z38<Approach!$O$4*1.5),1,0))))","v":""},{"$error":"#N/A"},{"$error":"#N/A"},150,"","",{"$f":"IF(AF38=\"\",\"\",IF(AF38<=Approach!$O$4/2,3,IF(AND(Uppsafnað!$N$7<Approach!$O$4,Uppsafnað!$N$7>=Approach!$O$4/2),2,IF(AND(AF38>Approach!$O$4,Uppsafnað!AF38<Approach!$O$4*1.5),1,0))))","v":""},{"$error":"#N/A"},{"$error":"#N/A"},150,"","",{"$f":"IF(AL38=\"\",\"\",IF(AL38<=Approach!$O$4/2,3,IF(AND(Uppsafnað!$N$7<Approach!$O$4,Uppsafnað!$N$7>=Approach!$O$4/2),2,IF(AND(AL38>Approach!$O$4,Uppsafnað!AL38<Approach!$O$4*1.5),1,0))))","v":""},{"$error":"#N/A"},{"$error":"#N/A"},150,"","",{"$f":"IF(AR38=\"\",\"\",IF(AR38<=Approach!$O$4/2,3,IF(AND(Uppsafnað!$N$7<Approach!$O$4,Uppsafnað!$N$7>=Approach!$O$4/2),2,IF(AND(AR38>Approach!$O$4,Uppsafnað!AR38<Approach!$O$4*1.5),1,0))))","v":""},{"$error":"#N/A"},{"$error":"#N/A"},{"$error":"#N/A"},{"$error":"#N/A"},{"$error":"#N/A"},0,{"$error":"#N/A"},{"$error":"#N/A"},{"$error":"#N/A"},{"$error":"#N/A"},{"$error":"#N/A"},{"$error":"#N/A"},{"$error":"#N/A"},{"$error":"#N/A"},{"$error":"#N/A"},{"$error":"#N/A"},{"$error":"#N/A"},{"$error":"#N/A"},33,{"$error":"#N/A"},{"$error":"#N/A"},{"$error":"#N/A"},{"$error":"#N/A"},{"$error":"#N/A"},0,{"$error":"#N/A"},{"$error":"#N/A"},{"$error":"#N/A"},{"$error":"#N/A"},{"$error":"#N/A"},{"$error":"#N/A"},{"$error":"#N/A"},{"$error":"#N/A"},{"$error":"#N/A"},{"$error":"#N/A"},{"$error":"#N/A"},{"$error":"#N/A"},0,0,0]
[39975,null,null,null,null,null,null,2,3,{"$error":"#N/A"},{"$error":"#N/A"},150,"","",{"$f":"IF(N39=\"\",\"\",IF(N39<=Approach!$O$4/2,3,IF(AND(Uppsafnað!N39<Approach!$O$4,Uppsafnað!N39>=Approach!$O$4/2),2,IF(AND(N39>Approach!$O$4,Uppsafnað!N39<Approach!$O$4*1.5),1,0))))","v":""},0,0,150,0,0,{"$f":"IF(T39=\"\",\"\",IF(T39<=Approach!$O$4/2,3,IF(AND(Uppsafnað!$N$7<Approach!$O$4,Uppsafnað!$N$7>=Approach!$O$4/2),2,IF(AND(T39>Approach!$O$4,Uppsafnað!T39<Approach!$O$4*1.5),1,0))))","v":3},{"$error":"#N/A"},{"$error":"#N/A"},150,"","",{"$f":"IF(Z39=\"\",\"\",IF(Z39<=Approach!$O$4/2,3,IF(AND(Uppsafnað!$N$7<Approach!$O$4,Uppsafnað!$N$7>=Approach!$O$4/2),2,IF(AND(Z39>Approach!$O$4,Uppsafnað!Z39<Approach!$O$4*1.5),1,0))))","v":""},{"$error":"#N/A"},{"$error":"#N/A"},150,"","",{"$f":"IF(AF39=\"\",\"\",IF(AF39<=Approach!$O$4/2,3,IF(AND(Uppsafnað!$N$7<Approach!$O$4,Uppsafnað!$N$7>=Approach!$O$4/2),2,IF(AND(AF39>Approach!$O$4,Uppsafnað!AF39<Approach!$O$4*1.5),1,0))))","v":""},{"$error":"#N/A"},{"$error":"#N/A"},150,"","",{"$f":"IF(AL39=\"\",\"\",IF(AL39<=Approach!$O$4/2,3,IF(AND(Uppsafnað!$N$7<Approach!$O$4,Uppsafnað!$N$7>=Approach!$O$4/2),2,IF(AND(AL39>Approach!$O$4,Uppsafnað!AL39<Approach!$O$4*1.5),1,0))))","v":""},{"$error":"#N/A"},{"$error":"#N/A"},150,"","",{"$f":"IF(AR39=\"\",\"\",IF(AR39<=Approach!$O$4/2,3,IF(AND(Uppsafnað!$N$7<Approach!$O$4,Uppsafnað!$N$7>=Approach!$O$4/2),2,IF(AND(AR39>Approach!$O$4,Uppsafnað!AR39<Approach!$O$4*1.5),1,0))))","v":""},{"$error":"#N/A"},{"$error":"#N/A"},{"$error":"#N/A"},{"$error":"#N/A"},{"$error":"#N/A"},0,{"$error":"#N/A"},{"$error":"#N/A"},{"$error":"#N/A"},{"$error":"#N/A"},{"$error":"#N/A"},{"$error":"#N/A"},{"$error":"#N/A"},{"$error":"#N/A"},{"$error":"#N/A"},{"$error":"#N/A"},{"$error":"#N/A"},{"$error":"#N/A"},34,{"$error":"#N/A"},{"$error":"#N/A"},{"$error":"#N/A"},{"$error":"#N/A"},{"$error":"#N/A"},0,{"$error":"#N/A"},{"$error":"#N/A"},{"$error":"#N/A"},{"$error":"#N/A"},{"$error":"#N/A"},{"$error":"#N/A"},{"$error":"#N/A"},{"$error":"#N/A"},{"$error":"#N/A"},{"$error":"#N/A"},{"$error":"#N/A"},{"$error":"#N/A"},{"$f":"HLOOKUP($CE$6,AT$6:BK$9304,$BL39)","v":0},{"$f":"+HLOOKUP($CE$6,BM$6:CD$9304,BL39)","v":0},0]
[39975,null,null,null,null,null,null,2,3,{"$error":"#N/A"},{"$error":"#N/A"},150,"","",{"$f":"IF(N40=\"\",\"\",IF(N40<=Approach!$O$4/2,3,IF(AND(Uppsafnað!N40<Approach!$O$4,Uppsafnað!N40>=Approach!$O$4/2),2,IF(AND(N40>Approach!$O$4,Uppsafnað!N40<Approach!$O$4*1.5),1,0))))","v":""},0,0,150,0,0,{"$f":"IF(T40=\"\",\"\",IF(T40<=Approach!$O$4/2,3,IF(AND(Uppsafnað!$N$7<Approach!$O$4,Uppsafnað!$N$7>=Approach!$O$4/2),2,IF(AND(T40>Approach!$O$4,Uppsafnað!T40<Approach!$O$4*1.5),1,0))))","v":3},{"$error":"#N/A"},{"$error":"#N/A"},150,"","",{"$f":"IF(Z40=\"\",\"\",IF(Z40<=Approach!$O$4/2,3,IF(AND(Uppsafnað!$N$7<Approach!$O$4,Uppsafnað!$N$7>=Approach!$O$4/2),2,IF(AND(Z40>Approach!$O$4,Uppsafnað!Z40<Approach!$O$4*1.5),1,0))))","v":""},{"$error":"#N/A"},{"$error":"#N/A"},150,"","",{"$f":"IF(AF40=\"\",\"\",IF(AF40<=Approach!$O$4/2,3,IF(AND(Uppsafnað!$N$7<Approach!$O$4,Uppsafnað!$N$7>=Approach!$O$4/2),2,IF(AND(AF40>Approach!$O$4,Uppsafnað!AF40<Approach!$O$4*1.5),1,0))))","v":""},{"$error":"#N/A"},{"$error":"#N/A"},150,"","",{"$f":"IF(AL40=\"\",\"\",IF(AL40<=Approach!$O$4/2,3,IF(AND(Uppsafnað!$N$7<Approach!$O$4,Uppsafnað!$N$7>=Approach!$O$4/2),2,IF(AND(AL40>Approach!$O$4,Uppsafnað!AL40<Approach!$O$4*1.5),1,0))))","v":""},{"$error":"#N/A"},{"$error":"#N/A"},150,"","",{"$f":"IF(AR40=\"\",\"\",IF(AR40<=Approach!$O$4/2,3,IF(AND(Uppsafnað!$N$7<Approach!$O$4,Uppsafnað!$N$7>=Approach!$O$4/2),2,IF(AND(AR40>Approach!$O$4,Uppsafnað!AR40<Approach!$O$4*1.5),1,0))))","v":""},{"$error":"#N/A"},{"$error":"#N/A"},{"$error":"#N/A"},{"$error":"#N/A"},{"$error":"#N/A"},0,{"$error":"#N/A"},{"$error":"#N/A"},{"$error":"#N/A"},{"$error":"#N/A"},{"$error":"#N/A"},{"$error":"#N/A"},{"$error":"#N/A"},{"$error":"#N/A"},{"$error":"#N/A"},{"$error":"#N/A"},{"$error":"#N/A"},{"$error":"#N/A"},35,{"$error":"#N/A"},{"$error":"#N/A"},{"$error":"#N/A"},{"$error":"#N/A"},{"$error":"#N/A"},0,{"$error":"#N/A"},{"$error":"#N/A"},{"$error":"#N/A"},{"$error":"#N/A"},{"$error":"#N/A"},{"$error":"#N/A"},{"$error":"#N/A"},{"$error":"#N/A"},{"$error":"#N/A"},{"$error":"#N/A"},{"$error":"#N/A"},{"$error":"#N/A"},0,0,0]
[39975,null,null,null,null,null,null,2,3,{"$error":"#N/A"},{"$error":"#N/A"},150,"","",{"$f":"IF(N41=\"\",\"\",IF(N41<=Approach!$O$4/2,3,IF(AND(Uppsafnað!N41<Approach!$O$4,Uppsafnað!N41>=Approach!$O$4/2),2,IF(AND(N41>Approach!$O$4,Uppsafnað!N41<Approach!$O$4*1.5),1,0))))","v":""},0,0,150,0,0,{"$f":"IF(T41=\"\",\"\",IF(T41<=Approach!$O$4/2,3,IF(AND(Uppsafnað!$N$7<Approach!$O$4,Uppsafnað!$N$7>=Approach!$O$4/2),2,IF(AND(T41>Approach!$O$4,Uppsafnað!T41<Approach!$O$4*1.5),1,0))))","v":3},{"$error":"#N/A"},{"$error":"#N/A"},150,"","",{"$f":"IF(Z41=\"\",\"\",IF(Z41<=Approach!$O$4/2,3,IF(AND(Uppsafnað!$N$7<Approach!$O$4,Uppsafnað!$N$7>=Approach!$O$4/2),2,IF(AND(Z41>Approach!$O$4,Uppsafnað!Z41<Approach!$O$4*1.5),1,0))))","v":""},{"$error":"#N/A"},{"$error":"#N/A"},150,"","",{"$f":"IF(AF41=\"\",\"\",IF(AF41<=Approach!$O$4/2,3,IF(AND(Uppsafnað!$N$7<Approach!$O$4,Uppsafnað!$N$7>=Approach!$O$4/2),2,IF(AND(AF41>Approach!$O$4,Uppsafnað!AF41<Approach!$O$4*1.5),1,0))))","v":""},{"$error":"#N/A"},{"$error":"#N/A"},150,"","",{"$f":"IF(AL41=\"\",\"\",IF(AL41<=Approach!$O$4/2,3,IF(AND(Uppsafnað!$N$7<Approach!$O$4,Uppsafnað!$N$7>=Approach!$O$4/2),2,IF(AND(AL41>Approach!$O$4,Uppsafnað!AL41<Approach!$O$4*1.5),1,0))))","v":""},{"$error":"#N/A"},{"$error":"#N/A"},150,"","",{"$f":"IF(AR41=\"\",\"\",IF(AR41<=Approach!$O$4/2,3,IF(AND(Uppsafnað!$N$7<Approach!$O$4,Uppsafnað!$N$7>=Approach!$O$4/2),2,IF(AND(AR41>Approach!$O$4,Uppsafnað!AR41<Approach!$O$4*1.5),1,0))))","v":""},{"$error":"#N/A"},{"$error":"#N/A"},{"$error":"#N/A"},{"$error":"#N/A"},{"$error":"#N/A"},0,{"$error":"#N/A"},{"$error":"#N/A"},{"$error":"#N/A"},{"$error":"#N/A"},{"$error":"#N/A"},{"$error":"#N/A"},{"$error":"#N/A"},{"$error":"#N/A"},{"$error":"#N/A"},{"$error":"#N/A"},{"$error":"#N/A"},{"$error":"#N/A"},36,{"$error":"#N/A"},{"$error":"#N/A"},{"$error":"#N/A"},{"$error":"#N/A"},{"$error":"#N/A"},0,{"$error":"#N/A"},{"$error":"#N/A"},{"$error":"#N/A"},{"$error":"#N/A"},{"$error":"#N/A"},{"$error":"#N/A"},{"$error":"#N/A"},{"$error":"#N/A"},{"$error":"#N/A"},{"$error":"#N/A"},{"$error":"#N/A"},{"$error":"#N/A"},0,0,0]
[39975,null,null,null,null,null,null,2,3,{"$error":"#N/A"},{"$error":"#N/A"},150,"","",{"$f":"IF(N42=\"\",\"\",IF(N42<=Approach!$O$4/2,3,IF(AND(Uppsafnað!N42<Approach!$O$4,Uppsafnað!N42>=Approach!$O$4/2),2,IF(AND(N42>Approach!$O$4,Uppsafnað!N42<Approach!$O$4*1.5),1,0))))","v":""},0,0,150,0,0,{"$f":"IF(T42=\"\",\"\",IF(T42<=Approach!$O$4/2,3,IF(AND(Uppsafnað!$N$7<Approach!$O$4,Uppsafnað!$N$7>=Approach!$O$4/2),2,IF(AND(T42>Approach!$O$4,Uppsafnað!T42<Approach!$O$4*1.5),1,0))))","v":3},{"$error":"#N/A"},{"$error":"#N/A"},150,"","",{"$f":"IF(Z42=\"\",\"\",IF(Z42<=Approach!$O$4/2,3,IF(AND(Uppsafnað!$N$7<Approach!$O$4,Uppsafnað!$N$7>=Approach!$O$4/2),2,IF(AND(Z42>Approach!$O$4,Uppsafnað!Z42<Approach!$O$4*1.5),1,0))))","v":""},{"$error":"#N/A"},{"$error":"#N/A"},150,"","",{"$f":"IF(AF42=\"\",\"\",IF(AF42<=Approach!$O$4/2,3,IF(AND(Uppsafnað!$N$7<Approach!$O$4,Uppsafnað!$N$7>=Approach!$O$4/2),2,IF(AND(AF42>Approach!$O$4,Uppsafnað!AF42<Approach!$O$4*1.5),1,0))))","v":""},{"$error":"#N/A"},{"$error":"#N/A"},150,"","",{"$f":"IF(AL42=\"\",\"\",IF(AL42<=Approach!$O$4/2,3,IF(AND(Uppsafnað!$N$7<Approach!$O$4,Uppsafnað!$N$7>=Approach!$O$4/2),2,IF(AND(AL42>Approach!$O$4,Uppsafnað!AL42<Approach!$O$4*1.5),1,0))))","v":""},{"$error":"#N/A"},{"$error":"#N/A"},150,"","",{"$f":"IF(AR42=\"\",\"\",IF(AR42<=Approach!$O$4/2,3,IF(AND(Uppsafnað!$N$7<Approach!$O$4,Uppsafnað!$N$7>=Approach!$O$4/2),2,IF(AND(AR42>Approach!$O$4,Uppsafnað!AR42<Approach!$O$4*1.5),1,0))))","v":""},{"$error":"#N/A"},{"$error":"#N/A"},{"$error":"#N/A"},{"$error":"#N/A"},{"$error":"#N/A"},0,{"$error":"#N/A"},{"$error":"#N/A"},{"$error":"#N/A"},{"$error":"#N/A"},{"$error":"#N/A"},{"$error":"#N/A"},{"$error":"#N/A"},{"$error":"#N/A"},{"$error":"#N/A"},{"$error":"#N/A"},{"$error":"#N/A"},{"$error":"#N/A"},37,{"$error":"#N/A"},{"$error":"#N/A"},{"$error":"#N/A"},{"$error":"#N/A"},{"$error":"#N/A"},0,{"$error":"#N/A"},{"$error":"#N/A"},{"$error":"#N/A"},{"$error":"#N/A"},{"$error":"#N/A"},{"$error":"#N/A"},{"$error":"#N/A"},{"$error":"#N/A"},{"$error":"#N/A"},{"$error":"#N/A"},{"$error":"#N/A"},{"$error":"#N/A"},0,0,0]
[39975,null,null,null,null,null,null,2,3,{"$error":"#N/A"},{"$error":"#N/A"},150,"","",{"$f":"IF(N43=\"\",\"\",IF(N43<=Approach!$O$4/2,3,IF(AND(Uppsafnað!N43<Approach!$O$4,Uppsafnað!N43>=Approach!$O$4/2),2,IF(AND(N43>Approach!$O$4,Uppsafnað!N43<Approach!$O$4*1.5),1,0))))","v":""},0,0,150,0,0,{"$f":"IF(T43=\"\",\"\",IF(T43<=Approach!$O$4/2,3,IF(AND(Uppsafnað!$N$7<Approach!$O$4,Uppsafnað!$N$7>=Approach!$O$4/2),2,IF(AND(T43>Approach!$O$4,Uppsafnað!T43<Approach!$O$4*1.5),1,0))))","v":3},{"$error":"#N/A"},{"$error":"#N/A"},150,"","",{"$f":"IF(Z43=\"\",\"\",IF(Z43<=Approach!$O$4/2,3,IF(AND(Uppsafnað!$N$7<Approach!$O$4,Uppsafnað!$N$7>=Approach!$O$4/2),2,IF(AND(Z43>Approach!$O$4,Uppsafnað!Z43<Approach!$O$4*1.5),1,0))))","v":""},{"$error":"#N/A"},{"$error":"#N/A"},150,"","",{"$f":"IF(AF43=\"\",\"\",IF(AF43<=Approach!$O$4/2,3,IF(AND(Uppsafnað!$N$7<Approach!$O$4,Uppsafnað!$N$7>=Approach!$O$4/2),2,IF(AND(AF43>Approach!$O$4,Uppsafnað!AF43<Approach!$O$4*1.5),1,0))))","v":""},{"$error":"#N/A"},{"$error":"#N/A"},150,"","",{"$f":"IF(AL43=\"\",\"\",IF(AL43<=Approach!$O$4/2,3,IF(AND(Uppsafnað!$N$7<Approach!$O$4,Uppsafnað!$N$7>=Approach!$O$4/2),2,IF(AND(AL43>Approach!$O$4,Uppsafnað!AL43<Approach!$O$4*1.5),1,0))))","v":""},{"$error":"#N/A"},{"$error":"#N/A"},150,"","",{"$f":"IF(AR43=\"\",\"\",IF(AR43<=Approach!$O$4/2,3,IF(AND(Uppsafnað!$N$7<Approach!$O$4,Uppsafnað!$N$7>=Approach!$O$4/2),2,IF(AND(AR43>Approach!$O$4,Uppsafnað!AR43<Approach!$O$4*1.5),1,0))))","v":""},{"$error":"#N/A"},{"$error":"#N/A"},{"$error":"#N/A"},{"$error":"#N/A"},{"$error":"#N/A"},0,{"$error":"#N/A"},{"$error":"#N/A"},{"$error":"#N/A"},{"$error":"#N/A"},{"$error":"#N/A"},{"$error":"#N/A"},{"$error":"#N/A"},{"$error":"#N/A"},{"$error":"#N/A"},{"$error":"#N/A"},{"$error":"#N/A"},{"$error":"#N/A"},38,{"$error":"#N/A"},{"$error":"#N/A"},{"$error":"#N/A"},{"$error":"#N/A"},{"$error":"#N/A"},0,{"$error":"#N/A"},{"$error":"#N/A"},{"$error":"#N/A"},{"$error":"#N/A"},{"$error":"#N/A"},{"$error":"#N/A"},{"$error":"#N/A"},{"$error":"#N/A"},{"$error":"#N/A"},{"$error":"#N/A"},{"$error":"#N/A"},{"$error":"#N/A"},0,0,0]
[39975,null,null,null,null,null,null,2,3,{"$error":"#N/A"},{"$error":"#N/A"},150,"","",{"$f":"IF(N44=\"\",\"\",IF(N44<=Approach!$O$4/2,3,IF(AND(Uppsafnað!N44<Approach!$O$4,Uppsafnað!N44>=Approach!$O$4/2),2,IF(AND(N44>Approach!$O$4,Uppsafnað!N44<Approach!$O$4*1.5),1,0))))","v":""},0,0,150,0,0,{"$f":"IF(T44=\"\",\"\",IF(T44<=Approach!$O$4/2,3,IF(AND(Uppsafnað!$N$7<Approach!$O$4,Uppsafnað!$N$7>=Approach!$O$4/2),2,IF(AND(T44>Approach!$O$4,Uppsafnað!T44<Approach!$O$4*1.5),1,0))))","v":3},{"$error":"#N/A"},{"$error":"#N/A"},150,"","",{"$f":"IF(Z44=\"\",\"\",IF(Z44<=Approach!$O$4/2,3,IF(AND(Uppsafnað!$N$7<Approach!$O$4,Uppsafnað!$N$7>=Approach!$O$4/2),2,IF(AND(Z44>Approach!$O$4,Uppsafnað!Z44<Approach!$O$4*1.5),1,0))))","v":""},{"$error":"#N/A"},{"$error":"#N/A"},150,"","",{"$f":"IF(AF44=\"\",\"\",IF(AF44<=Approach!$O$4/2,3,IF(AND(Uppsafnað!$N$7<Approach!$O$4,Uppsafnað!$N$7>=Approach!$O$4/2),2,IF(AND(AF44>Approach!$O$4,Uppsafnað!AF44<Approach!$O$4*1.5),1,0))))","v":""},{"$error":"#N/A"},{"$error":"#N/A"},150,"","",{"$f":"IF(AL44=\"\",\"\",IF(AL44<=Approach!$O$4/2,3,IF(AND(Uppsafnað!$N$7<Approach!$O$4,Uppsafnað!$N$7>=Approach!$O$4/2),2,IF(AND(AL44>Approach!$O$4,Uppsafnað!AL44<Approach!$O$4*1.5),1,0))))","v":""},{"$error":"#N/A"},{"$error":"#N/A"},150,"","",{"$f":"IF(AR44=\"\",\"\",IF(AR44<=Approach!$O$4/2,3,IF(AND(Uppsafnað!$N$7<Approach!$O$4,Uppsafnað!$N$7>=Approach!$O$4/2),2,IF(AND(AR44>Approach!$O$4,Uppsafnað!AR44<Approach!$O$4*1.5),1,0))))","v":""},{"$error":"#N/A"},{"$error":"#N/A"},{"$error":"#N/A"},{"$error":"#N/A"},{"$error":"#N/A"},0,{"$error":"#N/A"},{"$error":"#N/A"},{"$error":"#N/A"},{"$error":"#N/A"},{"$error":"#N/A"},{"$error":"#N/A"},{"$error":"#N/A"},{"$error":"#N/A"},{"$error":"#N/A"},{"$error":"#N/A"},{"$error":"#N/A"},{"$error":"#N/A"},39,{"$error":"#N/A"},{"$error":"#N/A"},{"$error":"#N/A"},{"$error":"#N/A"},{"$error":"#N/A"},0,{"$error":"#N/A"},{"$error":"#N/A"},{"$error":"#N/A"},{"$error":"#N/A"},{"$error":"#N/A"},{"$error":"#N/A"},{"$error":"#N/A"},{"$error":"#N/A"},{"$error":"#N/A"},{"$error":"#N/A"},{"$error":"#N/A"},{"$error":"#N/A"},0,0,0]
[39975,null,null,null,null,null,null,2,3,{"$error":"#N/A"},{"$error":"#N/A"},150,"","",{"$f":"IF(N45=\"\",\"\",IF(N45<=Approach!$O$4/2,3,IF(AND(Uppsafnað!N45<Approach!$O$4,Uppsafnað!N45>=Approach!$O$4/2),2,IF(AND(N45>Approach!$O$4,Uppsafnað!N45<Approach!$O$4*1.5),1,0))))","v":""},0,0,150,0,0,{"$f":"IF(T45=\"\",\"\",IF(T45<=Approach!$O$4/2,3,IF(AND(Uppsafnað!$N$7<Approach!$O$4,Uppsafnað!$N$7>=Approach!$O$4/2),2,IF(AND(T45>Approach!$O$4,Uppsafnað!T45<Approach!$O$4*1.5),1,0))))","v":3},{"$error":"#N/A"},{"$error":"#N/A"},150,"","",{"$f":"IF(Z45=\"\",\"\",IF(Z45<=Approach!$O$4/2,3,IF(AND(Uppsafnað!$N$7<Approach!$O$4,Uppsafnað!$N$7>=Approach!$O$4/2),2,IF(AND(Z45>Approach!$O$4,Uppsafnað!Z45<Approach!$O$4*1.5),1,0))))","v":""},{"$error":"#N/A"},{"$error":"#N/A"},150,"","",{"$f":"IF(AF45=\"\",\"\",IF(AF45<=Approach!$O$4/2,3,IF(AND(Uppsafnað!$N$7<Approach!$O$4,Uppsafnað!$N$7>=Approach!$O$4/2),2,IF(AND(AF45>Approach!$O$4,Uppsafnað!AF45<Approach!$O$4*1.5),1,0))))","v":""},{"$error":"#N/A"},{"$error":"#N/A"},150,"","",{"$f":"IF(AL45=\"\",\"\",IF(AL45<=Approach!$O$4/2,3,IF(AND(Uppsafnað!$N$7<Approach!$O$4,Uppsafnað!$N$7>=Approach!$O$4/2),2,IF(AND(AL45>Approach!$O$4,Uppsafnað!AL45<Approach!$O$4*1.5),1,0))))","v":""},{"$error":"#N/A"},{"$error":"#N/A"},150,"","",{"$f":"IF(AR45=\"\",\"\",IF(AR45<=Approach!$O$4/2,3,IF(AND(Uppsafnað!$N$7<Approach!$O$4,Uppsafnað!$N$7>=Approach!$O$4/2),2,IF(AND(AR45>Approach!$O$4,Uppsafnað!AR45<Approach!$O$4*1.5),1,0))))","v":""},{"$error":"#N/A"},{"$error":"#N/A"},{"$error":"#N/A"},{"$error":"#N/A"},{"$error":"#N/A"},0,{"$error":"#N/A"},{"$error":"#N/A"},{"$error":"#N/A"},{"$error":"#N/A"},{"$error":"#N/A"},{"$error":"#N/A"},{"$error":"#N/A"},{"$error":"#N/A"},{"$error":"#N/A"},{"$error":"#N/A"},{"$error":"#N/A"},{"$error":"#N/A"},40,{"$error":"#N/A"},{"$error":"#N/A"},{"$error":"#N/A"},{"$error":"#N/A"},{"$error":"#N/A"},0,{"$error":"#N/A"},{"$error":"#N/A"},{"$error":"#N/A"},{"$error":"#N/A"},{"$error":"#N/A"},{"$error":"#N/A"},{"$error":"#N/A"},{"$error":"#N/A"},{"$error":"#N/A"},{"$error":"#N/A"},{"$error":"#N/A"},{"$error":"#N/A"},0,0,0]
[39975,null,null,null,null,null,null,2,3,{"$error":"#N/A"},{"$error":"#N/A"},150,"","",{"$f":"IF(N46=\"\",\"\",IF(N46<=Approach!$O$4/2,3,IF(AND(Uppsafnað!N46<Approach!$O$4,Uppsafnað!N46>=Approach!$O$4/2),2,IF(AND(N46>Approach!$O$4,Uppsafnað!N46<Approach!$O$4*1.5),1,0))))","v":""},0,0,150,0,0,{"$f":"IF(T46=\"\",\"\",IF(T46<=Approach!$O$4/2,3,IF(AND(Uppsafnað!$N$7<Approach!$O$4,Uppsafnað!$N$7>=Approach!$O$4/2),2,IF(AND(T46>Approach!$O$4,Uppsafnað!T46<Approach!$O$4*1.5),1,0))))","v":3},{"$error":"#N/A"},{"$error":"#N/A"},150,"","",{"$f":"IF(Z46=\"\",\"\",IF(Z46<=Approach!$O$4/2,3,IF(AND(Uppsafnað!$N$7<Approach!$O$4,Uppsafnað!$N$7>=Approach!$O$4/2),2,IF(AND(Z46>Approach!$O$4,Uppsafnað!Z46<Approach!$O$4*1.5),1,0))))","v":""},{"$error":"#N/A"},{"$error":"#N/A"},150,"","",{"$f":"IF(AF46=\"\",\"\",IF(AF46<=Approach!$O$4/2,3,IF(AND(Uppsafnað!$N$7<Approach!$O$4,Uppsafnað!$N$7>=Approach!$O$4/2),2,IF(AND(AF46>Approach!$O$4,Uppsafnað!AF46<Approach!$O$4*1.5),1,0))))","v":""},{"$error":"#N/A"},{"$error":"#N/A"},150,"","",{"$f":"IF(AL46=\"\",\"\",IF(AL46<=Approach!$O$4/2,3,IF(AND(Uppsafnað!$N$7<Approach!$O$4,Uppsafnað!$N$7>=Approach!$O$4/2),2,IF(AND(AL46>Approach!$O$4,Uppsafnað!AL46<Approach!$O$4*1.5),1,0))))","v":""},{"$error":"#N/A"},{"$error":"#N/A"},150,"","",{"$f":"IF(AR46=\"\",\"\",IF(AR46<=Approach!$O$4/2,3,IF(AND(Uppsafnað!$N$7<Approach!$O$4,Uppsafnað!$N$7>=Approach!$O$4/2),2,IF(AND(AR46>Approach!$O$4,Uppsafnað!AR46<Approach!$O$4*1.5),1,0))))","v":""},{"$error":"#N/A"},{"$error":"#N/A"},{"$error":"#N/A"},{"$error":"#N/A"},{"$error":"#N/A"},0,{"$error":"#N/A"},{"$error":"#N/A"},{"$error":"#N/A"},{"$error":"#N/A"},{"$error":"#N/A"},{"$error":"#N/A"},{"$error":"#N/A"},{"$error":"#N/A"},{"$error":"#N/A"},{"$error":"#N/A"},{"$error":"#N/A"},{"$error":"#N/A"},41,{"$error":"#N/A"},{"$error":"#N/A"},{"$error":"#N/A"},{"$error":"#N/A"},{"$error":"#N/A"},0,{"$error":"#N/A"},{"$error":"#N/A"},{"$error":"#N/A"},{"$error":"#N/A"},{"$error":"#N/A"},{"$error":"#N/A"},{"$error":"#N/A"},{"$error":"#N/A"},{"$error":"#N/A"},{"$error":"#N/A"},{"$error":"#N/A"},{"$error":"#N/A"},0,0,0]
[39975,null,null,null,null,null,null,2,3,{"$error":"#N/A"},{"$error":"#N/A"},150,"","",{"$f":"IF(N47=\"\",\"\",IF(N47<=Approach!$O$4/2,3,IF(AND(Uppsafnað!N47<Approach!$O$4,Uppsafnað!N47>=Approach!$O$4/2),2,IF(AND(N47>Approach!$O$4,Uppsafnað!N47<Approach!$O$4*1.5),1,0))))","v":""},0,0,150,0,0,{"$f":"IF(T47=\"\",\"\",IF(T47<=Approach!$O$4/2,3,IF(AND(Uppsafnað!$N$7<Approach!$O$4,Uppsafnað!$N$7>=Approach!$O$4/2),2,IF(AND(T47>Approach!$O$4,Uppsafnað!T47<Approach!$O$4*1.5),1,0))))","v":3},{"$error":"#N/A"},{"$error":"#N/A"},150,"","",{"$f":"IF(Z47=\"\",\"\",IF(Z47<=Approach!$O$4/2,3,IF(AND(Uppsafnað!$N$7<Approach!$O$4,Uppsafnað!$N$7>=Approach!$O$4/2),2,IF(AND(Z47>Approach!$O$4,Uppsafnað!Z47<Approach!$O$4*1.5),1,0))))","v":""},{"$error":"#N/A"},{"$error":"#N/A"},150,"","",{"$f":"IF(AF47=\"\",\"\",IF(AF47<=Approach!$O$4/2,3,IF(AND(Uppsafnað!$N$7<Approach!$O$4,Uppsafnað!$N$7>=Approach!$O$4/2),2,IF(AND(AF47>Approach!$O$4,Uppsafnað!AF47<Approach!$O$4*1.5),1,0))))","v":""},{"$error":"#N/A"},{"$error":"#N/A"},150,"","",{"$f":"IF(AL47=\"\",\"\",IF(AL47<=Approach!$O$4/2,3,IF(AND(Uppsafnað!$N$7<Approach!$O$4,Uppsafnað!$N$7>=Approach!$O$4/2),2,IF(AND(AL47>Approach!$O$4,Uppsafnað!AL47<Approach!$O$4*1.5),1,0))))","v":""},{"$error":"#N/A"},{"$error":"#N/A"},150,"","",{"$f":"IF(AR47=\"\",\"\",IF(AR47<=Approach!$O$4/2,3,IF(AND(Uppsafnað!$N$7<Approach!$O$4,Uppsafnað!$N$7>=Approach!$O$4/2),2,IF(AND(AR47>Approach!$O$4,Uppsafnað!AR47<Approach!$O$4*1.5),1,0))))","v":""},{"$error":"#N/A"},{"$error":"#N/A"},{"$error":"#N/A"},{"$error":"#N/A"},{"$error":"#N/A"},0,{"$error":"#N/A"},{"$error":"#N/A"},{"$error":"#N/A"},{"$error":"#N/A"},{"$error":"#N/A"},{"$error":"#N/A"},{"$error":"#N/A"},{"$error":"#N/A"},{"$error":"#N/A"},{"$error":"#N/A"},{"$error":"#N/A"},{"$error":"#N/A"},42,{"$error":"#N/A"},{"$error":"#N/A"},{"$error":"#N/A"},{"$error":"#N/A"},{"$error":"#N/A"},0,{"$error":"#N/A"},{"$error":"#N/A"},{"$error":"#N/A"},{"$error":"#N/A"},{"$error":"#N/A"},{"$error":"#N/A"},{"$error":"#N/A"},{"$error":"#N/A"},{"$error":"#N/A"},{"$error":"#N/A"},{"$error":"#N/A"},{"$error":"#N/A"},0,0,0]
[39975,null,null,null,null,null,null,2,3,{"$error":"#N/A"},{"$error":"#N/A"},150,"","",{"$f":"IF(N48=\"\",\"\",IF(N48<=Approach!$O$4/2,3,IF(AND(Uppsafnað!N48<Approach!$O$4,Uppsafnað!N48>=Approach!$O$4/2),2,IF(AND(N48>Approach!$O$4,Uppsafnað!N48<Approach!$O$4*1.5),1,0))))","v":""},0,0,150,0,0,{"$f":"IF(T48=\"\",\"\",IF(T48<=Approach!$O$4/2,3,IF(AND(Uppsafnað!$N$7<Approach!$O$4,Uppsafnað!$N$7>=Approach!$O$4/2),2,IF(AND(T48>Approach!$O$4,Uppsafnað!T48<Approach!$O$4*1.5),1,0))))","v":3},{"$error":"#N/A"},{"$error":"#N/A"},150,"","",{"$f":"IF(Z48=\"\",\"\",IF(Z48<=Approach!$O$4/2,3,IF(AND(Uppsafnað!$N$7<Approach!$O$4,Uppsafnað!$N$7>=Approach!$O$4/2),2,IF(AND(Z48>Approach!$O$4,Uppsafnað!Z48<Approach!$O$4*1.5),1,0))))","v":""},{"$error":"#N/A"},{"$error":"#N/A"},150,"","",{"$f":"IF(AF48=\"\",\"\",IF(AF48<=Approach!$O$4/2,3,IF(AND(Uppsafnað!$N$7<Approach!$O$4,Uppsafnað!$N$7>=Approach!$O$4/2),2,IF(AND(AF48>Approach!$O$4,Uppsafnað!AF48<Approach!$O$4*1.5),1,0))))","v":""},{"$error":"#N/A"},{"$error":"#N/A"},150,"","",{"$f":"IF(AL48=\"\",\"\",IF(AL48<=Approach!$O$4/2,3,IF(AND(Uppsafnað!$N$7<Approach!$O$4,Uppsafnað!$N$7>=Approach!$O$4/2),2,IF(AND(AL48>Approach!$O$4,Uppsafnað!AL48<Approach!$O$4*1.5),1,0))))","v":""},{"$error":"#N/A"},{"$error":"#N/A"},150,"","",{"$f":"IF(AR48=\"\",\"\",IF(AR48<=Approach!$O$4/2,3,IF(AND(Uppsafnað!$N$7<Approach!$O$4,Uppsafnað!$N$7>=Approach!$O$4/2),2,IF(AND(AR48>Approach!$O$4,Uppsafnað!AR48<Approach!$O$4*1.5),1,0))))","v":""},{"$error":"#N/A"},{"$error":"#N/A"},{"$error":"#N/A"},{"$error":"#N/A"},{"$error":"#N/A"},0,{"$error":"#N/A"},{"$error":"#N/A"},{"$error":"#N/A"},{"$error":"#N/A"},{"$error":"#N/A"},{"$error":"#N/A"},{"$error":"#N/A"},{"$error":"#N/A"},{"$error":"#N/A"},{"$error":"#N/A"},{"$error":"#N/A"},{"$error":"#N/A"},43,{"$error":"#N/A"},{"$error":"#N/A"},{"$error":"#N/A"},{"$error":"#N/A"},{"$error":"#N/A"},0,{"$error":"#N/A"},{"$error":"#N/A"},{"$error":"#N/A"},{"$error":"#N/A"},{"$error":"#N/A"},{"$error":"#N/A"},{"$error":"#N/A"},{"$error":"#N/A"},{"$error":"#N/A"},{"$error":"#N/A"},{"$error":"#N/A"},{"$error":"#N/A"},0,0,0]
[39975,null,null,null,null,null,null,2,3,{"$error":"#N/A"},{"$error":"#N/A"},150,"","",{"$f":"IF(N49=\"\",\"\",IF(N49<=Approach!$O$4/2,3,IF(AND(Uppsafnað!N49<Approach!$O$4,Uppsafnað!N49>=Approach!$O$4/2),2,IF(AND(N49>Approach!$O$4,Uppsafnað!N49<Approach!$O$4*1.5),1,0))))","v":""},0,0,150,0,0,{"$f":"IF(T49=\"\",\"\",IF(T49<=Approach!$O$4/2,3,IF(AND(Uppsafnað!$N$7<Approach!$O$4,Uppsafnað!$N$7>=Approach!$O$4/2),2,IF(AND(T49>Approach!$O$4,Uppsafnað!T49<Approach!$O$4*1.5),1,0))))","v":3},{"$error":"#N/A"},{"$error":"#N/A"},150,"","",{"$f":"IF(Z49=\"\",\"\",IF(Z49<=Approach!$O$4/2,3,IF(AND(Uppsafnað!$N$7<Approach!$O$4,Uppsafnað!$N$7>=Approach!$O$4/2),2,IF(AND(Z49>Approach!$O$4,Uppsafnað!Z49<Approach!$O$4*1.5),1,0))))","v":""},{"$error":"#N/A"},{"$error":"#N/A"},150,"","",{"$f":"IF(AF49=\"\",\"\",IF(AF49<=Approach!$O$4/2,3,IF(AND(Uppsafnað!$N$7<Approach!$O$4,Uppsafnað!$N$7>=Approach!$O$4/2),2,IF(AND(AF49>Approach!$O$4,Uppsafnað!AF49<Approach!$O$4*1.5),1,0))))","v":""},{"$error":"#N/A"},{"$error":"#N/A"},150,"","",{"$f":"IF(AL49=\"\",\"\",IF(AL49<=Approach!$O$4/2,3,IF(AND(Uppsafnað!$N$7<Approach!$O$4,Uppsafnað!$N$7>=Approach!$O$4/2),2,IF(AND(AL49>Approach!$O$4,Uppsafnað!AL49<Approach!$O$4*1.5),1,0))))","v":""},{"$error":"#N/A"},{"$error":"#N/A"},150,"","",{"$f":"IF(AR49=\"\",\"\",IF(AR49<=Approach!$O$4/2,3,IF(AND(Uppsafnað!$N$7<Approach!$O$4,Uppsafnað!$N$7>=Approach!$O$4/2),2,IF(AND(AR49>Approach!$O$4,Uppsafnað!AR49<Approach!$O$4*1.5),1,0))))","v":""},{"$error":"#N/A"},{"$error":"#N/A"},{"$error":"#N/A"},{"$error":"#N/A"},{"$error":"#N/A"},0,{"$error":"#N/A"},{"$error":"#N/A"},{"$error":"#N/A"},{"$error":"#N/A"},{"$error":"#N/A"},{"$error":"#N/A"},{"$error":"#N/A"},{"$error":"#N/A"},{"$error":"#N/A"},{"$error":"#N/A"},{"$error":"#N/A"},{"$error":"#N/A"},44,{"$error":"#N/A"},{"$error":"#N/A"},{"$error":"#N/A"},{"$error":"#N/A"},{"$error":"#N/A"},0,{"$error":"#N/A"},{"$error":"#N/A"},{"$error":"#N/A"},{"$error":"#N/A"},{"$error":"#N/A"},{"$error":"#N/A"},{"$error":"#N/A"},{"$error":"#N/A"},{"$error":"#N/A"},{"$error":"#N/A"},{"$error":"#N/A"},{"$error":"#N/A"},0,0,0]
[39975,null,null,null,null,null,null,2,3,{"$error":"#N/A"},{"$error":"#N/A"},150,"","",{"$f":"IF(N50=\"\",\"\",IF(N50<=Approach!$O$4/2,3,IF(AND(Uppsafnað!N50<Approach!$O$4,Uppsafnað!N50>=Approach!$O$4/2),2,IF(AND(N50>Approach!$O$4,Uppsafnað!N50<Approach!$O$4*1.5),1,0))))","v":""},0,0,150,0,0,{"$f":"IF(T50=\"\",\"\",IF(T50<=Approach!$O$4/2,3,IF(AND(Uppsafnað!$N$7<Approach!$O$4,Uppsafnað!$N$7>=Approach!$O$4/2),2,IF(AND(T50>Approach!$O$4,Uppsafnað!T50<Approach!$O$4*1.5),1,0))))","v":3},{"$error":"#N/A"},{"$error":"#N/A"},150,"","",{"$f":"IF(Z50=\"\",\"\",IF(Z50<=Approach!$O$4/2,3,IF(AND(Uppsafnað!$N$7<Approach!$O$4,Uppsafnað!$N$7>=Approach!$O$4/2),2,IF(AND(Z50>Approach!$O$4,Uppsafnað!Z50<Approach!$O$4*1.5),1,0))))","v":""},{"$error":"#N/A"},{"$error":"#N/A"},150,"","",{"$f":"IF(AF50=\"\",\"\",IF(AF50<=Approach!$O$4/2,3,IF(AND(Uppsafnað!$N$7<Approach!$O$4,Uppsafnað!$N$7>=Approach!$O$4/2),2,IF(AND(AF50>Approach!$O$4,Uppsafnað!AF50<Approach!$O$4*1.5),1,0))))","v":""},{"$error":"#N/A"},{"$error":"#N/A"},150,"","",{"$f":"IF(AL50=\"\",\"\",IF(AL50<=Approach!$O$4/2,3,IF(AND(Uppsafnað!$N$7<Approach!$O$4,Uppsafnað!$N$7>=Approach!$O$4/2),2,IF(AND(AL50>Approach!$O$4,Uppsafnað!AL50<Approach!$O$4*1.5),1,0))))","v":""},{"$error":"#N/A"},{"$error":"#N/A"},150,"","",{"$f":"IF(AR50=\"\",\"\",IF(AR50<=Approach!$O$4/2,3,IF(AND(Uppsafnað!$N$7<Approach!$O$4,Uppsafnað!$N$7>=Approach!$O$4/2),2,IF(AND(AR50>Approach!$O$4,Uppsafnað!AR50<Approach!$O$4*1.5),1,0))))","v":""},{"$error":"#N/A"},{"$error":"#N/A"},{"$error":"#N/A"},{"$error":"#N/A"},{"$error":"#N/A"},0,{"$error":"#N/A"},{"$error":"#N/A"},{"$error":"#N/A"},{"$error":"#N/A"},{"$error":"#N/A"},{"$error":"#N/A"},{"$error":"#N/A"},{"$error":"#N/A"},{"$error":"#N/A"},{"$error":"#N/A"},{"$error":"#N/A"},{"$error":"#N/A"},45,{"$error":"#N/A"},{"$error":"#N/A"},{"$error":"#N/A"},{"$error":"#N/A"},{"$error":"#N/A"},0,{"$error":"#N/A"},{"$error":"#N/A"},{"$error":"#N/A"},{"$error":"#N/A"},{"$error":"#N/A"},{"$error":"#N/A"},{"$error":"#N/A"},{"$error":"#N/A"},{"$error":"#N/A"},{"$error":"#N/A"},{"$error":"#N/A"},{"$error":"#N/A"},0,0,0]
[39975,null,null,null,null,null,null,2,3,{"$error":"#N/A"},{"$error":"#N/A"},150,"","",{"$f":"IF(N51=\"\",\"\",IF(N51<=Approach!$O$4/2,3,IF(AND(Uppsafnað!N51<Approach!$O$4,Uppsafnað!N51>=Approach!$O$4/2),2,IF(AND(N51>Approach!$O$4,Uppsafnað!N51<Approach!$O$4*1.5),1,0))))","v":""},0,0,150,0,0,{"$f":"IF(T51=\"\",\"\",IF(T51<=Approach!$O$4/2,3,IF(AND(Uppsafnað!$N$7<Approach!$O$4,Uppsafnað!$N$7>=Approach!$O$4/2),2,IF(AND(T51>Approach!$O$4,Uppsafnað!T51<Approach!$O$4*1.5),1,0))))","v":3},{"$error":"#N/A"},{"$error":"#N/A"},150,"","",{"$f":"IF(Z51=\"\",\"\",IF(Z51<=Approach!$O$4/2,3,IF(AND(Uppsafnað!$N$7<Approach!$O$4,Uppsafnað!$N$7>=Approach!$O$4/2),2,IF(AND(Z51>Approach!$O$4,Uppsafnað!Z51<Approach!$O$4*1.5),1,0))))","v":""},{"$error":"#N/A"},{"$error":"#N/A"},150,"","",{"$f":"IF(AF51=\"\",\"\",IF(AF51<=Approach!$O$4/2,3,IF(AND(Uppsafnað!$N$7<Approach!$O$4,Uppsafnað!$N$7>=Approach!$O$4/2),2,IF(AND(AF51>Approach!$O$4,Uppsafnað!AF51<Approach!$O$4*1.5),1,0))))","v":""},{"$error":"#N/A"},{"$error":"#N/A"},150,"","",{"$f":"IF(AL51=\"\",\"\",IF(AL51<=Approach!$O$4/2,3,IF(AND(Uppsafnað!$N$7<Approach!$O$4,Uppsafnað!$N$7>=Approach!$O$4/2),2,IF(AND(AL51>Approach!$O$4,Uppsafnað!AL51<Approach!$O$4*1.5),1,0))))","v":""},{"$error":"#N/A"},{"$error":"#N/A"},150,"","",{"$f":"IF(AR51=\"\",\"\",IF(AR51<=Approach!$O$4/2,3,IF(AND(Uppsafnað!$N$7<Approach!$O$4,Uppsafnað!$N$7>=Approach!$O$4/2),2,IF(AND(AR51>Approach!$O$4,Uppsafnað!AR51<Approach!$O$4*1.5),1,0))))","v":""},{"$error":"#N/A"},{"$error":"#N/A"},{"$error":"#N/A"},{"$error":"#N/A"},{"$error":"#N/A"},0,{"$error":"#N/A"},{"$error":"#N/A"},{"$error":"#N/A"},{"$error":"#N/A"},{"$error":"#N/A"},{"$error":"#N/A"},{"$error":"#N/A"},{"$error":"#N/A"},{"$error":"#N/A"},{"$error":"#N/A"},{"$error":"#N/A"},{"$error":"#N/A"},46,{"$error":"#N/A"},{"$error":"#N/A"},{"$error":"#N/A"},{"$error":"#N/A"},{"$error":"#N/A"},0,{"$error":"#N/A"},{"$error":"#N/A"},{"$error":"#N/A"},{"$error":"#N/A"},{"$error":"#N/A"},{"$error":"#N/A"},{"$error":"#N/A"},{"$error":"#N/A"},{"$error":"#N/A"},{"$error":"#N/A"},{"$error":"#N/A"},{"$error":"#N/A"},0,0,0]
[39975,null,null,null,null,null,null,2,3,{"$error":"#N/A"},{"$error":"#N/A"},150,"","",{"$f":"IF(N52=\"\",\"\",IF(N52<=Approach!$O$4/2,3,IF(AND(Uppsafnað!N52<Approach!$O$4,Uppsafnað!N52>=Approach!$O$4/2),2,IF(AND(N52>Approach!$O$4,Uppsafnað!N52<Approach!$O$4*1.5),1,0))))","v":""},0,0,150,0,0,{"$f":"IF(T52=\"\",\"\",IF(T52<=Approach!$O$4/2,3,IF(AND(Uppsafnað!$N$7<Approach!$O$4,Uppsafnað!$N$7>=Approach!$O$4/2),2,IF(AND(T52>Approach!$O$4,Uppsafnað!T52<Approach!$O$4*1.5),1,0))))","v":3},{"$error":"#N/A"},{"$error":"#N/A"},150,"","",{"$f":"IF(Z52=\"\",\"\",IF(Z52<=Approach!$O$4/2,3,IF(AND(Uppsafnað!$N$7<Approach!$O$4,Uppsafnað!$N$7>=Approach!$O$4/2),2,IF(AND(Z52>Approach!$O$4,Uppsafnað!Z52<Approach!$O$4*1.5),1,0))))","v":""},{"$error":"#N/A"},{"$error":"#N/A"},150,"","",{"$f":"IF(AF52=\"\",\"\",IF(AF52<=Approach!$O$4/2,3,IF(AND(Uppsafnað!$N$7<Approach!$O$4,Uppsafnað!$N$7>=Approach!$O$4/2),2,IF(AND(AF52>Approach!$O$4,Uppsafnað!AF52<Approach!$O$4*1.5),1,0))))","v":""},{"$error":"#N/A"},{"$error":"#N/A"},150,"","",{"$f":"IF(AL52=\"\",\"\",IF(AL52<=Approach!$O$4/2,3,IF(AND(Uppsafnað!$N$7<Approach!$O$4,Uppsafnað!$N$7>=Approach!$O$4/2),2,IF(AND(AL52>Approach!$O$4,Uppsafnað!AL52<Approach!$O$4*1.5),1,0))))","v":""},{"$error":"#N/A"},{"$error":"#N/A"},150,"","",{"$f":"IF(AR52=\"\",\"\",IF(AR52<=Approach!$O$4/2,3,IF(AND(Uppsafnað!$N$7<Approach!$O$4,Uppsafnað!$N$7>=Approach!$O$4/2),2,IF(AND(AR52>Approach!$O$4,Uppsafnað!AR52<Approach!$O$4*1.5),1,0))))","v":""},{"$error":"#N/A"},{"$error":"#N/A"},{"$error":"#N/A"},{"$error":"#N/A"},{"$error":"#N/A"},0,{"$error":"#N/A"},{"$error":"#N/A"},{"$error":"#N/A"},{"$error":"#N/A"},{"$error":"#N/A"},{"$error":"#N/A"},{"$error":"#N/A"},{"$error":"#N/A"},{"$error":"#N/A"},{"$error":"#N/A"},{"$error":"#N/A"},{"$error":"#N/A"},47,{"$error":"#N/A"},{"$error":"#N/A"},{"$error":"#N/A"},{"$error":"#N/A"},{"$error":"#N/A"},0,{"$error":"#N/A"},{"$error":"#N/A"},{"$error":"#N/A"},{"$error":"#N/A"},{"$error":"#N/A"},{"$error":"#N/A"},{"$error":"#N/A"},{"$error":"#N/A"},{"$error":"#N/A"},{"$error":"#N/A"},{"$error":"#N/A"},{"$error":"#N/A"},0,0,0]
[39975,null,null,null,null,null,null,2,3,{"$error":"#N/A"},{"$error":"#N/A"},150,"","",{"$f":"IF(N53=\"\",\"\",IF(N53<=Approach!$O$4/2,3,IF(AND(Uppsafnað!N53<Approach!$O$4,Uppsafnað!N53>=Approach!$O$4/2),2,IF(AND(N53>Approach!$O$4,Uppsafnað!N53<Approach!$O$4*1.5),1,0))))","v":""},0,0,150,0,0,{"$f":"IF(T53=\"\",\"\",IF(T53<=Approach!$O$4/2,3,IF(AND(Uppsafnað!$N$7<Approach!$O$4,Uppsafnað!$N$7>=Approach!$O$4/2),2,IF(AND(T53>Approach!$O$4,Uppsafnað!T53<Approach!$O$4*1.5),1,0))))","v":3},{"$error":"#N/A"},{"$error":"#N/A"},150,"","",{"$f":"IF(Z53=\"\",\"\",IF(Z53<=Approach!$O$4/2,3,IF(AND(Uppsafnað!$N$7<Approach!$O$4,Uppsafnað!$N$7>=Approach!$O$4/2),2,IF(AND(Z53>Approach!$O$4,Uppsafnað!Z53<Approach!$O$4*1.5),1,0))))","v":""},{"$error":"#N/A"},{"$error":"#N/A"},150,"","",{"$f":"IF(AF53=\"\",\"\",IF(AF53<=Approach!$O$4/2,3,IF(AND(Uppsafnað!$N$7<Approach!$O$4,Uppsafnað!$N$7>=Approach!$O$4/2),2,IF(AND(AF53>Approach!$O$4,Uppsafnað!AF53<Approach!$O$4*1.5),1,0))))","v":""},{"$error":"#N/A"},{"$error":"#N/A"},150,"","",{"$f":"IF(AL53=\"\",\"\",IF(AL53<=Approach!$O$4/2,3,IF(AND(Uppsafnað!$N$7<Approach!$O$4,Uppsafnað!$N$7>=Approach!$O$4/2),2,IF(AND(AL53>Approach!$O$4,Uppsafnað!AL53<Approach!$O$4*1.5),1,0))))","v":""},{"$error":"#N/A"},{"$error":"#N/A"},150,"","",{"$f":"IF(AR53=\"\",\"\",IF(AR53<=Approach!$O$4/2,3,IF(AND(Uppsafnað!$N$7<Approach!$O$4,Uppsafnað!$N$7>=Approach!$O$4/2),2,IF(AND(AR53>Approach!$O$4,Uppsafnað!AR53<Approach!$O$4*1.5),1,0))))","v":""},{"$error":"#N/A"},{"$error":"#N/A"},{"$error":"#N/A"},{"$error":"#N/A"},{"$error":"#N/A"},0,{"$error":"#N/A"},{"$error":"#N/A"},{"$error":"#N/A"},{"$error":"#N/A"},{"$error":"#N/A"},{"$error":"#N/A"},{"$error":"#N/A"},{"$error":"#N/A"},{"$error":"#N/A"},{"$error":"#N/A"},{"$error":"#N/A"},{"$error":"#N/A"},48,{"$error":"#N/A"},{"$error":"#N/A"},{"$error":"#N/A"},{"$error":"#N/A"},{"$error":"#N/A"},0,{"$error":"#N/A"},{"$error":"#N/A"},{"$error":"#N/A"},{"$error":"#N/A"},{"$error":"#N/A"},{"$error":"#N/A"},{"$error":"#N/A"},{"$error":"#N/A"},{"$error":"#N/A"},{"$error":"#N/A"},{"$error":"#N/A"},{"$error":"#N/A"},0,0,0]
[39975,null,null,null,null,null,null,2,3,{"$error":"#N/A"},{"$error":"#N/A"},150,"","",{"$f":"IF(N54=\"\",\"\",IF(N54<=Approach!$O$4/2,3,IF(AND(Uppsafnað!N54<Approach!$O$4,Uppsafnað!N54>=Approach!$O$4/2),2,IF(AND(N54>Approach!$O$4,Uppsafnað!N54<Approach!$O$4*1.5),1,0))))","v":""},0,0,150,0,0,{"$f":"IF(T54=\"\",\"\",IF(T54<=Approach!$O$4/2,3,IF(AND(Uppsafnað!$N$7<Approach!$O$4,Uppsafnað!$N$7>=Approach!$O$4/2),2,IF(AND(T54>Approach!$O$4,Uppsafnað!T54<Approach!$O$4*1.5),1,0))))","v":3},{"$error":"#N/A"},{"$error":"#N/A"},150,"","",{"$f":"IF(Z54=\"\",\"\",IF(Z54<=Approach!$O$4/2,3,IF(AND(Uppsafnað!$N$7<Approach!$O$4,Uppsafnað!$N$7>=Approach!$O$4/2),2,IF(AND(Z54>Approach!$O$4,Uppsafnað!Z54<Approach!$O$4*1.5),1,0))))","v":""},{"$error":"#N/A"},{"$error":"#N/A"},150,"","",{"$f":"IF(AF54=\"\",\"\",IF(AF54<=Approach!$O$4/2,3,IF(AND(Uppsafnað!$N$7<Approach!$O$4,Uppsafnað!$N$7>=Approach!$O$4/2),2,IF(AND(AF54>Approach!$O$4,Uppsafnað!AF54<Approach!$O$4*1.5),1,0))))","v":""},{"$error":"#N/A"},{"$error":"#N/A"},150,"","",{"$f":"IF(AL54=\"\",\"\",IF(AL54<=Approach!$O$4/2,3,IF(AND(Uppsafnað!$N$7<Approach!$O$4,Uppsafnað!$N$7>=Approach!$O$4/2),2,IF(AND(AL54>Approach!$O$4,Uppsafnað!AL54<Approach!$O$4*1.5),1,0))))","v":""},{"$error":"#N/A"},{"$error":"#N/A"},150,"","",{"$f":"IF(AR54=\"\",\"\",IF(AR54<=Approach!$O$4/2,3,IF(AND(Uppsafnað!$N$7<Approach!$O$4,Uppsafnað!$N$7>=Approach!$O$4/2),2,IF(AND(AR54>Approach!$O$4,Uppsafnað!AR54<Approach!$O$4*1.5),1,0))))","v":""},{"$error":"#N/A"},{"$error":"#N/A"},{"$error":"#N/A"},{"$error":"#N/A"},{"$error":"#N/A"},0,{"$error":"#N/A"},{"$error":"#N/A"},{"$error":"#N/A"},{"$error":"#N/A"},{"$error":"#N/A"},{"$error":"#N/A"},{"$error":"#N/A"},{"$error":"#N/A"},{"$error":"#N/A"},{"$error":"#N/A"},{"$error":"#N/A"},{"$error":"#N/A"},49,{"$error":"#N/A"},{"$error":"#N/A"},{"$error":"#N/A"},{"$error":"#N/A"},{"$error":"#N/A"},0,{"$error":"#N/A"},{"$error":"#N/A"},{"$error":"#N/A"},{"$error":"#N/A"},{"$error":"#N/A"},{"$error":"#N/A"},{"$error":"#N/A"},{"$error":"#N/A"},{"$error":"#N/A"},{"$error":"#N/A"},{"$error":"#N/A"},{"$error":"#N/A"},0,0,0]
[39975,null,null,null,null,null,null,2,3,{"$error":"#N/A"},{"$error":"#N/A"},150,"","",{"$f":"IF(N55=\"\",\"\",IF(N55<=Approach!$O$4/2,3,IF(AND(Uppsafnað!N55<Approach!$O$4,Uppsafnað!N55>=Approach!$O$4/2),2,IF(AND(N55>Approach!$O$4,Uppsafnað!N55<Approach!$O$4*1.5),1,0))))","v":""},0,0,150,0,0,{"$f":"IF(T55=\"\",\"\",IF(T55<=Approach!$O$4/2,3,IF(AND(Uppsafnað!$N$7<Approach!$O$4,Uppsafnað!$N$7>=Approach!$O$4/2),2,IF(AND(T55>Approach!$O$4,Uppsafnað!T55<Approach!$O$4*1.5),1,0))))","v":3},{"$error":"#N/A"},{"$error":"#N/A"},150,"","",{"$f":"IF(Z55=\"\",\"\",IF(Z55<=Approach!$O$4/2,3,IF(AND(Uppsafnað!$N$7<Approach!$O$4,Uppsafnað!$N$7>=Approach!$O$4/2),2,IF(AND(Z55>Approach!$O$4,Uppsafnað!Z55<Approach!$O$4*1.5),1,0))))","v":""},{"$error":"#N/A"},{"$error":"#N/A"},150,"","",{"$f":"IF(AF55=\"\",\"\",IF(AF55<=Approach!$O$4/2,3,IF(AND(Uppsafnað!$N$7<Approach!$O$4,Uppsafnað!$N$7>=Approach!$O$4/2),2,IF(AND(AF55>Approach!$O$4,Uppsafnað!AF55<Approach!$O$4*1.5),1,0))))","v":""},{"$error":"#N/A"},{"$error":"#N/A"},150,"","",{"$f":"IF(AL55=\"\",\"\",IF(AL55<=Approach!$O$4/2,3,IF(AND(Uppsafnað!$N$7<Approach!$O$4,Uppsafnað!$N$7>=Approach!$O$4/2),2,IF(AND(AL55>Approach!$O$4,Uppsafnað!AL55<Approach!$O$4*1.5),1,0))))","v":""},{"$error":"#N/A"},{"$error":"#N/A"},150,"","",{"$f":"IF(AR55=\"\",\"\",IF(AR55<=Approach!$O$4/2,3,IF(AND(Uppsafnað!$N$7<Approach!$O$4,Uppsafnað!$N$7>=Approach!$O$4/2),2,IF(AND(AR55>Approach!$O$4,Uppsafnað!AR55<Approach!$O$4*1.5),1,0))))","v":""},{"$error":"#N/A"},{"$error":"#N/A"},{"$error":"#N/A"},{"$error":"#N/A"},{"$error":"#N/A"},0,{"$error":"#N/A"},{"$error":"#N/A"},{"$error":"#N/A"},{"$error":"#N/A"},{"$error":"#N/A"},{"$error":"#N/A"},{"$error":"#N/A"},{"$error":"#N/A"},{"$error":"#N/A"},{"$error":"#N/A"},{"$error":"#N/A"},{"$error":"#N/A"},50,{"$error":"#N/A"},{"$error":"#N/A"},{"$error":"#N/A"},{"$error":"#N/A"},{"$error":"#N/A"},0,{"$error":"#N/A"},{"$error":"#N/A"},{"$error":"#N/A"},{"$error":"#N/A"},{"$error":"#N/A"},{"$error":"#N/A"},{"$error":"#N/A"},{"$error":"#N/A"},{"$error":"#N/A"},{"$error":"#N/A"},{"$error":"#N/A"},{"$error":"#N/A"},0,0,0]
[39975,null,null,null,null,0,0,2,3,{"$error":"#N/A"},{"$error":"#N/A"},150,"","",{"$f":"IF(N56=\"\",\"\",IF(N56<=Approach!$O$4/2,3,IF(AND(Uppsafnað!N56<Approach!$O$4,Uppsafnað!N56>=Approach!$O$4/2),2,IF(AND(N56>Approach!$O$4,Uppsafnað!N56<Approach!$O$4*1.5),1,0))))","v":""},0,0,150,0,0,{"$f":"IF(T56=\"\",\"\",IF(T56<=Approach!$O$4/2,3,IF(AND(Uppsafnað!$N$7<Approach!$O$4,Uppsafnað!$N$7>=Approach!$O$4/2),2,IF(AND(T56>Approach!$O$4,Uppsafnað!T56<Approach!$O$4*1.5),1,0))))","v":3},{"$error":"#N/A"},{"$error":"#N/A"},150,"","",{"$f":"IF(Z56=\"\",\"\",IF(Z56<=Approach!$O$4/2,3,IF(AND(Uppsafnað!$N$7<Approach!$O$4,Uppsafnað!$N$7>=Approach!$O$4/2),2,IF(AND(Z56>Approach!$O$4,Uppsafnað!Z56<Approach!$O$4*1.5),1,0))))","v":""},{"$error":"#N/A"},{"$error":"#N/A"},150,"","",{"$f":"IF(AF56=\"\",\"\",IF(AF56<=Approach!$O$4/2,3,IF(AND(Uppsafnað!$N$7<Approach!$O$4,Uppsafnað!$N$7>=Approach!$O$4/2),2,IF(AND(AF56>Approach!$O$4,Uppsafnað!AF56<Approach!$O$4*1.5),1,0))))","v":""},{"$error":"#N/A"},{"$error":"#N/A"},150,"","",{"$f":"IF(AL56=\"\",\"\",IF(AL56<=Approach!$O$4/2,3,IF(AND(Uppsafnað!$N$7<Approach!$O$4,Uppsafnað!$N$7>=Approach!$O$4/2),2,IF(AND(AL56>Approach!$O$4,Uppsafnað!AL56<Approach!$O$4*1.5),1,0))))","v":""},{"$error":"#N/A"},{"$error":"#N/A"},150,"","",{"$f":"IF(AR56=\"\",\"\",IF(AR56<=Approach!$O$4/2,3,IF(AND(Uppsafnað!$N$7<Approach!$O$4,Uppsafnað!$N$7>=Approach!$O$4/2),2,IF(AND(AR56>Approach!$O$4,Uppsafnað!AR56<Approach!$O$4*1.5),1,0))))","v":""},{"$error":"#N/A"},{"$error":"#N/A"},{"$error":"#N/A"},{"$error":"#N/A"},{"$error":"#N/A"},0,{"$error":"#N/A"},{"$error":"#N/A"},{"$error":"#N/A"},{"$error":"#N/A"},{"$error":"#N/A"},{"$error":"#N/A"},{"$error":"#N/A"},{"$error":"#N/A"},{"$error":"#N/A"},{"$error":"#N/A"},{"$error":"#N/A"},{"$error":"#N/A"},51,{"$error":"#N/A"},{"$error":"#N/A"},{"$error":"#N/A"},{"$error":"#N/A"},{"$error":"#N/A"},0,{"$error":"#N/A"},{"$error":"#N/A"},{"$error":"#N/A"},{"$error":"#N/A"},{"$error":"#N/A"},{"$error":"#N/A"},{"$error":"#N/A"},{"$error":"#N/A"},{"$error":"#N/A"},{"$error":"#N/A"},{"$error":"#N/A"},{"$error":"#N/A"},0,0,0]